PDS_VERSION_ID = PDS3
/* FILE DATA ELEMENTS */
RECORD_TYPE = UNDEFINED
/* POINTERS TO DATA OBJECTS */
^IMAGE = ("HA478_0000_S24.TIF")
/* IDENTIFICATION DATA ELEMENTS */
DATA_SET_ID = "MEX-M-HRSC-4-REFDR-MAPPROJECT-EXT3-V4.0"
DATA_SET_NAME = "MARS EXPRESS HRSC MAP PROJECTED REFDR EXTENSION3 V4.0"
DETECTOR_ID = MEX_HRSC_S2
EVENT_TYPE = "MARS-REGIONAL-MAPPING-Im-Fl"
INSTRUMENT_HOST_ID = MEX
INSTRUMENT_HOST_NAME = "MARS EXPRESS"
INSTRUMENT_ID = HRSC
INSTRUMENT_NAME = "HIGH RESOLUTION STEREO CAMERA"
MISSION_NAME = "MARS EXPRESS"
MISSION_PHASE_NAME = ME_Phase_25
PROCESSING_LEVEL_ID = 4
PRODUCT_CREATION_TIME = 2023-02-04T22:47:41.000Z
PRODUCT_ID = "HA478_0000_S24.TIF"
RELEASE_ID = 0008
REVISION_ID = 0000
/* QUALITY DATA ELEMENTS */
DATA_QUALITY_ID = 1
DATA_QUALITY_DESC = "Data calculated based on original SPICE kernels"
/* TIME DATA ELEMENTS */
SPACECRAFT_CLOCK_START_COUNT = "1/0280529150.09038"
SPACECRAFT_CLOCK_STOP_COUNT = "1/0280529364.54861"
START_TIME = 2012-03-22T20:45:53.754Z
STOP_TIME = 2012-03-22T20:47:55.468Z
/* ORBITAL DATA ELEMENTS */
ASCENDING_NODE_LONGITUDE = 17.29
MAXIMUM_RESOLUTION = 0.0323
FOOTPRINT_POINT_LATITUDE = (-12.8879,-12.886,-12.8837,-12.8809, -12.8776,-12.8738,-12.8678,-12.8675, -12.878,-12.646,-12.4119,-12.2557, -12.0991,-11.9426,-11.7864,-11.6299, -11.3956,-11.1605,-11.0045,-10.8477, -10.6908,-10.5345,-10.2226,-10.0662, -9.83201,-9.5198,-9.20812,-8.74069, -8.50306,-8.34347,-8.18397,-7.94406, -7.7838,-7.62505,-7.46625,-7.30398, -7.14176,-6.97746,-6.73221,-6.56928, -6.40596,-6.24319,-5.99133,-5.82346, -5.65594,-5.48928,-5.32159,-5.15424, -4.98329,-4.89779,-4.88067,-4.88436, -4.88765,-4.88949,-4.89269,-4.89123, -4.89123,-4.89123,-4.8918,-5.14777, -5.40198,-5.65276,-5.81999,-5.98754, -6.23868,-6.40219,-6.56607,-6.81153, -6.97577,-7.1383,-7.30231,-7.46465, -7.62411,-7.86355,-8.02344,-8.26305, -8.50315,-8.74162,-8.8977,-9.13121, -9.36513,-9.59922,-9.91148,-10.1461, -10.3026,-10.6147,-10.7719,-10.9282, -11.0848,-11.2414,-11.4756,-11.7112, -11.8682,-12.0251,-12.1823,-12.4947, -12.6514,-12.8078,-12.886,-12.8879)
FOOTPRINT_POINT_LONGITUDE = (49.9596,49.7484,49.5365,49.3239, 49.1106,48.8966,48.6004,48.5869,48.5875 ,48.5854,48.5821,48.5799,48.5774,48.575 ,48.5725,48.57,48.5662,48.562,48.5594, 48.5564,48.5533,48.5505,48.5449,48.5418 ,48.5373,48.5311,48.5249,48.5152, 48.5103,48.507,48.5036,48.4982,48.4944, 48.4912,48.4879,48.4841,48.4809,48.4767 ,48.4709,48.4672,48.4632,48.4595, 48.4529,48.4484,48.444,48.44,48.4354, 48.4309,48.4262,48.424,48.4235,48.7433, 49.0466,49.258,49.5143,49.7096,49.9644, 49.9794,49.9847,49.9839,49.9824,49.9814 ,49.9808,49.9802,49.9793,49.9788, 49.9781,49.9772,49.9765,49.9762,49.9756 ,49.975,49.9745,49.9737,49.9732,49.9724 ,49.9716,49.9708,49.9702,49.9695, 49.9688,49.968,49.967,49.9662,49.9656, 49.9647,49.9641,49.9636,49.9631,49.9626 ,49.9619,49.9611,49.9605,49.96,49.9594, 49.9586,49.9581,49.9577,49.9575, 49.9596)
ORBIT_NUMBER = 10478
ORBITAL_ECCENTRICITY = 0.578
ORBITAL_INCLINATION = 86.88
ORBITAL_SEMIMAJOR_AXIS = 8836.53
PERIAPSIS_ALTITUDE = 334.45
PERIAPSIS_ARGUMENT_ANGLE = 329.29
PERIAPSIS_TIME = 2012-03-22T20:41:54.000Z
SPACECRAFT_ORIENTATION = (0.0,1.0,0.0)
^MEX_ORIENTATION_DESC = "MEX_ORIENTATION_DESC.TXT"
SPACECRAFT_POINTING_MODE = ACROSSTRACK
^MEX_POINTING_DESC = "MEX_POINTING_DESC.TXT"
RIGHT_ASCENSION = -1e+32
DECLINATION = -1e+32
OFFSET_ANGLE = 0.3
SPACECRAFT_SOLAR_DISTANCE = 2.48267e+08
TARGET_NAME = MARS
/* CAMERA DATA ELEMENTS */
DETECTOR_TEMPERATURE = 19.39
FOCAL_PLANE_TEMPERATURE = 8.7872
INST_CMPRS_NAME = "DISCRETE COSINE TRANSFORMATION (DCT)"
INST_CMPRS_RATIO = 10.1642
INST_CMPRS_QUALITY = 0
INST_CMPRS_QUANTZ_TBL_ID = 0
INSTRUMENT_TEMPERATURE = 12.0496
LENS_TEMPERATURE = 9.3989
MACROPIXEL_SIZE = 2
MISSING_FRAMES = 0
PIXEL_SUBSAMPLING_FLAG = N
SIGNAL_CHAIN_ID = 1
/* RADIOMETRIC DATA ELEMENTS */
BANDWIDTH = 178.0
CENTER_FILTER_WAVELENGTH = 679.0
RADIANCE_OFFSET = 0.917822
RADIANCE_SCALING_FACTOR = 0.0141093
REFLECTANCE_SCALING_FACTOR = 0.000460546
MEX:REFLECTANCE_OFFSET = 0.029959
/* IMAGE OBJECT DEFINITIONS */
OBJECT = IMAGE
  INTERCHANGE_FORMAT = BINARY
  LINES = 19015
  LINE_SAMPLES = 3882
  SAMPLE_TYPE = UNSIGNED_INTEGER
  SAMPLE_BITS = 8
  BANDS = 1
  BAND_STORAGE_TYPE = BAND_SEQUENTIAL
  MAXIMUM = 255
  MEAN = 117.009
  MINIMUM = 1
  STANDARD_DEVIATION = 27.8883
END_OBJECT = IMAGE
/* MAP OBJECT DEFINITIONS */
OBJECT = IMAGE_MAP_PROJECTION
  ^DATA_SET_MAP_PROJECTION_CATALOG= "DSMAP.CAT"
  A_AXIS_RADIUS = 3396.0
  B_AXIS_RADIUS = 3396.0
  C_AXIS_RADIUS = 3396.0
  CENTER_LATITUDE = 0.0
  CENTER_LONGITUDE = 49.0
  COORDINATE_SYSTEM_NAME = PLANETOGRAPHIC
  COORDINATE_SYSTEM_TYPE = "BODY-FIXED ROTATING"
  EASTERNMOST_LONGITUDE = 49.9847
  FIRST_STANDARD_PARALLEL = "N/A"
  LINE_FIRST_PIXEL = 1
  LINE_LAST_PIXEL = 19015
  LINE_PROJECTION_OFFSET = -11522.25
  MAP_PROJECTION_ROTATION = 0.0
  MAP_PROJECTION_TYPE = SINUSOIDAL
  MAP_RESOLUTION = 2370.85521546667
  MAP_SCALE = 0.025
  MAXIMUM_LATITUDE = -4.88067
  MINIMUM_LATITUDE = -12.8879
  POSITIVE_LONGITUDE_DIRECTION = EAST
  REFERENCE_LATITUDE = "N/A"
  REFERENCE_LONGITUDE = "N/A"
  SAMPLE_FIRST_PIXEL = 1
  SAMPLE_LAST_PIXEL = 3882
  SAMPLE_PROJECTION_OFFSET = 1453.75
  SECOND_STANDARD_PARALLEL = "N/A"
  WESTERNMOST_LONGITUDE = 48.4235
END_OBJECT = IMAGE_MAP_PROJECTION
END
