PDS_VERSION_ID = PDS3
/* FILE DATA ELEMENTS */
RECORD_TYPE = UNDEFINED
/* POINTERS TO DATA OBJECTS */
^IMAGE = ("HA478_0000_GR4.TIF")
/* IDENTIFICATION DATA ELEMENTS */
DATA_SET_ID = "MEX-M-HRSC-4-REFDR-MAPPROJECT-EXT3-V4.0"
DATA_SET_NAME = "MARS EXPRESS HRSC MAP PROJECTED REFDR EXTENSION3 V4.0"
DETECTOR_ID = MEX_HRSC_GREEN
EVENT_TYPE = "MARS-REGIONAL-MAPPING-Im-Fl"
INSTRUMENT_HOST_ID = MEX
INSTRUMENT_HOST_NAME = "MARS EXPRESS"
INSTRUMENT_ID = HRSC
INSTRUMENT_NAME = "HIGH RESOLUTION STEREO CAMERA"
MISSION_NAME = "MARS EXPRESS"
MISSION_PHASE_NAME = ME_Phase_25
PROCESSING_LEVEL_ID = 4
PRODUCT_CREATION_TIME = 2023-02-04T22:47:41.000Z
PRODUCT_ID = "HA478_0000_GR4.TIF"
RELEASE_ID = 0008
REVISION_ID = 0000
/* QUALITY DATA ELEMENTS */
DATA_QUALITY_ID = 1
DATA_QUALITY_DESC = "Data calculated based on original SPICE kernels"
/* TIME DATA ELEMENTS */
SPACECRAFT_CLOCK_START_COUNT = "1/0280529150.09038"
SPACECRAFT_CLOCK_STOP_COUNT = "1/0280529364.54861"
START_TIME = 2012-03-22T20:46:35.168Z
STOP_TIME = 2012-03-22T20:48:45.495Z
/* ORBITAL DATA ELEMENTS */
ASCENDING_NODE_LONGITUDE = 17.29
MAXIMUM_RESOLUTION = 0.127
FOOTPRINT_POINT_LATITUDE = (-12.8643,-12.8661,-12.8679,-12.8697, -12.8712,-12.8726,-12.8745,-12.8746, -12.871,-12.4204,-12.1208,-11.8217, -11.523,-11.2182,-10.9123,-10.607, -10.302,-10.1463,-9.99024,-9.8342, -9.67827,-9.52246,-9.36677,-9.21123, -8.97302,-8.81381,-8.65474,-8.49579, -8.33698,-8.17826,-8.0167,-7.77345, -7.61124,-7.44915,-7.28749,-7.12446, -6.95921,-6.79388,-6.62869,-6.46375, -6.29893,-6.13201,-5.96384,-5.71165, -5.54364,-5.37591,-5.20562,-5.03436, -4.94881,-4.88127,-4.87648,-4.8727, -4.86981,-4.86554,-4.86236,-4.86027, -4.86006,-4.86218,-5.11968,-5.29122, -5.54342,-5.71148,-5.87986,-6.04841, -6.29956,-6.46459,-6.62974,-6.79512, -6.96052,-7.20792,-7.36993,-7.53206, -7.69428,-7.8568,-8.01936,-8.1807, -8.3396,-8.49861,-8.65776,-8.81706, -8.97647,-9.21466,-9.37044,-9.52635, -9.68237,-9.83854,-9.99478,-10.1512, -10.3066,-10.6121,-10.9178,-11.0709, -11.2241,-11.5289,-11.8279,-12.1273, -12.4274,-12.7277,-12.8029,-12.8643)
FOOTPRINT_POINT_LONGITUDE = (49.988,49.7905,49.5794,49.3541,49.1417 ,48.9286,48.5935,48.5801,48.5781,48.572 ,48.5669,48.5615,48.556,48.55,48.5442, 48.5376,48.5315,48.5283,48.5247,48.5213 ,48.518,48.5146,48.5112,48.5077,48.5022 ,48.4986,48.4949,48.4912,48.4875, 48.4839,48.48,48.4735,48.4698,48.4661, 48.4616,48.4582,48.4535,48.4493,48.4451 ,48.4407,48.4363,48.4318,48.4266, 48.4194,48.4149,48.41,48.4049,48.3998, 48.3972,48.3953,48.7807,49.0741,49.2895 ,49.6273,49.8412,50.0094,50.0246, 50.0348,50.0334,50.032,50.03,50.0287, 50.0275,50.0263,50.0248,50.0236,50.0225 ,50.0214,50.0201,50.0188,50.0178, 50.0167,50.0156,50.0148,50.0137,50.0127 ,50.0118,50.0108,50.0098,50.0088, 50.0078,50.0065,50.0056,50.0046,50.0037 ,50.0028,50.0019,50.0009,50.0,49.9983, 49.9965,49.9956,49.9947,49.993,49.9913, 49.9894,49.9879,49.9863,49.986,49.988)
ORBIT_NUMBER = 10478
ORBITAL_ECCENTRICITY = 0.578
ORBITAL_INCLINATION = 86.88
ORBITAL_SEMIMAJOR_AXIS = 8836.53
PERIAPSIS_ALTITUDE = 334.45
PERIAPSIS_ARGUMENT_ANGLE = 329.29
PERIAPSIS_TIME = 2012-03-22T20:41:54.000Z
SPACECRAFT_ORIENTATION = (0.0,1.0,0.0)
^MEX_ORIENTATION_DESC = "MEX_ORIENTATION_DESC.TXT"
SPACECRAFT_POINTING_MODE = ACROSSTRACK
^MEX_POINTING_DESC = "MEX_POINTING_DESC.TXT"
RIGHT_ASCENSION = -1e+32
DECLINATION = -1e+32
OFFSET_ANGLE = 0.3
SPACECRAFT_SOLAR_DISTANCE = 2.48267e+08
TARGET_NAME = MARS
/* CAMERA DATA ELEMENTS */
DETECTOR_TEMPERATURE = 18.5744
FOCAL_PLANE_TEMPERATURE = 8.7872
INST_CMPRS_NAME = "DISCRETE COSINE TRANSFORMATION (DCT)"
INST_CMPRS_RATIO = 9.21313
INST_CMPRS_QUALITY = 0
INST_CMPRS_QUANTZ_TBL_ID = 0
INSTRUMENT_TEMPERATURE = 12.0496
LENS_TEMPERATURE = 9.3989
MACROPIXEL_SIZE = 8
MISSING_FRAMES = 0
PIXEL_SUBSAMPLING_FLAG = N
SIGNAL_CHAIN_ID = 2
/* RADIOMETRIC DATA ELEMENTS */
BANDWIDTH = 88.0
CENTER_FILTER_WAVELENGTH = 538.0
RADIANCE_OFFSET = 0.344009
RADIANCE_SCALING_FACTOR = 0.00380188
REFLECTANCE_SCALING_FACTOR = 0.000201755
MEX:REFLECTANCE_OFFSET = 0.0182556
/* IMAGE OBJECT DEFINITIONS */
OBJECT = IMAGE
  INTERCHANGE_FORMAT = BINARY
  LINES = 4754
  LINE_SAMPLES = 971
  SAMPLE_TYPE = UNSIGNED_INTEGER
  SAMPLE_BITS = 8
  BANDS = 1
  BAND_STORAGE_TYPE = BAND_SEQUENTIAL
  MAXIMUM = 255
  MEAN = 128.459
  MINIMUM = 1
  STANDARD_DEVIATION = 25.6856
END_OBJECT = IMAGE
/* MAP OBJECT DEFINITIONS */
OBJECT = IMAGE_MAP_PROJECTION
  ^DATA_SET_MAP_PROJECTION_CATALOG= "DSMAP.CAT"
  A_AXIS_RADIUS = 3396.0
  B_AXIS_RADIUS = 3396.0
  C_AXIS_RADIUS = 3396.0
  CENTER_LATITUDE = 0.0
  CENTER_LONGITUDE = 49.0
  COORDINATE_SYSTEM_NAME = PLANETOGRAPHIC
  COORDINATE_SYSTEM_TYPE = "BODY-FIXED ROTATING"
  EASTERNMOST_LONGITUDE = 50.0348
  FIRST_STANDARD_PARALLEL = "N/A"
  LINE_FIRST_PIXEL = 1
  LINE_LAST_PIXEL = 4754
  LINE_PROJECTION_OFFSET = -2880.9375
  MAP_PROJECTION_ROTATION = 0.0
  MAP_PROJECTION_TYPE = SINUSOIDAL
  MAP_RESOLUTION = 592.713803866667
  MAP_SCALE = 0.1
  MAXIMUM_LATITUDE = -4.86006
  MINIMUM_LATITUDE = -12.8746
  POSITIVE_LONGITUDE_DIRECTION = EAST
  REFERENCE_LATITUDE = "N/A"
  REFERENCE_LONGITUDE = "N/A"
  SAMPLE_FIRST_PIXEL = 1
  SAMPLE_LAST_PIXEL = 971
  SAMPLE_PROJECTION_OFFSET = 363.0625
  SECOND_STANDARD_PARALLEL = "N/A"
  WESTERNMOST_LONGITUDE = 48.3953
END_OBJECT = IMAGE_MAP_PROJECTION
END
