PDS_VERSION_ID = PDS3
/* FILE DATA ELEMENTS */
RECORD_TYPE = UNDEFINED
/* POINTERS TO DATA OBJECTS */
^IMAGE = ("HA467_0000_P14.TIF")
/* IDENTIFICATION DATA ELEMENTS */
DATA_SET_ID = "MEX-M-HRSC-4-REFDR-MAPPROJECT-EXT3-V4.0"
DATA_SET_NAME = "MARS EXPRESS HRSC MAP PROJECTED REFDR EXTENSION3 V4.0"
DETECTOR_ID = MEX_HRSC_P1
EVENT_TYPE = "MARS-REGIONAL-MAPPING-Vo-Im-Fl"
INSTRUMENT_HOST_ID = MEX
INSTRUMENT_HOST_NAME = "MARS EXPRESS"
INSTRUMENT_ID = HRSC
INSTRUMENT_NAME = "HIGH RESOLUTION STEREO CAMERA"
MISSION_NAME = "MARS EXPRESS"
MISSION_PHASE_NAME = ME_Phase_25
PROCESSING_LEVEL_ID = 4
PRODUCT_CREATION_TIME = 2023-02-04T22:47:41.000Z
PRODUCT_ID = "HA467_0000_P14.TIF"
RELEASE_ID = 0008
REVISION_ID = 0000
/* QUALITY DATA ELEMENTS */
DATA_QUALITY_ID = 1
DATA_QUALITY_DESC = "Data calculated based on original SPICE kernels"
/* TIME DATA ELEMENTS */
SPACECRAFT_CLOCK_START_COUNT = "1/0280252090.09044"
SPACECRAFT_CLOCK_STOP_COUNT = "1/0280252453.05140"
START_TIME = 2012-03-19T15:49:11.588Z
STOP_TIME = 2012-03-19T15:53:52.575Z
/* ORBITAL DATA ELEMENTS */
ASCENDING_NODE_LONGITUDE = 17.5
MAXIMUM_RESOLUTION = 0.0635
FOOTPRINT_POINT_LATITUDE = (-13.8308,-13.8498,-13.8691,-13.8952, -13.8958,-13.8861,-12.8586,-12.2743, -11.6914,-11.2482,-10.9518,-10.6543, -10.3581,-10.0547,-9.75155,-9.44931, -8.98927,-8.52851,-8.22196,-7.90871, -7.59475,-7.28215,-6.96276,-6.48431, -6.00191,-5.6769,-5.35288,-5.02266, -4.52817,-4.19307,-3.69531,-3.35422, -3.01061,-2.66102,-2.14794,-1.79909, -1.4506,-1.09782,-0.561523,-0.20387, 0.162541,0.711567,1.07634,1.44826, 1.82227,2.20253,2.3912,2.47402,2.50073, 2.52336,2.54321,2.55756,2.57365,2.57449 ,2.57352,2.0039,1.62789,1.2529,0.882709 ,0.513958,0.149848,-0.213551,-0.756298, -1.11627,-1.47126,-1.81332,-2.16372, -2.51034,-2.85745,-3.19618,-3.53763, -3.87417,-4.37582,-4.87035,-5.20064, -5.53041,-5.8542,-6.33941,-6.65872, -6.98288,-7.29576,-7.60908,-7.92371, -8.2358,-8.54397,-8.85269,-9.16285, -9.46485,-9.76782,-10.0718,-10.5227, -10.8189,-11.1161,-11.5612,-12.1444, -12.7295,-13.3172,-13.6113,-13.7586, -13.8308)
FOOTPRINT_POINT_LONGITUDE = (94.4144,93.9971,93.5684,92.9875, 92.9734,92.9817,92.971,92.9637,92.9565, 92.9495,92.9435,92.9396,92.9342,92.9289 ,92.9237,92.918,92.9108,92.8994,92.8918 ,92.8846,92.8778,92.8701,92.8641, 92.8523,92.8396,92.8317,92.8232,92.814, 92.8006,92.7908,92.771,92.7609,92.7544, 92.7492,92.7271,92.7131,92.6996,92.6838 ,92.6651,92.649,92.6383,92.6167,92.5965 ,92.58,92.564,92.5482,92.5392,92.535, 93.0222,93.4822,93.8801,94.1981,94.5502 ,94.5686,94.5747,94.5678,94.5632, 94.5588,94.5545,94.5503,94.5464,94.5423 ,94.5361,94.5317,94.5279,94.5255, 94.5219,94.5183,94.5147,94.5116,94.5082 ,94.505,94.5006,94.4962,94.4933,94.4895 ,94.4868,94.4824,94.4795,94.4757, 94.4738,94.4711,94.4684,94.4656,94.463, 94.4603,94.4574,94.455,94.4524,94.4497, 94.4457,94.4434,94.441,94.4374,94.4323, 94.4272,94.4218,94.4192,94.4179, 94.4144)
ORBIT_NUMBER = 10467
ORBITAL_ECCENTRICITY = 0.579
ORBITAL_INCLINATION = 86.87
ORBITAL_SEMIMAJOR_AXIS = 8840.65
PERIAPSIS_ALTITUDE = 334.23
PERIAPSIS_ARGUMENT_ANGLE = 331.13
PERIAPSIS_TIME = 2012-03-19T15:44:58.000Z
SPACECRAFT_ORIENTATION = (0.0,1.0,0.0)
^MEX_ORIENTATION_DESC = "MEX_ORIENTATION_DESC.TXT"
SPACECRAFT_POINTING_MODE = ACROSSTRACK
^MEX_POINTING_DESC = "MEX_POINTING_DESC.TXT"
RIGHT_ASCENSION = -1e+32
DECLINATION = -1e+32
OFFSET_ANGLE = 1.2
SPACECRAFT_SOLAR_DISTANCE = 2.4843e+08
TARGET_NAME = MARS
/* CAMERA DATA ELEMENTS */
DETECTOR_TEMPERATURE = 17.7588
FOCAL_PLANE_TEMPERATURE = 8.5833
INST_CMPRS_NAME = "DISCRETE COSINE TRANSFORMATION (DCT)"
INST_CMPRS_RATIO = 8.37147
INST_CMPRS_QUALITY = 0
INST_CMPRS_QUANTZ_TBL_ID = 0
INSTRUMENT_TEMPERATURE = 11.8457
LENS_TEMPERATURE = 8.5833
MACROPIXEL_SIZE = 4
MISSING_FRAMES = 0
PIXEL_SUBSAMPLING_FLAG = N
SIGNAL_CHAIN_ID = 3
/* RADIOMETRIC DATA ELEMENTS */
BANDWIDTH = 174.0
CENTER_FILTER_WAVELENGTH = 675.0
RADIANCE_OFFSET = 0.78331
RADIANCE_SCALING_FACTOR = 0.0182033
REFLECTANCE_SCALING_FACTOR = 0.000604288
MEX:REFLECTANCE_OFFSET = 0.0260033
/* IMAGE OBJECT DEFINITIONS */
OBJECT = IMAGE
  INTERCHANGE_FORMAT = BINARY
  LINES = 19471
  LINE_SAMPLES = 2288
  SAMPLE_TYPE = UNSIGNED_INTEGER
  SAMPLE_BITS = 8
  BANDS = 1
  BAND_STORAGE_TYPE = BAND_SEQUENTIAL
  MAXIMUM = 255
  MEAN = 83.2566
  MINIMUM = 1
  STANDARD_DEVIATION = 40.5424
END_OBJECT = IMAGE
/* MAP OBJECT DEFINITIONS */
OBJECT = IMAGE_MAP_PROJECTION
  ^DATA_SET_MAP_PROJECTION_CATALOG= "DSMAP.CAT"
  A_AXIS_RADIUS = 3396.0
  B_AXIS_RADIUS = 3396.0
  C_AXIS_RADIUS = 3396.0
  CENTER_LATITUDE = 0.0
  CENTER_LONGITUDE = 94.0
  COORDINATE_SYSTEM_NAME = PLANETOGRAPHIC
  COORDINATE_SYSTEM_TYPE = "BODY-FIXED ROTATING"
  EASTERNMOST_LONGITUDE = 94.57470000000001
  FIRST_STANDARD_PARALLEL = "N/A"
  LINE_FIRST_PIXEL = 1
  LINE_LAST_PIXEL = 19471
  LINE_PROJECTION_OFFSET = 3028.375
  MAP_PROJECTION_ROTATION = 0.0
  MAP_PROJECTION_TYPE = SINUSOIDAL
  MAP_RESOLUTION = 1185.42760773333
  MAP_SCALE = 0.05
  MAXIMUM_LATITUDE = 2.57449
  MINIMUM_LATITUDE = -13.8958
  POSITIVE_LONGITUDE_DIRECTION = EAST
  REFERENCE_LATITUDE = "N/A"
  REFERENCE_LONGITUDE = "N/A"
  SAMPLE_FIRST_PIXEL = 1
  SAMPLE_LAST_PIXEL = 2288
  SAMPLE_PROJECTION_OFFSET = 1670.125
  SECOND_STANDARD_PARALLEL = "N/A"
  WESTERNMOST_LONGITUDE = 92.535
END_OBJECT = IMAGE_MAP_PROJECTION
END
