PDS_VERSION_ID = PDS3
/* FILE DATA ELEMENTS */
RECORD_TYPE = UNDEFINED
/* POINTERS TO DATA OBJECTS */
^IMAGE = ("HA465_0000_GR4.TIF")
/* IDENTIFICATION DATA ELEMENTS */
DATA_SET_ID = "MEX-M-HRSC-4-REFDR-MAPPROJECT-EXT3-V4.0"
DATA_SET_NAME = "MARS EXPRESS HRSC MAP PROJECTED REFDR EXTENSION3 V4.0"
DETECTOR_ID = MEX_HRSC_GREEN
EVENT_TYPE = "MARS-REGIONAL-MAPPING-Vo-Fl-At"
INSTRUMENT_HOST_ID = MEX
INSTRUMENT_HOST_NAME = "MARS EXPRESS"
INSTRUMENT_ID = HRSC
INSTRUMENT_NAME = "HIGH RESOLUTION STEREO CAMERA"
MISSION_NAME = "MARS EXPRESS"
MISSION_PHASE_NAME = ME_Phase_25
PROCESSING_LEVEL_ID = 4
PRODUCT_CREATION_TIME = 2023-02-04T22:47:41.000Z
PRODUCT_ID = "HA465_0000_GR4.TIF"
RELEASE_ID = 0008
REVISION_ID = 0000
/* QUALITY DATA ELEMENTS */
DATA_QUALITY_ID = 1
DATA_QUALITY_DESC = "Data calculated based on original SPICE kernels"
/* TIME DATA ELEMENTS */
SPACECRAFT_CLOCK_START_COUNT = "1/0280201610.09041"
SPACECRAFT_CLOCK_STOP_COUNT = "1/0280201916.63648"
START_TIME = 2012-03-19T01:47:29.596Z
STOP_TIME = 2012-03-19T01:51:22.250Z
/* ORBITAL DATA ELEMENTS */
ASCENDING_NODE_LONGITUDE = 17.54
MAXIMUM_RESOLUTION = 0.1093
FOOTPRINT_POINT_LATITUDE = (-21.2649,-21.2654,-21.2649,-21.2637, -21.2636,-21.2609,-20.7264,-20.3262, -20.0593,-19.7932,-19.527,-19.2608, -18.9948,-18.729,-18.4634,-18.1979, -17.9326,-17.6675,-17.4028,-17.1381, -16.6095,-16.0819,-15.555,-15.1353, -14.823,-14.3536,-14.0414,-13.734, -13.2674,-12.798,-12.482,-12.1709, -11.8609,-11.5513,-11.2422,-10.9335, -10.6251,-10.3175,-10.0101,-9.70315, -9.23934,-8.92527,-8.61172,-8.29869, -7.81988,-7.49968,-7.18017,-6.8547, -6.69126,-6.54476,-6.54014,-6.53769, -6.53459,-6.53107,-6.53092,-6.53292, -6.86002,-7.18538,-7.50545,-7.8258, -8.30478,-8.61834,-9.08952,-9.40387, -9.71076,-10.0181,-10.3258,-10.634, -10.9427,-11.2518,-11.5613,-11.8713, -12.1816,-12.4923,-12.8035,-13.1183, -13.5905,-13.8989,-14.2084,-14.5215, -14.9917,-15.3024,-15.8293,-16.3572, -16.8857,-17.1503,-17.4149,-17.8118, -18.0771,-18.4755,-18.7421,-19.1415, -19.4081,-19.6748,-19.9416,-20.2082, -20.609,-21.0099,-21.1437,-21.2649)
FOOTPRINT_POINT_LONGITUDE = (300.207,299.695,299.338,298.957, 298.945,298.941,298.941,298.94,298.94, 298.938,298.937,298.936,298.935,298.934 ,298.932,298.931,298.929,298.927, 298.925,298.923,298.918,298.913,298.908 ,298.904,298.897,298.891,298.886, 298.872,298.863,298.861,298.867,298.863 ,298.858,298.853,298.847,298.841, 298.836,298.829,298.823,298.817,298.807 ,298.8,298.793,298.786,298.775,298.767, 298.759,298.751,298.747,298.744,299.279 ,299.547,299.872,300.226,300.24,300.25, 300.248,300.246,300.245,300.243,300.241 ,300.239,300.237,300.236,300.234, 300.233,300.232,300.23,300.229,300.228, 300.227,300.226,300.225,300.224,300.223 ,300.229,300.237,300.228,300.22,300.219 ,300.217,300.217,300.215,300.214, 300.213,300.212,300.211,300.208,300.207 ,300.206,300.208,300.207,300.207, 300.207,300.207,300.206,300.206,300.205 ,300.205,300.207)
ORBIT_NUMBER = 10465
ORBITAL_ECCENTRICITY = 0.578
ORBITAL_INCLINATION = 86.87
ORBITAL_SEMIMAJOR_AXIS = 8837.45
PERIAPSIS_ALTITUDE = 335.15
PERIAPSIS_ARGUMENT_ANGLE = 331.52
PERIAPSIS_TIME = 2012-03-19T01:45:35.000Z
SPACECRAFT_ORIENTATION = (0.0,1.0,0.0)
^MEX_ORIENTATION_DESC = "MEX_ORIENTATION_DESC.TXT"
SPACECRAFT_POINTING_MODE = NADIR
^MEX_POINTING_DESC = "MEX_POINTING_DESC.TXT"
RIGHT_ASCENSION = -1e+32
DECLINATION = -1e+32
OFFSET_ANGLE = -1e+32
SPACECRAFT_SOLAR_DISTANCE = 2.48458e+08
TARGET_NAME = MARS
/* CAMERA DATA ELEMENTS */
DETECTOR_TEMPERATURE = 18.5744
FOCAL_PLANE_TEMPERATURE = 7.7677
INST_CMPRS_NAME = "DISCRETE COSINE TRANSFORMATION (DCT)"
INST_CMPRS_RATIO = 11.8759
INST_CMPRS_QUALITY = 0
INST_CMPRS_QUANTZ_TBL_ID = 0
INSTRUMENT_TEMPERATURE = 10.6223
LENS_TEMPERATURE = 7.9716
MACROPIXEL_SIZE = 8
MISSING_FRAMES = 0
PIXEL_SUBSAMPLING_FLAG = N
SIGNAL_CHAIN_ID = 2
/* RADIOMETRIC DATA ELEMENTS */
BANDWIDTH = 88.0
CENTER_FILTER_WAVELENGTH = 538.0
RADIANCE_OFFSET = 0.174358
RADIANCE_SCALING_FACTOR = 0.00379486
REFLECTANCE_SCALING_FACTOR = 0.000201693
MEX:REFLECTANCE_OFFSET = 0.00926698
/* IMAGE OBJECT DEFINITIONS */
OBJECT = IMAGE
  INTERCHANGE_FORMAT = BINARY
  LINES = 8736
  LINE_SAMPLES = 890
  SAMPLE_TYPE = UNSIGNED_INTEGER
  SAMPLE_BITS = 8
  BANDS = 1
  BAND_STORAGE_TYPE = BAND_SEQUENTIAL
  MAXIMUM = 255
  MEAN = 109.619
  MINIMUM = 1
  STANDARD_DEVIATION = 45.0703
END_OBJECT = IMAGE
/* MAP OBJECT DEFINITIONS */
OBJECT = IMAGE_MAP_PROJECTION
  ^DATA_SET_MAP_PROJECTION_CATALOG= "DSMAP.CAT"
  A_AXIS_RADIUS = 3396.0
  B_AXIS_RADIUS = 3396.0
  C_AXIS_RADIUS = 3396.0
  CENTER_LATITUDE = 0.0
  CENTER_LONGITUDE = 300.0
  COORDINATE_SYSTEM_NAME = PLANETOGRAPHIC
  COORDINATE_SYSTEM_TYPE = "BODY-FIXED ROTATING"
  EASTERNMOST_LONGITUDE = 300.25
  FIRST_STANDARD_PARALLEL = "N/A"
  LINE_FIRST_PIXEL = 1
  LINE_LAST_PIXEL = 8736
  LINE_PROJECTION_OFFSET = -3877.0625
  MAP_PROJECTION_ROTATION = 0.0
  MAP_PROJECTION_TYPE = SINUSOIDAL
  MAP_RESOLUTION = 592.713803866667
  MAP_SCALE = 0.1
  MAXIMUM_LATITUDE = -6.53092
  MINIMUM_LATITUDE = -21.2654
  POSITIVE_LONGITUDE_DIRECTION = EAST
  REFERENCE_LATITUDE = "N/A"
  REFERENCE_LONGITUDE = "N/A"
  SAMPLE_FIRST_PIXEL = 1
  SAMPLE_LAST_PIXEL = 890
  SAMPLE_PROJECTION_OFFSET = 745.5625
  SECOND_STANDARD_PARALLEL = "N/A"
  WESTERNMOST_LONGITUDE = 298.744
END_OBJECT = IMAGE_MAP_PROJECTION
END
