PDS_VERSION_ID = PDS3
/* FILE DATA ELEMENTS */
RECORD_TYPE = UNDEFINED
/* POINTERS TO DATA OBJECTS */
^IMAGE = ("HA465_0000_BL4.TIF")
/* IDENTIFICATION DATA ELEMENTS */
DATA_SET_ID = "MEX-M-HRSC-4-REFDR-MAPPROJECT-EXT3-V4.0"
DATA_SET_NAME = "MARS EXPRESS HRSC MAP PROJECTED REFDR EXTENSION3 V4.0"
DETECTOR_ID = MEX_HRSC_BLUE
EVENT_TYPE = "MARS-REGIONAL-MAPPING-Vo-Fl-At"
INSTRUMENT_HOST_ID = MEX
INSTRUMENT_HOST_NAME = "MARS EXPRESS"
INSTRUMENT_ID = HRSC
INSTRUMENT_NAME = "HIGH RESOLUTION STEREO CAMERA"
MISSION_NAME = "MARS EXPRESS"
MISSION_PHASE_NAME = ME_Phase_25
PROCESSING_LEVEL_ID = 4
PRODUCT_CREATION_TIME = 2023-02-04T22:47:41.000Z
PRODUCT_ID = "HA465_0000_BL4.TIF"
RELEASE_ID = 0008
REVISION_ID = 0000
/* QUALITY DATA ELEMENTS */
DATA_QUALITY_ID = 1
DATA_QUALITY_DESC = "Data calculated based on original SPICE kernels"
/* TIME DATA ELEMENTS */
SPACECRAFT_CLOCK_START_COUNT = "1/0280201610.09041"
SPACECRAFT_CLOCK_STOP_COUNT = "1/0280201916.63648"
START_TIME = 2012-03-19T01:47:19.014Z
STOP_TIME = 2012-03-19T01:51:08.440Z
/* ORBITAL DATA ELEMENTS */
ASCENDING_NODE_LONGITUDE = 17.54
MAXIMUM_RESOLUTION = 0.1087
FOOTPRINT_POINT_LATITUDE = (-21.2796,-21.2804,-21.2798,-21.2786, -21.2785,-21.2779,-21.0089,-20.6059, -20.3372,-20.0687,-19.7997,-19.5311, -19.2627,-18.9944,-18.7263,-18.4582, -18.1903,-17.9226,-17.655,-17.2536, -16.719,-16.3183,-15.7848,-15.3849, -14.8521,-14.273,-13.952,-13.6297, -13.3138,-12.8423,-12.5331,-12.2188, -11.9037,-11.5889,-11.2744,-10.9602, -10.6464,-10.1759,-9.86277,-9.55001, -9.23755,-8.9255,-8.61375,-8.29431, -7.97425,-7.65633,-7.17326,-6.84712, -6.68425,-6.55486,-6.55224,-6.54616, -6.54083,-6.54067,-6.54265,-6.86869, -7.19528,-7.67799,-7.99657,-8.3169, -8.63559,-8.94761,-9.25999,-9.57279, -9.88589,-10.1994,-10.5131,-10.8272, -11.1416,-11.4563,-11.7712,-12.0866, -12.4021,-12.718,-13.0322,-13.342, -13.6597,-13.9806,-14.3016,-14.6091, -15.1416,-15.4094,-15.8094,-16.3436, -16.8786,-17.1463,-17.4143,-17.6829, -17.9518,-18.4879,-19.0236,-19.2919, -19.5602,-19.8289,-20.0979,-20.3671, -20.7704,-21.0395,-21.174,-21.2796)
FOOTPRINT_POINT_LONGITUDE = (300.204,299.778,299.293,298.962,298.95 ,298.946,298.946,298.946,298.945, 298.945,298.944,298.943,298.942,298.941 ,298.94,298.938,298.937,298.936,298.934 ,298.931,298.927,298.923,298.918, 298.914,298.908,298.901,298.891,298.877 ,298.874,298.871,298.877,298.874, 298.869,298.864,298.859,298.853,298.848 ,298.838,298.832,298.826,298.819, 298.813,298.806,298.799,298.791,298.785 ,298.774,298.766,298.762,298.759, 299.076,299.727,300.213,300.227,300.236 ,300.235,300.233,300.231,300.231, 300.229,300.228,300.226,300.225,300.224 ,300.223,300.222,300.221,300.22,300.219 ,300.218,300.217,300.217,300.216, 300.215,300.218,300.228,300.226,300.219 ,300.212,300.213,300.212,300.21,300.209 ,300.208,300.207,300.206,300.205, 300.204,300.202,300.201,300.203,300.203 ,300.203,300.203,300.202,300.202, 300.202,300.201,300.202,300.204)
ORBIT_NUMBER = 10465
ORBITAL_ECCENTRICITY = 0.578
ORBITAL_INCLINATION = 86.87
ORBITAL_SEMIMAJOR_AXIS = 8837.45
PERIAPSIS_ALTITUDE = 335.15
PERIAPSIS_ARGUMENT_ANGLE = 331.52
PERIAPSIS_TIME = 2012-03-19T01:45:35.000Z
SPACECRAFT_ORIENTATION = (0.0,1.0,0.0)
^MEX_ORIENTATION_DESC = "MEX_ORIENTATION_DESC.TXT"
SPACECRAFT_POINTING_MODE = NADIR
^MEX_POINTING_DESC = "MEX_POINTING_DESC.TXT"
RIGHT_ASCENSION = -1e+32
DECLINATION = -1e+32
OFFSET_ANGLE = -1e+32
SPACECRAFT_SOLAR_DISTANCE = 2.48458e+08
TARGET_NAME = MARS
/* CAMERA DATA ELEMENTS */
DETECTOR_TEMPERATURE = 18.5744
FOCAL_PLANE_TEMPERATURE = 7.7677
INST_CMPRS_NAME = "DISCRETE COSINE TRANSFORMATION (DCT)"
INST_CMPRS_RATIO = 9.21781
INST_CMPRS_QUALITY = 0
INST_CMPRS_QUANTZ_TBL_ID = 0
INSTRUMENT_TEMPERATURE = 10.6223
LENS_TEMPERATURE = 7.9716
MACROPIXEL_SIZE = 8
MISSING_FRAMES = 0
PIXEL_SUBSAMPLING_FLAG = N
SIGNAL_CHAIN_ID = 2
/* RADIOMETRIC DATA ELEMENTS */
BANDWIDTH = 76.0
CENTER_FILTER_WAVELENGTH = 444.0
RADIANCE_OFFSET = 0.0867808
RADIANCE_SCALING_FACTOR = 0.00191815
REFLECTANCE_SCALING_FACTOR = 0.000121659
MEX:REFLECTANCE_OFFSET = 0.00550409
/* IMAGE OBJECT DEFINITIONS */
OBJECT = IMAGE
  INTERCHANGE_FORMAT = BINARY
  LINES = 8736
  LINE_SAMPLES = 890
  SAMPLE_TYPE = UNSIGNED_INTEGER
  SAMPLE_BITS = 8
  BANDS = 1
  BAND_STORAGE_TYPE = BAND_SEQUENTIAL
  MAXIMUM = 255
  MEAN = 126.8
  MINIMUM = 1
  STANDARD_DEVIATION = 55.5783
END_OBJECT = IMAGE
/* MAP OBJECT DEFINITIONS */
OBJECT = IMAGE_MAP_PROJECTION
  ^DATA_SET_MAP_PROJECTION_CATALOG= "DSMAP.CAT"
  A_AXIS_RADIUS = 3396.0
  B_AXIS_RADIUS = 3396.0
  C_AXIS_RADIUS = 3396.0
  CENTER_LATITUDE = 0.0
  CENTER_LONGITUDE = 300.0
  COORDINATE_SYSTEM_NAME = PLANETOGRAPHIC
  COORDINATE_SYSTEM_TYPE = "BODY-FIXED ROTATING"
  EASTERNMOST_LONGITUDE = 300.236
  FIRST_STANDARD_PARALLEL = "N/A"
  LINE_FIRST_PIXEL = 1
  LINE_LAST_PIXEL = 8736
  LINE_PROJECTION_OFFSET = -3877.0625
  MAP_PROJECTION_ROTATION = 0.0
  MAP_PROJECTION_TYPE = SINUSOIDAL
  MAP_RESOLUTION = 592.713803866667
  MAP_SCALE = 0.1
  MAXIMUM_LATITUDE = -6.54067
  MINIMUM_LATITUDE = -21.2804
  POSITIVE_LONGITUDE_DIRECTION = EAST
  REFERENCE_LATITUDE = "N/A"
  REFERENCE_LONGITUDE = "N/A"
  SAMPLE_FIRST_PIXEL = 1
  SAMPLE_LAST_PIXEL = 890
  SAMPLE_PROJECTION_OFFSET = 745.5625
  SECOND_STANDARD_PARALLEL = "N/A"
  WESTERNMOST_LONGITUDE = 298.759
END_OBJECT = IMAGE_MAP_PROJECTION
END
