PDS_VERSION_ID = PDS3
/* FILE DATA ELEMENTS */
RECORD_TYPE = UNDEFINED
/* POINTERS TO DATA OBJECTS */
^IMAGE = ("HA463_0000_P14.TIF")
/* IDENTIFICATION DATA ELEMENTS */
DATA_SET_ID = "MEX-M-HRSC-4-REFDR-MAPPROJECT-EXT3-V4.0"
DATA_SET_NAME = "MARS EXPRESS HRSC MAP PROJECTED REFDR EXTENSION3 V4.0"
DETECTOR_ID = MEX_HRSC_P1
EVENT_TYPE = "MARS-REGIONAL-MAPPING-Vo-Fl-Gl"
INSTRUMENT_HOST_ID = MEX
INSTRUMENT_HOST_NAME = "MARS EXPRESS"
INSTRUMENT_ID = HRSC
INSTRUMENT_NAME = "HIGH RESOLUTION STEREO CAMERA"
MISSION_NAME = "MARS EXPRESS"
MISSION_PHASE_NAME = ME_Phase_25
PROCESSING_LEVEL_ID = 4
PRODUCT_CREATION_TIME = 2023-02-04T22:47:41.000Z
PRODUCT_ID = "HA463_0000_P14.TIF"
RELEASE_ID = 0008
REVISION_ID = 0000
/* QUALITY DATA ELEMENTS */
DATA_QUALITY_ID = 1
DATA_QUALITY_DESC = "Data calculated based on original SPICE kernels"
/* TIME DATA ELEMENTS */
SPACECRAFT_CLOCK_START_COUNT = "1/0280151390.09059"
SPACECRAFT_CLOCK_STOP_COUNT = "1/0280151709.46790"
START_TIME = 2012-03-18T11:50:53.372Z
STOP_TIME = 2012-03-18T11:54:49.930Z
/* ORBITAL DATA ELEMENTS */
ASCENDING_NODE_LONGITUDE = 17.57
MAXIMUM_RESOLUTION = 0.0664
FOOTPRINT_POINT_LATITUDE = (-11.0554,-11.0688,-11.0824,-11.1009, -11.1013,-11.0997,-10.616,-9.99971, -9.50999,-9.00558,-8.50327,-8.24867, -7.99235,-7.60771,-7.35129,-7.09099, -6.82974,-6.56773,-6.30776,-6.04567, -5.77713,-5.51162,-5.24337,-4.97151, -4.7015,-4.29117,-4.0164,-3.74438, -3.4644,-3.04549,-2.76632,-2.48727, -2.20426,-1.77364,-1.4861,-1.04964, -0.758126,-0.463328,-0.166924,0.280707, 0.580833,1.03565,1.33965,1.64825, 2.11233,2.42465,2.58067,2.59813,2.60999 ,2.61976,2.63081,2.649,2.65862,2.66777, 2.66832,2.66726,2.35462,2.04167,1.73351 ,1.42391,0.968231,0.664392,0.364548, -0.0825663,-0.381138,-0.67605,-0.967834 ,-1.26187,-1.54976,-1.83851,-2.12534, -2.40642,-2.69053,-3.11375,-3.39426, -3.67388,-4.086,-4.36193,-4.63591, -4.9049,-5.16919,-5.43895,-5.70586, -6.10707,-6.37187,-6.63353,-6.89577, -7.28844,-7.54426,-7.93046,-8.18813, -8.56727,-8.94316,-9.19776,-9.44917, -10.0674,-10.5604,-10.9211,-11.0423, -11.0554)
FOOTPRINT_POINT_LONGITUDE = (144.118,143.692,143.26,142.681,142.667 ,142.665,142.656,142.642,142.629,142.62 ,142.608,142.604,142.598,142.589, 142.583,142.577,142.57,142.565,142.557, 142.546,142.542,142.535,142.527,142.521 ,142.514,142.503,142.495,142.485, 142.478,142.465,142.455,142.442,142.433 ,142.418,142.408,142.393,142.383, 142.372,142.362,142.345,142.334,142.316 ,142.304,142.292,142.272,142.259, 142.253,142.252,142.535,142.818,143.117 ,143.637,143.932,144.226,144.244,144.25 ,144.246,144.242,144.238,144.234, 144.228,144.225,144.221,144.216,144.213 ,144.209,144.206,144.203,144.2,144.197, 144.194,144.191,144.188,144.184,144.182 ,144.179,144.175,144.173,144.17,144.168 ,144.165,144.163,144.16,144.157,144.155 ,144.153,144.151,144.147,144.145, 144.142,144.14,144.137,144.134,144.132, 144.13,144.126,144.122,144.119,144.118, 144.118)
ORBIT_NUMBER = 10463
ORBITAL_ECCENTRICITY = 0.578
ORBITAL_INCLINATION = 86.86
ORBITAL_SEMIMAJOR_AXIS = 8838.06
PERIAPSIS_ALTITUDE = 335.59
PERIAPSIS_ARGUMENT_ANGLE = 331.86
PERIAPSIS_TIME = 2012-03-18T11:46:06.000Z
SPACECRAFT_ORIENTATION = (0.0,1.0,0.0)
^MEX_ORIENTATION_DESC = "MEX_ORIENTATION_DESC.TXT"
SPACECRAFT_POINTING_MODE = ACROSSTRACK
^MEX_POINTING_DESC = "MEX_POINTING_DESC.TXT"
RIGHT_ASCENSION = -1e+32
DECLINATION = -1e+32
OFFSET_ANGLE = 0.73
SPACECRAFT_SOLAR_DISTANCE = 2.48486e+08
TARGET_NAME = MARS
/* CAMERA DATA ELEMENTS */
DETECTOR_TEMPERATURE = 18.1666
FOCAL_PLANE_TEMPERATURE = 8.7872
INST_CMPRS_NAME = "DISCRETE COSINE TRANSFORMATION (DCT)"
INST_CMPRS_RATIO = 4.87555
INST_CMPRS_QUALITY = 0
INST_CMPRS_QUANTZ_TBL_ID = 0
INSTRUMENT_TEMPERATURE = 12.2535
LENS_TEMPERATURE = 8.9911
MACROPIXEL_SIZE = 4
MISSING_FRAMES = 0
PIXEL_SUBSAMPLING_FLAG = N
SIGNAL_CHAIN_ID = 3
/* RADIOMETRIC DATA ELEMENTS */
BANDWIDTH = 174.0
CENTER_FILTER_WAVELENGTH = 675.0
RADIANCE_OFFSET = 0.986391
RADIANCE_SCALING_FACTOR = 0.0158141
REFLECTANCE_SCALING_FACTOR = 0.00052521
MEX:REFLECTANCE_OFFSET = 0.0327595
/* IMAGE OBJECT DEFINITIONS */
OBJECT = IMAGE
  INTERCHANGE_FORMAT = BINARY
  LINES = 16284
  LINE_SAMPLES = 2244
  SAMPLE_TYPE = UNSIGNED_INTEGER
  SAMPLE_BITS = 8
  BANDS = 1
  BAND_STORAGE_TYPE = BAND_SEQUENTIAL
  MAXIMUM = 255
  MEAN = 120.08
  MINIMUM = 1
  STANDARD_DEVIATION = 31.7756
END_OBJECT = IMAGE
/* MAP OBJECT DEFINITIONS */
OBJECT = IMAGE_MAP_PROJECTION
  ^DATA_SET_MAP_PROJECTION_CATALOG= "DSMAP.CAT"
  A_AXIS_RADIUS = 3396.0
  B_AXIS_RADIUS = 3396.0
  C_AXIS_RADIUS = 3396.0
  CENTER_LATITUDE = 0.0
  CENTER_LONGITUDE = 143.0
  COORDINATE_SYSTEM_NAME = PLANETOGRAPHIC
  COORDINATE_SYSTEM_TYPE = "BODY-FIXED ROTATING"
  EASTERNMOST_LONGITUDE = 144.25
  FIRST_STANDARD_PARALLEL = "N/A"
  LINE_FIRST_PIXEL = 1
  LINE_LAST_PIXEL = 16284
  LINE_PROJECTION_OFFSET = 3156.375
  MAP_PROJECTION_ROTATION = 0.0
  MAP_PROJECTION_TYPE = SINUSOIDAL
  MAP_RESOLUTION = 1185.42760773333
  MAP_SCALE = 0.05
  MAXIMUM_LATITUDE = 2.66832
  MINIMUM_LATITUDE = -11.1013
  POSITIVE_LONGITUDE_DIRECTION = EAST
  REFERENCE_LATITUDE = "N/A"
  REFERENCE_LONGITUDE = "N/A"
  SAMPLE_FIRST_PIXEL = 1
  SAMPLE_LAST_PIXEL = 2244
  SAMPLE_PROJECTION_OFFSET = 827.625
  SECOND_STANDARD_PARALLEL = "N/A"
  WESTERNMOST_LONGITUDE = 142.252
END_OBJECT = IMAGE_MAP_PROJECTION
END
