PDS_VERSION_ID = PDS3
/* FILE DATA ELEMENTS */
RECORD_TYPE = UNDEFINED
/* POINTERS TO DATA OBJECTS */
^IMAGE = ("HA460_0000_S14.TIF")
/* IDENTIFICATION DATA ELEMENTS */
DATA_SET_ID = "MEX-M-HRSC-4-REFDR-MAPPROJECT-EXT3-V4.0"
DATA_SET_NAME = "MARS EXPRESS HRSC MAP PROJECTED REFDR EXTENSION3 V4.0"
DETECTOR_ID = MEX_HRSC_S1
EVENT_TYPE = "MARS-REGIONAL-MAPPING-Vo-Im-Fl"
INSTRUMENT_HOST_ID = MEX
INSTRUMENT_HOST_NAME = "MARS EXPRESS"
INSTRUMENT_ID = HRSC
INSTRUMENT_NAME = "HIGH RESOLUTION STEREO CAMERA"
MISSION_NAME = "MARS EXPRESS"
MISSION_PHASE_NAME = ME_Phase_25
PROCESSING_LEVEL_ID = 4
PRODUCT_CREATION_TIME = 2023-02-04T22:47:41.000Z
PRODUCT_ID = "HA460_0000_S14.TIF"
RELEASE_ID = 0008
REVISION_ID = 0000
/* QUALITY DATA ELEMENTS */
DATA_QUALITY_ID = 1
DATA_QUALITY_DESC = "Data calculated based on original SPICE kernels"
/* TIME DATA ELEMENTS */
SPACECRAFT_CLOCK_START_COUNT = "1/0280075785.07295"
SPACECRAFT_CLOCK_STOP_COUNT = "1/0280076095.45579"
START_TIME = 2012-03-17T14:50:58.720Z
STOP_TIME = 2012-03-17T14:54:57.309Z
/* ORBITAL DATA ELEMENTS */
ASCENDING_NODE_LONGITUDE = 17.63
MAXIMUM_RESOLUTION = 0.0328
FOOTPRINT_POINT_LATITUDE = (-13.848,-13.8836,-13.9207,-13.9669, -13.9682,-13.9606,-13.317,-12.8121, -12.4344,-12.1784,-11.547,-11.1559, -10.77,-10.512,-10.2506,-9.85937, -9.46954,-9.20338,-8.93854,-8.67184, -8.40597,-8.13638,-7.72951,-7.45847, -7.18432,-6.90862,-6.6441,-6.37076, -6.08878,-5.79798,-5.52039,-5.24049, -4.9607,-4.67515,-4.38615,-4.09815, -3.81366,-3.52394,-3.2326,-2.78971, -2.49457,-2.19598,-1.8954,-1.59356, -1.28785,-0.998173,-0.691625,-0.376215, -0.224045,-0.185288,-0.150907,-0.123557 ,-0.103591,-0.0630295,-0.0242051, -0.0246642,-0.0247878,-0.337232, -0.644896,-0.950824,-1.26466,-1.56214, -1.86571,-2.15984,-2.45747,-2.75993, -3.06108,-3.34584,-3.63759,-4.07159, -4.50491,-4.79318,-5.21392,-5.49767, -5.7764,-6.05365,-6.3337,-6.60814, -6.8829,-7.29371,-7.56007,-7.8296, -8.10172,-8.37283,-8.63869,-9.03872, -9.30575,-9.56562,-9.96292,-10.2272, -10.7394,-10.9981,-11.3873,-11.6471, -12.1514,-12.9133,-13.4219,-13.6807, -13.8056,-13.848)
FOOTPRINT_POINT_LONGITUDE = (90.3088,89.87,89.4159,88.8552,88.8401, 88.8426,88.8439,88.8363,88.8305,88.8309 ,88.8199,88.8191,88.8141,88.8117, 88.8066,88.7987,88.7903,88.7859,88.7795 ,88.775,88.7702,88.7642,88.7564,88.7514 ,88.7459,88.74,88.7249,88.7164,88.7114, 88.7141,88.7059,88.6948,88.6841,88.6781 ,88.6705,88.6625,88.6507,88.6398, 88.6306,88.6168,88.6068,88.5971,88.5872 ,88.5779,88.568,88.5465,88.534,88.5284, 88.5205,88.5188,88.9431,89.2488,89.5469 ,90.0101,90.4273,90.4449,90.4514, 90.4473,90.4439,90.4405,90.4355,90.4333 ,90.4293,90.4273,90.4239,90.4196, 90.4154,90.4137,90.4109,90.4063,90.4018 ,90.3981,90.395,90.392,90.3894,90.3873, 90.3845,90.3819,90.3794,90.3759,90.3744 ,90.3722,90.3695,90.3662,90.3638, 90.3601,90.3575,90.3555,90.3505,90.3476 ,90.3444,90.3415,90.3372,90.3341, 90.3294,90.3216,90.3169,90.3131,90.3128 ,90.3088)
ORBIT_NUMBER = 10460
ORBITAL_ECCENTRICITY = 0.579
ORBITAL_INCLINATION = 86.88
ORBITAL_SEMIMAJOR_AXIS = 8842.36
PERIAPSIS_ALTITUDE = 334.44
PERIAPSIS_ARGUMENT_ANGLE = 332.33
PERIAPSIS_TIME = 2012-03-17T14:46:52.000Z
SPACECRAFT_ORIENTATION = (0.0,1.0,0.0)
^MEX_ORIENTATION_DESC = "MEX_ORIENTATION_DESC.TXT"
SPACECRAFT_POINTING_MODE = ACROSSTRACK
^MEX_POINTING_DESC = "MEX_POINTING_DESC.TXT"
RIGHT_ASCENSION = -1e+32
DECLINATION = -1e+32
OFFSET_ANGLE = 1.45
SPACECRAFT_SOLAR_DISTANCE = 2.48526e+08
TARGET_NAME = MARS
/* CAMERA DATA ELEMENTS */
DETECTOR_TEMPERATURE = 17.7588
FOCAL_PLANE_TEMPERATURE = 8.3794
INST_CMPRS_NAME = "DISCRETE COSINE TRANSFORMATION (DCT)"
INST_CMPRS_RATIO = 7.94547
INST_CMPRS_QUALITY = 0
INST_CMPRS_QUANTZ_TBL_ID = 0
INSTRUMENT_TEMPERATURE = 12.4574
LENS_TEMPERATURE = 8.7872
MACROPIXEL_SIZE = 2
MISSING_FRAMES = 0
PIXEL_SUBSAMPLING_FLAG = N
SIGNAL_CHAIN_ID = 1
/* RADIOMETRIC DATA ELEMENTS */
BANDWIDTH = 180.0
CENTER_FILTER_WAVELENGTH = 677.0
RADIANCE_OFFSET = 0.694413
RADIANCE_SCALING_FACTOR = 0.0166659
REFLECTANCE_SCALING_FACTOR = 0.000537049
MEX:REFLECTANCE_OFFSET = 0.0223771
/* IMAGE OBJECT DEFINITIONS */
OBJECT = IMAGE
  INTERCHANGE_FORMAT = BINARY
  LINES = 32787
  LINE_SAMPLES = 4233
  SAMPLE_TYPE = UNSIGNED_INTEGER
  SAMPLE_BITS = 8
  BANDS = 1
  BAND_STORAGE_TYPE = BAND_SEQUENTIAL
  MAXIMUM = 255
  MEAN = 81.9389
  MINIMUM = 1
  STANDARD_DEVIATION = 34.9566
END_OBJECT = IMAGE
/* MAP OBJECT DEFINITIONS */
OBJECT = IMAGE_MAP_PROJECTION
  ^DATA_SET_MAP_PROJECTION_CATALOG= "DSMAP.CAT"
  A_AXIS_RADIUS = 3396.0
  B_AXIS_RADIUS = 3396.0
  C_AXIS_RADIUS = 3396.0
  CENTER_LATITUDE = 0.0
  CENTER_LONGITUDE = 90.0
  COORDINATE_SYSTEM_NAME = PLANETOGRAPHIC
  COORDINATE_SYSTEM_TYPE = "BODY-FIXED ROTATING"
  EASTERNMOST_LONGITUDE = 90.45140000000001
  FIRST_STANDARD_PARALLEL = "N/A"
  LINE_FIRST_PIXEL = 1
  LINE_LAST_PIXEL = 32787
  LINE_PROJECTION_OFFSET = -228.75
  MAP_PROJECTION_ROTATION = 0.0
  MAP_PROJECTION_TYPE = SINUSOIDAL
  MAP_RESOLUTION = 2370.85521546667
  MAP_SCALE = 0.025
  MAXIMUM_LATITUDE = -0.024205
  MINIMUM_LATITUDE = -13.9682
  POSITIVE_LONGITUDE_DIRECTION = EAST
  REFERENCE_LATITUDE = "N/A"
  REFERENCE_LONGITUDE = "N/A"
  SAMPLE_FIRST_PIXEL = 1
  SAMPLE_LAST_PIXEL = 4233
  SAMPLE_PROJECTION_OFFSET = 3309.25
  SECOND_STANDARD_PARALLEL = "N/A"
  WESTERNMOST_LONGITUDE = 88.5188
END_OBJECT = IMAGE_MAP_PROJECTION
END
