PDS_VERSION_ID = PDS3
/* FILE DATA ELEMENTS */
RECORD_TYPE = UNDEFINED
/* POINTERS TO DATA OBJECTS */
^IMAGE = ("HA455_0000_S24.TIF")
/* IDENTIFICATION DATA ELEMENTS */
DATA_SET_ID = "MEX-M-HRSC-4-REFDR-MAPPROJECT-EXT3-V4.0"
DATA_SET_NAME = "MARS EXPRESS HRSC MAP PROJECTED REFDR EXTENSION3 V4.0"
DETECTOR_ID = MEX_HRSC_S2
EVENT_TYPE = "MARS-REGIONAL-MAPPING-Vo-Te-Gl"
INSTRUMENT_HOST_ID = MEX
INSTRUMENT_HOST_NAME = "MARS EXPRESS"
INSTRUMENT_ID = HRSC
INSTRUMENT_NAME = "HIGH RESOLUTION STEREO CAMERA"
MISSION_NAME = "MARS EXPRESS"
MISSION_PHASE_NAME = ME_Phase_25
PROCESSING_LEVEL_ID = 4
PRODUCT_CREATION_TIME = 2023-02-04T22:47:41.000Z
PRODUCT_ID = "HA455_0000_S24.TIF"
RELEASE_ID = 0008
REVISION_ID = 0000
/* QUALITY DATA ELEMENTS */
DATA_QUALITY_ID = 1
DATA_QUALITY_DESC = "Data calculated based on original SPICE kernels"
/* TIME DATA ELEMENTS */
SPACECRAFT_CLOCK_START_COUNT = "1/0279949946.09050"
SPACECRAFT_CLOCK_STOP_COUNT = "1/0279950264.14938"
START_TIME = 2012-03-16T03:52:29.692Z
STOP_TIME = 2012-03-16T03:55:51.990Z
/* ORBITAL DATA ELEMENTS */
ASCENDING_NODE_LONGITUDE = 17.73
MAXIMUM_RESOLUTION = 0.0323
FOOTPRINT_POINT_LATITUDE = (-7.73494,-7.70933,-7.68124,-7.64434, -7.64331,-7.74799,-7.38443,-7.02145, -6.4203,-5.82398,-5.45885,-5.21372, -4.96818,-4.72321,-4.47739,-4.1036, -3.85362,-3.4792,-3.22987,-2.84819, -2.59282,-2.33785,-2.08286,-1.82283, -1.56125,-1.30011,-1.03952,-0.775233, -0.508233,-0.241263,0.0255068,0.296192, 0.568565,0.840323,1.11222,1.38979, 1.6675,1.94496,2.36758,2.65045,2.93288, 3.2205,3.50894,3.79687,4.08988,4.38387, 4.67703,4.97542,5.27417,5.42343,5.48498 ,5.462,5.44305,5.43153,5.41526,5.41474, 5.41395,5.11492,4.8154,4.51799,4.22386, 3.92953,3.63737,3.34864,3.05926,2.77236 ,2.48888,2.20494,1.92175,1.6431,1.36466 ,1.08556,0.811943,0.539057,0.265871, -0.00697771,-0.273603,-0.540618, -0.80763,-1.20363,-1.46441,-1.85572, -2.11673,-2.37173,-2.62701,-3.01009, -3.26553,-3.51535,-3.89043,-4.14097, -4.51688,-4.76181,-5.00683,-5.49605, -5.86186,-6.45734,-6.93245,-7.64382, -7.76393,-7.73494)
FOOTPRINT_POINT_LONGITUDE = (242.14,241.707,241.264,240.72,240.706, 240.785,240.773,240.761,240.743,240.727 ,240.717,240.71,240.703,240.696,240.688 ,240.677,240.671,240.66,240.654,240.643 ,240.636,240.629,240.622,240.614, 240.606,240.598,240.59,240.582,240.573, 240.564,240.556,240.546,240.537,240.529 ,240.519,240.51,240.501,240.491,240.476 ,240.466,240.456,240.446,240.435, 240.424,240.414,240.402,240.391,240.38, 240.368,240.362,240.36,240.907,241.39, 241.708,242.178,242.195,242.201,242.199 ,242.198,242.196,242.195,242.193, 242.192,242.191,242.189,242.188,242.187 ,242.186,242.185,242.184,242.183, 242.182,242.181,242.18,242.179,242.178, 242.177,242.176,242.175,242.174,242.173 ,242.172,242.171,242.17,242.169,242.168 ,242.167,242.166,242.165,242.165, 242.164,242.164,242.163,242.162,242.162 ,242.16,242.159,242.156,242.156,242.14)
ORBIT_NUMBER = 10455
ORBITAL_ECCENTRICITY = 0.579
ORBITAL_INCLINATION = 86.87
ORBITAL_SEMIMAJOR_AXIS = 8846.42
PERIAPSIS_ALTITUDE = 334.91
PERIAPSIS_ARGUMENT_ANGLE = 333.17
PERIAPSIS_TIME = 2012-03-16T03:48:11.000Z
SPACECRAFT_ORIENTATION = (0.0,1.0,0.0)
^MEX_ORIENTATION_DESC = "MEX_ORIENTATION_DESC.TXT"
SPACECRAFT_POINTING_MODE = ACROSSTRACK
^MEX_POINTING_DESC = "MEX_POINTING_DESC.TXT"
RIGHT_ASCENSION = -1e+32
DECLINATION = -1e+32
OFFSET_ANGLE = 1.145
SPACECRAFT_SOLAR_DISTANCE = 2.48591e+08
TARGET_NAME = MARS
/* CAMERA DATA ELEMENTS */
DETECTOR_TEMPERATURE = 19.1861
FOCAL_PLANE_TEMPERATURE = 7.156
INST_CMPRS_NAME = "DISCRETE COSINE TRANSFORMATION (DCT)"
INST_CMPRS_RATIO = 13.8744
INST_CMPRS_QUALITY = 0
INST_CMPRS_QUANTZ_TBL_ID = 0
INSTRUMENT_TEMPERATURE = 12.0496
LENS_TEMPERATURE = 8.7872
MACROPIXEL_SIZE = 2
MISSING_FRAMES = 0
PIXEL_SUBSAMPLING_FLAG = N
SIGNAL_CHAIN_ID = 1
/* RADIOMETRIC DATA ELEMENTS */
BANDWIDTH = 178.0
CENTER_FILTER_WAVELENGTH = 679.0
RADIANCE_OFFSET = 1.16233
RADIANCE_SCALING_FACTOR = 0.0169031
REFLECTANCE_SCALING_FACTOR = 0.000553179
MEX:REFLECTANCE_OFFSET = 0.0380388
/* IMAGE OBJECT DEFINITIONS */
OBJECT = IMAGE
  INTERCHANGE_FORMAT = BINARY
  LINES = 31256
  LINE_SAMPLES = 4630
  SAMPLE_TYPE = UNSIGNED_INTEGER
  SAMPLE_BITS = 8
  BANDS = 1
  BAND_STORAGE_TYPE = BAND_SEQUENTIAL
  MAXIMUM = 255
  MEAN = 156.525
  MINIMUM = 1
  STANDARD_DEVIATION = 40.4179
END_OBJECT = IMAGE
/* MAP OBJECT DEFINITIONS */
OBJECT = IMAGE_MAP_PROJECTION
  ^DATA_SET_MAP_PROJECTION_CATALOG= "DSMAP.CAT"
  A_AXIS_RADIUS = 3396.0
  B_AXIS_RADIUS = 3396.0
  C_AXIS_RADIUS = 3396.0
  CENTER_LATITUDE = 0.0
  CENTER_LONGITUDE = 241.0
  COORDINATE_SYSTEM_NAME = PLANETOGRAPHIC
  COORDINATE_SYSTEM_TYPE = "BODY-FIXED ROTATING"
  EASTERNMOST_LONGITUDE = 242.201
  FIRST_STANDARD_PARALLEL = "N/A"
  LINE_FIRST_PIXEL = 1
  LINE_LAST_PIXEL = 31256
  LINE_PROJECTION_OFFSET = 13029.75
  MAP_PROJECTION_ROTATION = 0.0
  MAP_PROJECTION_TYPE = SINUSOIDAL
  MAP_RESOLUTION = 2370.85521546667
  MAP_SCALE = 0.025
  MAXIMUM_LATITUDE = 5.48498
  MINIMUM_LATITUDE = -7.76393
  POSITIVE_LONGITUDE_DIRECTION = EAST
  REFERENCE_LATITUDE = "N/A"
  REFERENCE_LONGITUDE = "N/A"
  SAMPLE_FIRST_PIXEL = 1
  SAMPLE_LAST_PIXEL = 4630
  SAMPLE_PROJECTION_OFFSET = 1628.75
  SECOND_STANDARD_PARALLEL = "N/A"
  WESTERNMOST_LONGITUDE = 240.36
END_OBJECT = IMAGE_MAP_PROJECTION
END
