PDS_VERSION_ID = PDS3
/* FILE DATA ELEMENTS */
RECORD_TYPE = UNDEFINED
/* POINTERS TO DATA OBJECTS */
^IMAGE = ("HA455_0000_ND4.TIF")
/* IDENTIFICATION DATA ELEMENTS */
DATA_SET_ID = "MEX-M-HRSC-4-REFDR-MAPPROJECT-EXT3-V4.0"
DATA_SET_NAME = "MARS EXPRESS HRSC MAP PROJECTED REFDR EXTENSION3 V4.0"
DETECTOR_ID = MEX_HRSC_NADIR
EVENT_TYPE = "MARS-REGIONAL-MAPPING-Vo-Te-Gl"
INSTRUMENT_HOST_ID = MEX
INSTRUMENT_HOST_NAME = "MARS EXPRESS"
INSTRUMENT_ID = HRSC
INSTRUMENT_NAME = "HIGH RESOLUTION STEREO CAMERA"
MISSION_NAME = "MARS EXPRESS"
MISSION_PHASE_NAME = ME_Phase_25
PROCESSING_LEVEL_ID = 4
PRODUCT_CREATION_TIME = 2023-02-04T22:47:41.000Z
PRODUCT_ID = "HA455_0000_ND4.TIF"
RELEASE_ID = 0008
REVISION_ID = 0000
/* QUALITY DATA ELEMENTS */
DATA_QUALITY_ID = 1
DATA_QUALITY_DESC = "Data calculated based on original SPICE kernels"
/* TIME DATA ELEMENTS */
SPACECRAFT_CLOCK_START_COUNT = "1/0279949946.09050"
SPACECRAFT_CLOCK_STOP_COUNT = "1/0279950264.14938"
START_TIME = 2012-03-16T03:53:06.580Z
STOP_TIME = 2012-03-16T03:56:43.568Z
/* ORBITAL DATA ELEMENTS */
ASCENDING_NODE_LONGITUDE = 17.73
MAXIMUM_RESOLUTION = 0.0159
FOOTPRINT_POINT_LATITUDE = (-7.67828,-7.68109,-7.68348,-7.68559, -7.68564,-7.68671,-7.3359,-6.86901, -6.27217,-5.79534,-5.43217,-5.18846, -4.94503,-4.7019,-4.33124,-4.0828, -3.83466,-3.58685,-3.33393,-3.08074, -2.82788,-2.44621,-2.18821,-1.93058, -1.67331,-1.41113,-1.14865,-0.886569, -0.487973,-0.220959,0.0456325,0.316796, 0.588426,0.859604,1.13535,1.41148, 1.68714,1.96776,2.38834,2.81486,3.09963 ,3.5324,3.82158,4.26124,4.55472,5.00151 ,5.29946,5.45091,5.46605,5.47427, 5.47956,5.48666,5.49168,5.49597,5.49623 ,5.49603,5.19467,4.8961,4.59753,4.30348 ,3.86269,3.57297,3.1391,2.8538,2.4262, 2.14543,1.86414,1.44727,1.17063, 0.894102,0.622443,0.350335,0.0784089, -0.188649,-0.456113,-0.855668,-1.11819, -1.3811,-1.64399,-1.90167,-2.15972, -2.41813,-2.67419,-2.92728,-3.30755, -3.56116,-3.80936,-4.05788,-4.3067, -4.67822,-4.92172,-5.16551,-5.40958, -5.77357,-6.25109,-6.60989,-6.84904, -7.55054,-7.66766,-7.67828)
FOOTPRINT_POINT_LONGITUDE = (242.172,241.716,241.249,240.708, 240.693,240.765,240.752,240.736,240.719 ,240.706,240.695,240.687,240.68,240.672 ,240.66,240.653,240.645,240.638,240.63, 240.623,240.616,240.604,240.596,240.588 ,240.579,240.571,240.562,240.553,240.54 ,240.53,240.521,240.511,240.501,240.491 ,240.481,240.471,240.461,240.45,240.434 ,240.418,240.407,240.39,240.378,240.36, 240.348,240.329,240.317,240.31,240.31, 240.805,241.136,241.599,241.942,242.243 ,242.262,242.271,242.268,242.266, 242.263,242.26,242.256,242.254,242.25, 242.248,242.245,242.242,242.24,242.237, 242.235,242.233,242.232,242.23,242.228, 242.226,242.225,242.222,242.22,242.219, 242.217,242.215,242.214,242.212,242.211 ,242.209,242.207,242.206,242.204, 242.203,242.202,242.2,242.199,242.198, 242.197,242.195,242.193,242.191,242.19, 242.186,242.185,242.172)
ORBIT_NUMBER = 10455
ORBITAL_ECCENTRICITY = 0.579
ORBITAL_INCLINATION = 86.87
ORBITAL_SEMIMAJOR_AXIS = 8846.42
PERIAPSIS_ALTITUDE = 334.91
PERIAPSIS_ARGUMENT_ANGLE = 333.17
PERIAPSIS_TIME = 2012-03-16T03:48:11.000Z
SPACECRAFT_ORIENTATION = (0.0,1.0,0.0)
^MEX_ORIENTATION_DESC = "MEX_ORIENTATION_DESC.TXT"
SPACECRAFT_POINTING_MODE = ACROSSTRACK
^MEX_POINTING_DESC = "MEX_POINTING_DESC.TXT"
RIGHT_ASCENSION = -1e+32
DECLINATION = -1e+32
OFFSET_ANGLE = 1.145
SPACECRAFT_SOLAR_DISTANCE = 2.48591e+08
TARGET_NAME = MARS
/* CAMERA DATA ELEMENTS */
DETECTOR_TEMPERATURE = 18.7783
FOCAL_PLANE_TEMPERATURE = 7.156
INST_CMPRS_NAME = "DISCRETE COSINE TRANSFORMATION (DCT)"
INST_CMPRS_RATIO = 6.32246
INST_CMPRS_QUALITY = 0
INST_CMPRS_QUANTZ_TBL_ID = 0
INSTRUMENT_TEMPERATURE = 12.0496
LENS_TEMPERATURE = 8.7872
MACROPIXEL_SIZE = 1
MISSING_FRAMES = 0
PIXEL_SUBSAMPLING_FLAG = N
SIGNAL_CHAIN_ID = 0
/* RADIOMETRIC DATA ELEMENTS */
BANDWIDTH = 177.0
CENTER_FILTER_WAVELENGTH = 677.5
RADIANCE_OFFSET = 0.937359
RADIANCE_SCALING_FACTOR = 0.0152841
REFLECTANCE_SCALING_FACTOR = 0.000501755
MEX:REFLECTANCE_OFFSET = 0.0307722
/* IMAGE OBJECT DEFINITIONS */
OBJECT = IMAGE
  INTERCHANGE_FORMAT = BINARY
  LINES = 62511
  LINE_SAMPLES = 9260
  SAMPLE_TYPE = UNSIGNED_INTEGER
  SAMPLE_BITS = 8
  BANDS = 1
  BAND_STORAGE_TYPE = BAND_SEQUENTIAL
  MAXIMUM = 255
  MEAN = 147.377
  MINIMUM = 1
  STANDARD_DEVIATION = 39.9112
END_OBJECT = IMAGE
/* MAP OBJECT DEFINITIONS */
OBJECT = IMAGE_MAP_PROJECTION
  ^DATA_SET_MAP_PROJECTION_CATALOG= "DSMAP.CAT"
  A_AXIS_RADIUS = 3396.0
  B_AXIS_RADIUS = 3396.0
  C_AXIS_RADIUS = 3396.0
  CENTER_LATITUDE = 0.0
  CENTER_LONGITUDE = 241.0
  COORDINATE_SYSTEM_NAME = PLANETOGRAPHIC
  COORDINATE_SYSTEM_TYPE = "BODY-FIXED ROTATING"
  EASTERNMOST_LONGITUDE = 242.271
  FIRST_STANDARD_PARALLEL = "N/A"
  LINE_FIRST_PIXEL = 1
  LINE_LAST_PIXEL = 62511
  LINE_PROJECTION_OFFSET = 26060.0
  MAP_PROJECTION_ROTATION = 0.0
  MAP_PROJECTION_TYPE = SINUSOIDAL
  MAP_RESOLUTION = 4741.71043093333
  MAP_SCALE = 0.0125
  MAXIMUM_LATITUDE = 5.49623
  MINIMUM_LATITUDE = -7.68671
  POSITIVE_LONGITUDE_DIRECTION = EAST
  REFERENCE_LATITUDE = "N/A"
  REFERENCE_LONGITUDE = "N/A"
  SAMPLE_FIRST_PIXEL = 1
  SAMPLE_LAST_PIXEL = 9260
  SAMPLE_PROJECTION_OFFSET = 3258.0
  SECOND_STANDARD_PARALLEL = "N/A"
  WESTERNMOST_LONGITUDE = 240.31
END_OBJECT = IMAGE_MAP_PROJECTION
END
