PDS_VERSION_ID = PDS3
/* FILE DATA ELEMENTS */
RECORD_TYPE = UNDEFINED
/* POINTERS TO DATA OBJECTS */
^IMAGE = ("HA448_0000_GR4.TIF")
/* IDENTIFICATION DATA ELEMENTS */
DATA_SET_ID = "MEX-M-HRSC-4-REFDR-MAPPROJECT-EXT3-V4.0"
DATA_SET_NAME = "MARS EXPRESS HRSC MAP PROJECTED REFDR EXTENSION3 V4.0"
DETECTOR_ID = MEX_HRSC_GREEN
EVENT_TYPE = "MARS-REGIONAL-MAPPING-Vo-Te-Gl"
INSTRUMENT_HOST_ID = MEX
INSTRUMENT_HOST_NAME = "MARS EXPRESS"
INSTRUMENT_ID = HRSC
INSTRUMENT_NAME = "HIGH RESOLUTION STEREO CAMERA"
MISSION_NAME = "MARS EXPRESS"
MISSION_PHASE_NAME = ME_Phase_25
PROCESSING_LEVEL_ID = 4
PRODUCT_CREATION_TIME = 2023-02-04T22:47:41.000Z
PRODUCT_ID = "HA448_0000_GR4.TIF"
RELEASE_ID = 0008
REVISION_ID = 0000
/* QUALITY DATA ELEMENTS */
DATA_QUALITY_ID = 1
DATA_QUALITY_DESC = "Data calculated based on original SPICE kernels"
/* TIME DATA ELEMENTS */
SPACECRAFT_CLOCK_START_COUNT = "1/0279773676.08258"
SPACECRAFT_CLOCK_STOP_COUNT = "1/0279774119.30119"
START_TIME = 2012-03-14T02:55:24.151Z
STOP_TIME = 2012-03-14T03:00:51.920Z
/* ORBITAL DATA ELEMENTS */
ASCENDING_NODE_LONGITUDE = 17.86
MAXIMUM_RESOLUTION = 0.1321
FOOTPRINT_POINT_LATITUDE = (-5.45802,-5.45847,-5.45857,-5.45855, -5.45854,-5.44736,-4.6562,-3.69233, -3.04132,-2.37875,-2.04757,-1.71092, -1.37319,-0.863658,-0.519799, -0.00175219,0.348142,0.697445,1.05346, 1.40869,1.94929,2.49373,2.8609,3.23098, 3.60317,3.97874,4.35706,4.73893,5.12263 ,5.51137,6.09866,6.69344,7.09363, 7.49895,7.90636,8.525,8.94063,9.36166, 9.78552,10.2137,10.6455,11.0824,11.5237 ,11.9687,12.4182,12.8722,13.3304, 13.5612,13.5915,13.5938,13.5955,13.5966 ,13.597,13.5964,13.5951,13.595,13.5919, 12.9028,12.4487,11.999,11.5537,11.1123, 10.6755,10.2435,9.81509,9.3896,8.96935, 8.55341,8.14,7.72925,7.32378,6.72098, 6.12579,5.53811,5.14897,4.76529,4.38298 ,4.0047,3.62868,3.25599,2.70261,2.15436 ,1.79322,1.43297,1.07774,0.546602, 0.197166,-0.15301,-0.496247,-0.840096, -1.18157,-1.5191,-2.02523,-2.35655, -3.01972,-3.67088,-4.63534,-5.27061, -5.42697,-5.45802)
FOOTPRINT_POINT_LONGITUDE = (240.829,240.228,239.774,239.331, 239.318,239.296,239.278,239.254,239.237 ,239.219,239.21,239.2,239.191,239.176, 239.166,239.15,239.14,239.129,239.118, 239.106,239.089,239.071,239.059,239.046 ,239.034,239.021,239.007,238.994,238.98 ,238.966,238.944,238.921,238.906,238.89 ,238.874,238.85,238.833,238.816,238.799 ,238.781,238.763,238.744,238.724, 238.705,238.684,238.664,238.642,238.632 ,238.63,238.984,239.344,239.707,240.189 ,240.631,241.03,241.054,241.069,241.05, 241.037,241.025,241.014,241.003,240.992 ,240.982,240.972,240.965,240.95,240.939 ,240.931,240.923,240.916,240.906, 240.896,240.887,240.881,240.876,240.871 ,240.866,240.861,240.856,240.849, 240.843,240.839,240.834,240.83,240.825, 240.821,240.817,240.813,240.81,240.807, 240.804,240.799,240.796,240.791,240.787 ,240.778,240.771,240.769,240.829)
ORBIT_NUMBER = 10448
ORBITAL_ECCENTRICITY = 0.579
ORBITAL_INCLINATION = 86.87
ORBITAL_SEMIMAJOR_AXIS = 8847.4
PERIAPSIS_ALTITUDE = 335.29
PERIAPSIS_ARGUMENT_ANGLE = 334.36
PERIAPSIS_TIME = 2012-03-14T02:50:05.000Z
SPACECRAFT_ORIENTATION = (0.0,1.0,0.0)
^MEX_ORIENTATION_DESC = "MEX_ORIENTATION_DESC.TXT"
SPACECRAFT_POINTING_MODE = ACROSSTRACK
^MEX_POINTING_DESC = "MEX_POINTING_DESC.TXT"
RIGHT_ASCENSION = -1e+32
DECLINATION = -1e+32
OFFSET_ANGLE = -1.3
SPACECRAFT_SOLAR_DISTANCE = 2.48676e+08
TARGET_NAME = MARS
/* CAMERA DATA ELEMENTS */
DETECTOR_TEMPERATURE = 18.7783
FOCAL_PLANE_TEMPERATURE = 8.5833
INST_CMPRS_NAME = "DISCRETE COSINE TRANSFORMATION (DCT)"
INST_CMPRS_RATIO = 23.6372
INST_CMPRS_QUALITY = 0
INST_CMPRS_QUANTZ_TBL_ID = 0
INSTRUMENT_TEMPERATURE = 11.8457
LENS_TEMPERATURE = 9.3989
MACROPIXEL_SIZE = 8
MISSING_FRAMES = 0
PIXEL_SUBSAMPLING_FLAG = N
SIGNAL_CHAIN_ID = 2
/* RADIOMETRIC DATA ELEMENTS */
BANDWIDTH = 88.0
CENTER_FILTER_WAVELENGTH = 538.0
RADIANCE_OFFSET = 0.66872
RADIANCE_SCALING_FACTOR = 0.00496245
REFLECTANCE_SCALING_FACTOR = 0.000264212
MEX:REFLECTANCE_OFFSET = 0.0356041
/* IMAGE OBJECT DEFINITIONS */
OBJECT = IMAGE
  INTERCHANGE_FORMAT = BINARY
  LINES = 11295
  LINE_SAMPLES = 1397
  SAMPLE_TYPE = UNSIGNED_INTEGER
  SAMPLE_BITS = 8
  BANDS = 1
  BAND_STORAGE_TYPE = BAND_SEQUENTIAL
  MAXIMUM = 255
  MEAN = 141.855
  MINIMUM = 1
  STANDARD_DEVIATION = 41.8946
END_OBJECT = IMAGE
/* MAP OBJECT DEFINITIONS */
OBJECT = IMAGE_MAP_PROJECTION
  ^DATA_SET_MAP_PROJECTION_CATALOG= "DSMAP.CAT"
  A_AXIS_RADIUS = 3396.0
  B_AXIS_RADIUS = 3396.0
  C_AXIS_RADIUS = 3396.0
  CENTER_LATITUDE = 0.0
  CENTER_LONGITUDE = 240.0
  COORDINATE_SYSTEM_NAME = PLANETOGRAPHIC
  COORDINATE_SYSTEM_TYPE = "BODY-FIXED ROTATING"
  EASTERNMOST_LONGITUDE = 241.069
  FIRST_STANDARD_PARALLEL = "N/A"
  LINE_FIRST_PIXEL = 1
  LINE_LAST_PIXEL = 11295
  LINE_PROJECTION_OFFSET = 8049.4375
  MAP_PROJECTION_ROTATION = 0.0
  MAP_PROJECTION_TYPE = SINUSOIDAL
  MAP_RESOLUTION = 592.713803866667
  MAP_SCALE = 0.1
  MAXIMUM_LATITUDE = 13.597
  MINIMUM_LATITUDE = -5.45857
  POSITIVE_LONGITUDE_DIRECTION = EAST
  REFERENCE_LATITUDE = "N/A"
  REFERENCE_LONGITUDE = "N/A"
  SAMPLE_FIRST_PIXEL = 1
  SAMPLE_LAST_PIXEL = 1397
  SAMPLE_PROJECTION_OFFSET = 792.3125
  SECOND_STANDARD_PARALLEL = "N/A"
  WESTERNMOST_LONGITUDE = 238.63
END_OBJECT = IMAGE_MAP_PROJECTION
END
