PDS_VERSION_ID = PDS3
/* FILE DATA ELEMENTS */
RECORD_TYPE = UNDEFINED
/* POINTERS TO DATA OBJECTS */
^IMAGE = ("HA444_0000_P24.TIF")
/* IDENTIFICATION DATA ELEMENTS */
DATA_SET_ID = "MEX-M-HRSC-4-REFDR-MAPPROJECT-EXT3-V4.0"
DATA_SET_NAME = "MARS EXPRESS HRSC MAP PROJECTED REFDR EXTENSION3 V4.0"
DETECTOR_ID = MEX_HRSC_P2
EVENT_TYPE = "MARS-REGIONAL-MAPPING-Fl-Lc-At"
INSTRUMENT_HOST_ID = MEX
INSTRUMENT_HOST_NAME = "MARS EXPRESS"
INSTRUMENT_ID = HRSC
INSTRUMENT_NAME = "HIGH RESOLUTION STEREO CAMERA"
MISSION_NAME = "MARS EXPRESS"
MISSION_PHASE_NAME = ME_Phase_25
PROCESSING_LEVEL_ID = 4
PRODUCT_CREATION_TIME = 2023-02-04T22:47:41.000Z
PRODUCT_ID = "HA444_0000_P24.TIF"
RELEASE_ID = 0008
REVISION_ID = 0000
/* QUALITY DATA ELEMENTS */
DATA_QUALITY_ID = 1
DATA_QUALITY_DESC = "Data calculated based on original SPICE kernels"
/* TIME DATA ELEMENTS */
SPACECRAFT_CLOCK_START_COUNT = "1/0279672861.07312"
SPACECRAFT_CLOCK_STOP_COUNT = "1/0279673237.56788"
START_TIME = 2012-03-12T22:54:35.950Z
STOP_TIME = 2012-03-12T22:59:06.335Z
/* ORBITAL DATA ELEMENTS */
ASCENDING_NODE_LONGITUDE = 17.93
MAXIMUM_RESOLUTION = 0.0305
FOOTPRINT_POINT_LATITUDE = (-10.9145,-10.9278,-10.9374,-10.9457, -10.9459,-10.925,-10.3733,-9.73633, -9.2442,-8.92154,-8.43294,-8.10653, -7.76839,-7.2774,-6.95093,-6.46098, -5.97325,-5.65588,-5.3347,-5.01196, -4.68311,-4.36688,-4.03653,-3.6899, -3.36152,-3.04664,-2.54704,-2.20602, -1.69458,-1.34586,-0.997595,-0.649505, -0.294411,0.0618754,0.41719,0.780411, 1.32528,1.88094,2.25223,2.6294,3.00905, 3.39156,3.77875,4.16395,4.55679,4.94909 ,5.34843,5.74808,6.15383,6.3574,6.41746 ,6.42516,6.447,6.46349,6.46408,6.46362, 6.05639,5.45315,5.05306,4.66057,4.07355 ,3.68726,3.10957,2.7302,2.35131,1.97957 ,1.42243,1.05849,0.694125,0.332885, -0.0233416,-0.379909,-0.906843,-1.2552, -1.77546,-2.11601,-2.45749,-2.96635, -3.2993,-3.93439,-4.25784,-4.59999, -4.92617,-5.26017,-5.73326,-6.05251, -6.3866,-6.72751,-7.2085,-7.54356, -7.88808,-8.21356,-8.68902,-9.17521, -9.65894,-9.98337,-10.2981,-10.71, -10.8499,-10.9145)
FOOTPRINT_POINT_LONGITUDE = (289.02,288.533,288.127,287.725,287.713 ,287.705,287.696,287.686,287.677, 287.673,287.664,287.658,287.65,287.641, 287.634,287.624,287.614,287.609,287.602 ,287.596,287.588,287.582,287.573, 287.562,287.555,287.551,287.54,287.531, 287.517,287.508,287.498,287.489,287.479 ,287.468,287.458,287.448,287.431, 287.414,287.402,287.39,287.377,287.364, 287.351,287.338,287.324,287.311,287.297 ,287.282,287.268,287.26,287.258,287.59, 288.454,289.059,289.077,289.084,289.079 ,289.073,289.07,289.066,289.061,289.057 ,289.051,289.047,289.044,289.041, 289.036,289.034,289.031,289.029,289.027 ,289.025,289.023,289.021,289.02,289.019 ,289.017,289.016,289.015,289.035, 289.037,289.025,289.024,289.018,289.029 ,289.033,289.028,289.018,289.025, 289.019,289.007,289.009,289.021,289.026 ,289.032,289.036,289.037,289.039, 289.037,289.02)
ORBIT_NUMBER = 10444
ORBITAL_ECCENTRICITY = 0.578
ORBITAL_INCLINATION = 86.87
ORBITAL_SEMIMAJOR_AXIS = 8845.34
PERIAPSIS_ALTITUDE = 336.05
PERIAPSIS_ARGUMENT_ANGLE = 335.1
PERIAPSIS_TIME = 2012-03-12T22:51:23.000Z
SPACECRAFT_ORIENTATION = (0.0,1.0,0.0)
^MEX_ORIENTATION_DESC = "MEX_ORIENTATION_DESC.TXT"
SPACECRAFT_POINTING_MODE = ACROSSTRACK
^MEX_POINTING_DESC = "MEX_POINTING_DESC.TXT"
RIGHT_ASCENSION = -1e+32
DECLINATION = -1e+32
OFFSET_ANGLE = -0.4
SPACECRAFT_SOLAR_DISTANCE = 2.48722e+08
TARGET_NAME = MARS
/* CAMERA DATA ELEMENTS */
DETECTOR_TEMPERATURE = 19.1861
FOCAL_PLANE_TEMPERATURE = 8.5833
INST_CMPRS_NAME = "DISCRETE COSINE TRANSFORMATION (DCT)"
INST_CMPRS_RATIO = 8.44008
INST_CMPRS_QUALITY = 0
INST_CMPRS_QUANTZ_TBL_ID = 0
INSTRUMENT_TEMPERATURE = 11.8457
LENS_TEMPERATURE = 8.5833
MACROPIXEL_SIZE = 2
MISSING_FRAMES = 0
PIXEL_SUBSAMPLING_FLAG = N
SIGNAL_CHAIN_ID = 3
/* RADIOMETRIC DATA ELEMENTS */
BANDWIDTH = 177.0
CENTER_FILTER_WAVELENGTH = 676.5
RADIANCE_OFFSET = 1.01359
RADIANCE_SCALING_FACTOR = 0.0132187
REFLECTANCE_SCALING_FACTOR = 0.000433585
MEX:REFLECTANCE_OFFSET = 0.0332466
/* IMAGE OBJECT DEFINITIONS */
OBJECT = IMAGE
  INTERCHANGE_FORMAT = BINARY
  LINES = 41225
  LINE_SAMPLES = 4498
  SAMPLE_TYPE = UNSIGNED_INTEGER
  SAMPLE_BITS = 8
  BANDS = 1
  BAND_STORAGE_TYPE = BAND_SEQUENTIAL
  MAXIMUM = 255
  MEAN = 112.855
  MINIMUM = 1
  STANDARD_DEVIATION = 52.557
END_OBJECT = IMAGE
/* MAP OBJECT DEFINITIONS */
OBJECT = IMAGE_MAP_PROJECTION
  ^DATA_SET_MAP_PROJECTION_CATALOG= "DSMAP.CAT"
  A_AXIS_RADIUS = 3396.0
  B_AXIS_RADIUS = 3396.0
  C_AXIS_RADIUS = 3396.0
  CENTER_LATITUDE = 0.0
  CENTER_LONGITUDE = 288.0
  COORDINATE_SYSTEM_NAME = PLANETOGRAPHIC
  COORDINATE_SYSTEM_TYPE = "BODY-FIXED ROTATING"
  EASTERNMOST_LONGITUDE = 289.084
  FIRST_STANDARD_PARALLEL = "N/A"
  LINE_FIRST_PIXEL = 1
  LINE_LAST_PIXEL = 41225
  LINE_PROJECTION_OFFSET = 15286.75
  MAP_PROJECTION_ROTATION = 0.0
  MAP_PROJECTION_TYPE = SINUSOIDAL
  MAP_RESOLUTION = 2370.85521546667
  MAP_SCALE = 0.025
  MAXIMUM_LATITUDE = 6.46408
  MINIMUM_LATITUDE = -10.9459
  POSITIVE_LONGITUDE_DIRECTION = EAST
  REFERENCE_LATITUDE = "N/A"
  REFERENCE_LONGITUDE = "N/A"
  SAMPLE_FIRST_PIXEL = 1
  SAMPLE_LAST_PIXEL = 4498
  SAMPLE_PROJECTION_OFFSET = 1848.25
  SECOND_STANDARD_PARALLEL = "N/A"
  WESTERNMOST_LONGITUDE = 287.258
END_OBJECT = IMAGE_MAP_PROJECTION
END
