PDS_VERSION_ID = PDS3
/* FILE DATA ELEMENTS */
RECORD_TYPE = UNDEFINED
/* POINTERS TO DATA OBJECTS */
^IMAGE = ("HA444_0000_BL4.TIF")
/* IDENTIFICATION DATA ELEMENTS */
DATA_SET_ID = "MEX-M-HRSC-4-REFDR-MAPPROJECT-EXT3-V4.0"
DATA_SET_NAME = "MARS EXPRESS HRSC MAP PROJECTED REFDR EXTENSION3 V4.0"
DETECTOR_ID = MEX_HRSC_BLUE
EVENT_TYPE = "MARS-REGIONAL-MAPPING-Fl-Lc-At"
INSTRUMENT_HOST_ID = MEX
INSTRUMENT_HOST_NAME = "MARS EXPRESS"
INSTRUMENT_ID = HRSC
INSTRUMENT_NAME = "HIGH RESOLUTION STEREO CAMERA"
MISSION_NAME = "MARS EXPRESS"
MISSION_PHASE_NAME = ME_Phase_25
PROCESSING_LEVEL_ID = 4
PRODUCT_CREATION_TIME = 2023-02-04T22:47:41.000Z
PRODUCT_ID = "HA444_0000_BL4.TIF"
RELEASE_ID = 0008
REVISION_ID = 0000
/* QUALITY DATA ELEMENTS */
DATA_QUALITY_ID = 1
DATA_QUALITY_DESC = "Data calculated based on original SPICE kernels"
/* TIME DATA ELEMENTS */
SPACECRAFT_CLOCK_START_COUNT = "1/0279672861.07312"
SPACECRAFT_CLOCK_STOP_COUNT = "1/0279673237.56788"
START_TIME = 2012-03-12T22:54:52.054Z
STOP_TIME = 2012-03-12T22:59:30.747Z
/* ORBITAL DATA ELEMENTS */
ASCENDING_NODE_LONGITUDE = 17.93
MAXIMUM_RESOLUTION = 0.1205
FOOTPRINT_POINT_LATITUDE = (-10.9273,-10.9358,-10.9428,-10.943, -10.9353,-10.6142,-10.2932,-9.97263, -9.49198,-9.17235,-8.69488,-8.37617, -8.05709,-7.7365,-7.25944,-6.94192, -6.30794,-5.83449,-5.20498,-4.8817, -4.39823,-4.07501,-3.74056,-3.41065, -3.08803,-2.58602,-2.24879,-1.91204, -1.56915,-1.22515,-0.881678,-0.356137, -0.00567446,0.528161,0.885219,1.42848, 1.79249,2.34673,2.71727,3.09408,3.4714, 3.85386,4.23727,4.62497,5.01477,5.40938 ,5.80545,6.20728,6.40849,6.41612, 6.42486,6.43387,6.44567,6.44594,6.44357 ,5.83996,5.44366,5.0487,4.6587,4.27058, 3.88682,3.50406,3.12632,2.74922,2.37834 ,1.82337,1.45925,0.915237,0.557639, 0.0231397,-0.327589,-0.853716,-1.1974, -1.54163,-1.88478,-2.22163,-2.55919, -2.89712,-3.22711,-3.55248,-3.88006, -4.36619,-4.85626,-5.34029,-5.8117, -6.44565,-6.92225,-7.2421,-7.5609, -7.88413,-8.2023,-8.67658,-8.99483, -9.3141,-9.63225,-10.1118,-10.432, -10.7533,-10.9143,-10.9273)
FOOTPRINT_POINT_LONGITUDE = (289.027,288.394,287.735,287.723, 287.714,287.708,287.703,287.698,287.689 ,287.683,287.676,287.67,287.663,287.656 ,287.646,287.64,287.626,287.617,287.604 ,287.597,287.587,287.578,287.567, 287.559,287.556,287.543,287.534,287.525 ,287.516,287.506,287.497,287.481, 287.471,287.455,287.444,287.427,287.416 ,287.398,287.385,287.372,287.359, 287.345,287.332,287.318,287.304,287.29, 287.275,287.26,287.252,287.252,287.769, 288.326,289.082,289.1,289.111,289.104, 289.099,289.095,289.091,289.087,289.083 ,289.078,289.073,289.069,289.065,289.06 ,289.057,289.052,289.049,289.045, 289.043,289.04,289.038,289.036,289.035, 289.034,289.032,289.03,289.029,289.04, 289.047,289.05,289.037,289.034,289.04, 289.038,289.036,289.031,289.029,289.017 ,289.018,289.029,289.033,289.034,289.04 ,289.043,289.045,289.045,289.045, 289.027)
ORBIT_NUMBER = 10444
ORBITAL_ECCENTRICITY = 0.578
ORBITAL_INCLINATION = 86.87
ORBITAL_SEMIMAJOR_AXIS = 8845.34
PERIAPSIS_ALTITUDE = 336.05
PERIAPSIS_ARGUMENT_ANGLE = 335.1
PERIAPSIS_TIME = 2012-03-12T22:51:23.000Z
SPACECRAFT_ORIENTATION = (0.0,1.0,0.0)
^MEX_ORIENTATION_DESC = "MEX_ORIENTATION_DESC.TXT"
SPACECRAFT_POINTING_MODE = ACROSSTRACK
^MEX_POINTING_DESC = "MEX_POINTING_DESC.TXT"
RIGHT_ASCENSION = -1e+32
DECLINATION = -1e+32
OFFSET_ANGLE = -0.4
SPACECRAFT_SOLAR_DISTANCE = 2.48722e+08
TARGET_NAME = MARS
/* CAMERA DATA ELEMENTS */
DETECTOR_TEMPERATURE = 19.5939
FOCAL_PLANE_TEMPERATURE = 8.5833
INST_CMPRS_NAME = "DISCRETE COSINE TRANSFORMATION (DCT)"
INST_CMPRS_RATIO = 11.2812
INST_CMPRS_QUALITY = 0
INST_CMPRS_QUANTZ_TBL_ID = 0
INSTRUMENT_TEMPERATURE = 11.8457
LENS_TEMPERATURE = 8.5833
MACROPIXEL_SIZE = 8
MISSING_FRAMES = 0
PIXEL_SUBSAMPLING_FLAG = N
SIGNAL_CHAIN_ID = 2
/* RADIOMETRIC DATA ELEMENTS */
BANDWIDTH = 76.0
CENTER_FILTER_WAVELENGTH = 444.0
RADIANCE_OFFSET = 0.260342
RADIANCE_SCALING_FACTOR = 0.00227393
REFLECTANCE_SCALING_FACTOR = 0.000144532
MEX:REFLECTANCE_OFFSET = 0.0165474
/* IMAGE OBJECT DEFINITIONS */
OBJECT = IMAGE
  INTERCHANGE_FORMAT = BINARY
  LINES = 10307
  LINE_SAMPLES = 1125
  SAMPLE_TYPE = UNSIGNED_INTEGER
  SAMPLE_BITS = 8
  BANDS = 1
  BAND_STORAGE_TYPE = BAND_SEQUENTIAL
  MAXIMUM = 255
  MEAN = 124.408
  MINIMUM = 1
  STANDARD_DEVIATION = 64.6644
END_OBJECT = IMAGE
/* MAP OBJECT DEFINITIONS */
OBJECT = IMAGE_MAP_PROJECTION
  ^DATA_SET_MAP_PROJECTION_CATALOG= "DSMAP.CAT"
  A_AXIS_RADIUS = 3396.0
  B_AXIS_RADIUS = 3396.0
  C_AXIS_RADIUS = 3396.0
  CENTER_LATITUDE = 0.0
  CENTER_LONGITUDE = 288.0
  COORDINATE_SYSTEM_NAME = PLANETOGRAPHIC
  COORDINATE_SYSTEM_TYPE = "BODY-FIXED ROTATING"
  EASTERNMOST_LONGITUDE = 289.111
  FIRST_STANDARD_PARALLEL = "N/A"
  LINE_FIRST_PIXEL = 1
  LINE_LAST_PIXEL = 10307
  LINE_PROJECTION_OFFSET = 3821.3125
  MAP_PROJECTION_ROTATION = 0.0
  MAP_PROJECTION_TYPE = SINUSOIDAL
  MAP_RESOLUTION = 592.713803866667
  MAP_SCALE = 0.1
  MAXIMUM_LATITUDE = 6.44594
  MINIMUM_LATITUDE = -10.943
  POSITIVE_LONGITUDE_DIRECTION = EAST
  REFERENCE_LATITUDE = "N/A"
  REFERENCE_LONGITUDE = "N/A"
  SAMPLE_FIRST_PIXEL = 1
  SAMPLE_LAST_PIXEL = 1125
  SAMPLE_PROJECTION_OFFSET = 461.6875
  SECOND_STANDARD_PARALLEL = "N/A"
  WESTERNMOST_LONGITUDE = 287.252
END_OBJECT = IMAGE_MAP_PROJECTION
END
