PDS_VERSION_ID = PDS3
/* FILE DATA ELEMENTS */
RECORD_TYPE = UNDEFINED
/* POINTERS TO DATA OBJECTS */
^IMAGE = ("HA443_0000_P14.TIF")
/* IDENTIFICATION DATA ELEMENTS */
DATA_SET_ID = "MEX-M-HRSC-4-REFDR-MAPPROJECT-EXT3-V4.0"
DATA_SET_NAME = "MARS EXPRESS HRSC MAP PROJECTED REFDR EXTENSION3 V4.0"
DETECTOR_ID = MEX_HRSC_P1
EVENT_TYPE = "MARS-REGIONAL-MAPPING-Im-Fl-At"
INSTRUMENT_HOST_ID = MEX
INSTRUMENT_HOST_NAME = "MARS EXPRESS"
INSTRUMENT_ID = HRSC
INSTRUMENT_NAME = "HIGH RESOLUTION STEREO CAMERA"
MISSION_NAME = "MARS EXPRESS"
MISSION_PHASE_NAME = ME_Phase_25
PROCESSING_LEVEL_ID = 4
PRODUCT_CREATION_TIME = 2023-02-04T22:47:41.000Z
PRODUCT_ID = "HA443_0000_P14.TIF"
RELEASE_ID = 0008
REVISION_ID = 0000
/* QUALITY DATA ELEMENTS */
DATA_QUALITY_ID = 1
DATA_QUALITY_DESC = "Data calculated based on original SPICE kernels"
/* TIME DATA ELEMENTS */
SPACECRAFT_CLOCK_START_COUNT = "1/0279647762.09053"
SPACECRAFT_CLOCK_STOP_COUNT = "1/0279648191.60459"
START_TIME = 2012-03-12T15:57:10.336Z
STOP_TIME = 2012-03-12T16:02:40.621Z
/* ORBITAL DATA ELEMENTS */
ASCENDING_NODE_LONGITUDE = 17.96
MAXIMUM_RESOLUTION = 0.0707
FOOTPRINT_POINT_LATITUDE = (-4.88082,-4.90421,-4.92866,-4.96267, -4.96351,-4.95672,-4.17812,-3.55043, -2.91011,-2.42843,-1.77851,-1.28389, -0.954462,-0.453376,-0.117896,0.220914, 0.560649,0.9036,1.24938,1.59523,1.94038 ,2.29018,2.64602,3.00731,3.36748, 3.91078,4.27606,4.64594,5.20516,5.77006 ,6.15122,6.53585,6.9223,7.31153,7.70552 ,8.10242,8.70449,9.10482,9.72053,10.134 ,10.5475,10.9723,11.5914,12.0081, 12.4262,13.0415,13.2461,13.2922,13.3222 ,13.3426,13.3716,13.389,13.4147,13.4156 ,13.4146,13.0042,12.5917,12.1774, 11.7601,11.3407,10.9222,10.5009,10.0836 ,9.67033,9.26111,8.85586,8.45363, 8.05403,7.65897,7.07134,6.68284,6.29678 ,5.91643,5.53747,5.16117,4.78903, 4.41856,4.05271,3.68685,3.32623,2.78936 ,2.43272,1.90341,1.54936,1.20281, 0.856614,0.35076,0.010228,-0.325692, -0.828127,-1.15885,-1.48996,-1.81749, -2.14237,-2.94733,-3.58598,-4.21695, -4.68521,-4.83986,-4.88082)
FOOTPRINT_POINT_LONGITUDE = (29.6799,29.2278,28.7636,28.1347, 28.1195,28.1231,28.1048,28.0892,28.073, 28.0596,28.0413,28.0271,28.0165,28.0004 ,27.99,27.9789,27.9664,27.9556,27.9431, 27.9308,27.9112,27.8974,27.8833,27.876, 27.8605,27.8377,27.8224,27.8067,27.7834 ,27.7583,27.7423,27.7248,27.707,27.6882 ,27.6695,27.6506,27.6215,27.5966, 27.5659,27.5438,27.5179,27.4979,27.4535 ,27.4299,27.4092,27.3701,27.3574, 27.3546,27.8875,28.2718,28.8654,29.2647 ,29.8689,29.892,29.8997,29.8915,29.8835 ,29.8756,29.8679,29.8604,29.8532, 29.8461,29.8392,29.8326,29.8262,29.8201 ,29.8143,29.8086,29.8031,29.7951,29.79, 29.785,29.7803,29.7757,29.7713,29.7669, 29.7629,29.7589,29.7549,29.7512,29.7459 ,29.7424,29.7369,29.7328,29.7295, 29.7264,29.7231,29.7201,29.7171,29.7131 ,29.7103,29.7076,29.7048,29.7024, 29.6966,29.6918,29.6867,29.6834,29.6822 ,29.6799)
ORBIT_NUMBER = 10443
ORBITAL_ECCENTRICITY = 0.578
ORBITAL_INCLINATION = 86.87
ORBITAL_SEMIMAJOR_AXIS = 8845.04
PERIAPSIS_ALTITUDE = 336.29
PERIAPSIS_ARGUMENT_ANGLE = 335.26
PERIAPSIS_TIME = 2012-03-12T15:51:37.000Z
SPACECRAFT_ORIENTATION = (0.0,1.0,0.0)
^MEX_ORIENTATION_DESC = "MEX_ORIENTATION_DESC.TXT"
SPACECRAFT_POINTING_MODE = ACROSSTRACK
^MEX_POINTING_DESC = "MEX_POINTING_DESC.TXT"
RIGHT_ASCENSION = -1e+32
DECLINATION = -1e+32
OFFSET_ANGLE = 1.3
SPACECRAFT_SOLAR_DISTANCE = 2.48733e+08
TARGET_NAME = MARS
/* CAMERA DATA ELEMENTS */
DETECTOR_TEMPERATURE = 17.7588
FOCAL_PLANE_TEMPERATURE = 8.5833
INST_CMPRS_NAME = "DISCRETE COSINE TRANSFORMATION (DCT)"
INST_CMPRS_RATIO = 9.35221
INST_CMPRS_QUALITY = 0
INST_CMPRS_QUANTZ_TBL_ID = 0
INSTRUMENT_TEMPERATURE = 11.8457
LENS_TEMPERATURE = 8.5833
MACROPIXEL_SIZE = 4
MISSING_FRAMES = 0
PIXEL_SUBSAMPLING_FLAG = N
SIGNAL_CHAIN_ID = 3
/* RADIOMETRIC DATA ELEMENTS */
BANDWIDTH = 174.0
CENTER_FILTER_WAVELENGTH = 675.0
RADIANCE_OFFSET = 1.26349
RADIANCE_SCALING_FACTOR = 0.0174546
REFLECTANCE_SCALING_FACTOR = 0.000580849
MEX:REFLECTANCE_OFFSET = 0.042046
/* IMAGE OBJECT DEFINITIONS */
OBJECT = IMAGE
  INTERCHANGE_FORMAT = BINARY
  LINES = 21872
  LINE_SAMPLES = 2749
  SAMPLE_TYPE = UNSIGNED_INTEGER
  SAMPLE_BITS = 8
  BANDS = 1
  BAND_STORAGE_TYPE = BAND_SEQUENTIAL
  MAXIMUM = 255
  MEAN = 119.346
  MINIMUM = 1
  STANDARD_DEVIATION = 28.7706
END_OBJECT = IMAGE
/* MAP OBJECT DEFINITIONS */
OBJECT = IMAGE_MAP_PROJECTION
  ^DATA_SET_MAP_PROJECTION_CATALOG= "DSMAP.CAT"
  A_AXIS_RADIUS = 3396.0
  B_AXIS_RADIUS = 3396.0
  C_AXIS_RADIUS = 3396.0
  CENTER_LATITUDE = 0.0
  CENTER_LONGITUDE = 29.0
  COORDINATE_SYSTEM_NAME = PLANETOGRAPHIC
  COORDINATE_SYSTEM_TYPE = "BODY-FIXED ROTATING"
  EASTERNMOST_LONGITUDE = 29.8997
  FIRST_STANDARD_PARALLEL = "N/A"
  LINE_FIRST_PIXEL = 1
  LINE_LAST_PIXEL = 21872
  LINE_PROJECTION_OFFSET = 16031.125
  MAP_PROJECTION_ROTATION = 0.0
  MAP_PROJECTION_TYPE = SINUSOIDAL
  MAP_RESOLUTION = 1185.42760773333
  MAP_SCALE = 0.05
  MAXIMUM_LATITUDE = 13.4156
  MINIMUM_LATITUDE = -4.96351
  POSITIVE_LONGITUDE_DIRECTION = EAST
  REFERENCE_LATITUDE = "N/A"
  REFERENCE_LONGITUDE = "N/A"
  SAMPLE_FIRST_PIXEL = 1
  SAMPLE_LAST_PIXEL = 2749
  SAMPLE_PROJECTION_OFFSET = 1806.375
  SECOND_STANDARD_PARALLEL = "N/A"
  WESTERNMOST_LONGITUDE = 27.3546
END_OBJECT = IMAGE_MAP_PROJECTION
END
