PDS_VERSION_ID = PDS3
/* FILE DATA ELEMENTS */
RECORD_TYPE = UNDEFINED
/* POINTERS TO DATA OBJECTS */
^IMAGE = ("HA434_0000_IR4.TIF")
/* IDENTIFICATION DATA ELEMENTS */
DATA_SET_ID = "MEX-M-HRSC-4-REFDR-MAPPROJECT-EXT3-V4.0"
DATA_SET_NAME = "MARS EXPRESS HRSC MAP PROJECTED REFDR EXTENSION3 V4.0"
DETECTOR_ID = MEX_HRSC_IR
EVENT_TYPE = "MARS-REGIONAL-MAPPING-Vo-Te-Gl"
INSTRUMENT_HOST_ID = MEX
INSTRUMENT_HOST_NAME = "MARS EXPRESS"
INSTRUMENT_ID = HRSC
INSTRUMENT_NAME = "HIGH RESOLUTION STEREO CAMERA"
MISSION_NAME = "MARS EXPRESS"
MISSION_PHASE_NAME = ME_Phase_25
PROCESSING_LEVEL_ID = 4
PRODUCT_CREATION_TIME = 2023-02-04T22:47:41.000Z
PRODUCT_ID = "HA434_0000_IR4.TIF"
RELEASE_ID = 0008
REVISION_ID = 0000
/* QUALITY DATA ELEMENTS */
DATA_QUALITY_ID = 1
DATA_QUALITY_DESC = "Data calculated based on original SPICE kernels"
/* TIME DATA ELEMENTS */
SPACECRAFT_CLOCK_START_COUNT = "1/0279421114.09057"
SPACECRAFT_CLOCK_STOP_COUNT = "1/0279421530.22827"
START_TIME = 2012-03-10T00:59:47.655Z
STOP_TIME = 2012-03-10T01:05:17.521Z
/* ORBITAL DATA ELEMENTS */
ASCENDING_NODE_LONGITUDE = 18.13
MAXIMUM_RESOLUTION = 0.0714
FOOTPRINT_POINT_LATITUDE = (-3.8237,-3.8308,-3.84087,-3.85846, -3.85884,-3.84063,-3.38216,-2.45916, -1.83686,-1.20315,-0.72541,-0.4028, -0.0816474,0.245758,0.736949,1.2354, 1.56779,1.90618,2.24302,2.58423,2.92578 ,3.27054,3.6167,3.96593,4.31518,4.84954 ,5.38817,5.93241,6.48309,6.85372, 7.22759,7.60325,7.98274,8.36474,8.75024 ,9.13864,9.53156,9.9273,10.3261,10.7282 ,11.1349,11.5448,11.958,12.375,12.7951, 13.2195,13.8629,14.0798,14.1249,14.1455 ,14.162,14.1717,14.1778,14.183,14.1833, 14.182,13.749,13.32,12.8947,12.4734, 12.0556,11.6414,11.2304,10.8236,10.4205 ,10.0208,9.62438,9.23032,8.84065, 8.45407,8.07,7.69003,7.12404,6.75263, 6.37946,6.01408,5.46979,5.10809,4.75149 ,4.39476,4.04218,3.69054,3.34476, 2.99769,2.65779,2.31352,1.80916,1.47374 ,1.14202,0.809709,0.483131,0.15565, -0.329956,-0.973266,-1.60763,-2.07829, -2.70269,-3.62213,-3.77448,-3.8237)
FOOTPRINT_POINT_LONGITUDE = (231.386,231.051,230.602,229.894,229.88 ,229.885,229.873,229.848,229.83,229.811 ,229.796,229.786,229.776,229.766,229.75 ,229.734,229.723,229.711,229.699, 229.687,229.674,229.661,229.647,229.633 ,229.618,229.597,229.575,229.552, 229.528,229.512,229.495,229.477,229.459 ,229.441,229.423,229.404,229.384, 229.365,229.345,229.324,229.303,229.281 ,229.259,229.236,229.213,229.189, 229.151,229.139,229.137,229.819,230.453 ,230.898,231.248,231.621,231.645, 231.652,231.641,231.63,231.619,231.609, 231.599,231.589,231.58,231.571,231.563, 231.555,231.547,231.539,231.532,231.525 ,231.518,231.511,231.502,231.495,231.49 ,231.484,231.476,231.47,231.465,231.461 ,231.456,231.452,231.447,231.443, 231.439,231.435,231.429,231.426,231.422 ,231.419,231.416,231.412,231.408, 231.402,231.397,231.394,231.389,231.383 ,231.382,231.386)
ORBIT_NUMBER = 10434
ORBITAL_ECCENTRICITY = 0.579
ORBITAL_INCLINATION = 86.88
ORBITAL_SEMIMAJOR_AXIS = 8848.51
PERIAPSIS_ALTITUDE = 336.14
PERIAPSIS_ARGUMENT_ANGLE = 336.77
PERIAPSIS_TIME = 2012-03-10T00:54:14.000Z
SPACECRAFT_ORIENTATION = (0.0,1.0,0.0)
^MEX_ORIENTATION_DESC = "MEX_ORIENTATION_DESC.TXT"
SPACECRAFT_POINTING_MODE = ACROSSTRACK
^MEX_POINTING_DESC = "MEX_POINTING_DESC.TXT"
RIGHT_ASCENSION = -1e+32
DECLINATION = -1e+32
OFFSET_ANGLE = 0.3
SPACECRAFT_SOLAR_DISTANCE = 2.48829e+08
TARGET_NAME = MARS
/* CAMERA DATA ELEMENTS */
DETECTOR_TEMPERATURE = 17.9627
FOCAL_PLANE_TEMPERATURE = 8.1755
INST_CMPRS_NAME = "DISCRETE COSINE TRANSFORMATION (DCT)"
INST_CMPRS_RATIO = 8.44886
INST_CMPRS_QUALITY = 0
INST_CMPRS_QUANTZ_TBL_ID = 0
INSTRUMENT_TEMPERATURE = 12.8652
LENS_TEMPERATURE = 10.0106
MACROPIXEL_SIZE = 4
MISSING_FRAMES = 0
PIXEL_SUBSAMPLING_FLAG = N
SIGNAL_CHAIN_ID = 2
/* RADIOMETRIC DATA ELEMENTS */
BANDWIDTH = 81.0
CENTER_FILTER_WAVELENGTH = 955.5
RADIANCE_OFFSET = 0.392749
RADIANCE_SCALING_FACTOR = 0.0041414
REFLECTANCE_SCALING_FACTOR = 0.000553193
MEX:REFLECTANCE_OFFSET = 0.0524619
/* IMAGE OBJECT DEFINITIONS */
OBJECT = IMAGE
  INTERCHANGE_FORMAT = BINARY
  LINES = 21355
  LINE_SAMPLES = 2634
  SAMPLE_TYPE = UNSIGNED_INTEGER
  SAMPLE_BITS = 8
  BANDS = 1
  BAND_STORAGE_TYPE = BAND_SEQUENTIAL
  MAXIMUM = 255
  MEAN = 116.63
  MINIMUM = 1
  STANDARD_DEVIATION = 27.5265
END_OBJECT = IMAGE
/* MAP OBJECT DEFINITIONS */
OBJECT = IMAGE_MAP_PROJECTION
  ^DATA_SET_MAP_PROJECTION_CATALOG= "DSMAP.CAT"
  A_AXIS_RADIUS = 3396.0
  B_AXIS_RADIUS = 3396.0
  C_AXIS_RADIUS = 3396.0
  CENTER_LATITUDE = 0.0
  CENTER_LONGITUDE = 231.0
  COORDINATE_SYSTEM_NAME = PLANETOGRAPHIC
  COORDINATE_SYSTEM_TYPE = "BODY-FIXED ROTATING"
  EASTERNMOST_LONGITUDE = 231.652
  FIRST_STANDARD_PARALLEL = "N/A"
  LINE_FIRST_PIXEL = 1
  LINE_LAST_PIXEL = 21355
  LINE_PROJECTION_OFFSET = 16781.375
  MAP_PROJECTION_ROTATION = 0.0
  MAP_PROJECTION_TYPE = SINUSOIDAL
  MAP_RESOLUTION = 1185.42760773333
  MAP_SCALE = 0.05
  MAXIMUM_LATITUDE = 14.1833
  MINIMUM_LATITUDE = -3.85884
  POSITIVE_LONGITUDE_DIRECTION = EAST
  REFERENCE_LATITUDE = "N/A"
  REFERENCE_LONGITUDE = "N/A"
  SAMPLE_FIRST_PIXEL = 1
  SAMPLE_LAST_PIXEL = 2634
  SAMPLE_PROJECTION_OFFSET = 2013.875
  SECOND_STANDARD_PARALLEL = "N/A"
  WESTERNMOST_LONGITUDE = 229.137
END_OBJECT = IMAGE_MAP_PROJECTION
END
