PDS_VERSION_ID = PDS3
/* FILE DATA ELEMENTS */
RECORD_TYPE = UNDEFINED
/* POINTERS TO DATA OBJECTS */
^IMAGE = ("HA413_0000_S24.TIF")
/* IDENTIFICATION DATA ELEMENTS */
DATA_SET_ID = "MEX-M-HRSC-4-REFDR-MAPPROJECT-EXT3-V4.0"
DATA_SET_NAME = "MARS EXPRESS HRSC MAP PROJECTED REFDR EXTENSION3 V4.0"
DETECTOR_ID = MEX_HRSC_S2
EVENT_TYPE = "MARS-REGIONAL-MAPPING-Vo-Te-La"
INSTRUMENT_HOST_ID = MEX
INSTRUMENT_HOST_NAME = "MARS EXPRESS"
INSTRUMENT_ID = HRSC
INSTRUMENT_NAME = "HIGH RESOLUTION STEREO CAMERA"
MISSION_NAME = "MARS EXPRESS"
MISSION_PHASE_NAME = ME_Phase_25
PROCESSING_LEVEL_ID = 4
PRODUCT_CREATION_TIME = 2023-02-04T22:47:41.000Z
PRODUCT_ID = "HA413_0000_S24.TIF"
RELEASE_ID = 0008
REVISION_ID = 0000
/* QUALITY DATA ELEMENTS */
DATA_QUALITY_ID = 1
DATA_QUALITY_DESC = "Data calculated based on original SPICE kernels"
/* TIME DATA ELEMENTS */
SPACECRAFT_CLOCK_START_COUNT = "1/0278892150.09059"
SPACECRAFT_CLOCK_STOP_COUNT = "1/0278892402.32656"
START_TIME = 2012-03-03T22:02:33.692Z
STOP_TIME = 2012-03-03T22:05:26.783Z
/* ORBITAL DATA ELEMENTS */
ASCENDING_NODE_LONGITUDE = 18.53
MAXIMUM_RESOLUTION = 0.0292
FOOTPRINT_POINT_LATITUDE = (-11.7492,-11.7531,-11.7545,-11.7546, -11.7546,-11.757,-11.3283,-10.8989, -10.684,-10.4693,-10.2545,-10.0394, -9.6104,-9.39534,-9.18024,-8.85754, -8.64251,-8.42744,-7.99948,-7.78422, -7.56775,-7.35153,-7.13514,-6.91938, -6.70406,-6.489,-6.27273,-5.94894, -5.73382,-5.51861,-5.30277,-5.08739, -4.76384,-4.548,-4.18207,-3.79589, -3.53849,-3.28146,-3.02486,-2.76738, -2.51023,-2.12505,-1.74068,-1.48428, -1.22868,-0.845537,-0.462738,-0.335012, -0.315242,-0.31447,-0.312748,-0.30707, -0.30133,-0.301136,-0.301472,-0.558701, -0.944235,-1.20153,-1.5857,-1.84176, -2.09702,-2.35396,-2.61128,-2.99695, -3.25391,-3.51095,-3.76935,-4.02637, -4.28388,-4.52425,-4.73998,-4.95565, -5.17145,-5.49548,-5.71209,-6.03533, -6.35864,-6.57418,-6.78949,-7.00502, -7.22043,-7.43573,-7.65093,-7.86632, -8.18922,-8.40494,-8.62008,-8.83552, -9.05074,-9.26603,-9.48097,-9.69605, -10.0187,-10.3411,-10.5562,-10.7713, -11.2008,-11.6302,-11.7375,-11.7492)
FOOTPRINT_POINT_LONGITUDE = (219.787,219.323,218.99,218.572,218.56, 218.558,218.554,218.55,218.548,218.546, 218.544,218.542,218.537,218.535,218.533 ,218.529,218.526,218.524,218.519, 218.516,218.513,218.509,218.506,218.503 ,218.499,218.496,218.493,218.487, 218.484,218.481,218.477,218.473,218.468 ,218.464,218.457,218.45,218.445,218.44, 218.435,218.43,218.424,218.416,218.409, 218.403,218.398,218.39,218.382,218.379, 218.379,218.608,218.905,219.377,219.756 ,219.769,219.774,219.773,219.772, 219.772,219.772,219.771,219.772,219.771 ,219.771,219.771,219.771,219.771,219.77 ,219.77,219.77,219.77,219.77,219.771, 219.771,219.771,219.771,219.771,219.771 ,219.772,219.772,219.772,219.773, 219.773,219.774,219.774,219.775,219.775 ,219.776,219.776,219.777,219.777, 219.778,219.779,219.78,219.781,219.782, 219.782,219.784,219.785,219.786, 219.787)
ORBIT_NUMBER = 10413
ORBITAL_ECCENTRICITY = 0.578
ORBITAL_INCLINATION = 86.89
ORBITAL_SEMIMAJOR_AXIS = 8849.1
PERIAPSIS_ALTITUDE = 337.43
PERIAPSIS_ARGUMENT_ANGLE = 340.4
PERIAPSIS_TIME = 2012-03-03T22:01:05.000Z
SPACECRAFT_ORIENTATION = (0.0,1.0,0.0)
^MEX_ORIENTATION_DESC = "MEX_ORIENTATION_DESC.TXT"
SPACECRAFT_POINTING_MODE = NADIR
^MEX_POINTING_DESC = "MEX_POINTING_DESC.TXT"
RIGHT_ASCENSION = -1e+32
DECLINATION = -1e+32
OFFSET_ANGLE = -1e+32
SPACECRAFT_SOLAR_DISTANCE = 2.49011e+08
TARGET_NAME = MARS
/* CAMERA DATA ELEMENTS */
DETECTOR_TEMPERATURE = 19.39
FOCAL_PLANE_TEMPERATURE = 9.8067
INST_CMPRS_NAME = "DISCRETE COSINE TRANSFORMATION (DCT)"
INST_CMPRS_RATIO = 9.65879
INST_CMPRS_QUALITY = 0
INST_CMPRS_QUANTZ_TBL_ID = 0
INSTRUMENT_TEMPERATURE = 13.0691
LENS_TEMPERATURE = 8.7872
MACROPIXEL_SIZE = 2
MISSING_FRAMES = 0
PIXEL_SUBSAMPLING_FLAG = N
SIGNAL_CHAIN_ID = 1
/* RADIOMETRIC DATA ELEMENTS */
BANDWIDTH = 178.0
CENTER_FILTER_WAVELENGTH = 679.0
RADIANCE_OFFSET = 0.744115
RADIANCE_SCALING_FACTOR = 0.0113357
REFLECTANCE_SCALING_FACTOR = 0.000372233
MEX:REFLECTANCE_OFFSET = 0.0244347
/* IMAGE OBJECT DEFINITIONS */
OBJECT = IMAGE
  INTERCHANGE_FORMAT = BINARY
  LINES = 27148
  LINE_SAMPLES = 3428
  SAMPLE_TYPE = UNSIGNED_INTEGER
  SAMPLE_BITS = 8
  BANDS = 1
  BAND_STORAGE_TYPE = BAND_SEQUENTIAL
  MAXIMUM = 255
  MEAN = 96.8555
  MINIMUM = 1
  STANDARD_DEVIATION = 25.1574
END_OBJECT = IMAGE
/* MAP OBJECT DEFINITIONS */
OBJECT = IMAGE_MAP_PROJECTION
  ^DATA_SET_MAP_PROJECTION_CATALOG= "DSMAP.CAT"
  A_AXIS_RADIUS = 3396.0
  B_AXIS_RADIUS = 3396.0
  C_AXIS_RADIUS = 3396.0
  CENTER_LATITUDE = 0.0
  CENTER_LONGITUDE = 219.0
  COORDINATE_SYSTEM_NAME = PLANETOGRAPHIC
  COORDINATE_SYSTEM_TYPE = "BODY-FIXED ROTATING"
  EASTERNMOST_LONGITUDE = 219.787
  FIRST_STANDARD_PARALLEL = "N/A"
  LINE_FIRST_PIXEL = 1
  LINE_LAST_PIXEL = 27148
  LINE_PROJECTION_OFFSET = -735.75
  MAP_PROJECTION_ROTATION = 0.0
  MAP_PROJECTION_TYPE = SINUSOIDAL
  MAP_RESOLUTION = 2370.85521546667
  MAP_SCALE = 0.025
  MAXIMUM_LATITUDE = -0.301136
  MINIMUM_LATITUDE = -11.757
  POSITIVE_LONGITUDE_DIRECTION = EAST
  REFERENCE_LATITUDE = "N/A"
  REFERENCE_LONGITUDE = "N/A"
  SAMPLE_FIRST_PIXEL = 1
  SAMPLE_LAST_PIXEL = 3428
  SAMPLE_PROJECTION_OFFSET = 1531.75
  SECOND_STANDARD_PARALLEL = "N/A"
  WESTERNMOST_LONGITUDE = 218.379
END_OBJECT = IMAGE_MAP_PROJECTION
END
