PDS_VERSION_ID = PDS3
/* FILE DATA ELEMENTS */
RECORD_TYPE = UNDEFINED
/* POINTERS TO DATA OBJECTS */
^IMAGE = ("HA407_0000_P24.TIF")
/* IDENTIFICATION DATA ELEMENTS */
DATA_SET_ID = "MEX-M-HRSC-4-REFDR-MAPPROJECT-EXT3-V4.0"
DATA_SET_NAME = "MARS EXPRESS HRSC MAP PROJECTED REFDR EXTENSION3 V4.0"
DETECTOR_ID = MEX_HRSC_P2
EVENT_TYPE = "MARS-REGIONAL-MAPPING-Vo-Im-Lc"
INSTRUMENT_HOST_ID = MEX
INSTRUMENT_HOST_NAME = "MARS EXPRESS"
INSTRUMENT_ID = HRSC
INSTRUMENT_NAME = "HIGH RESOLUTION STEREO CAMERA"
MISSION_NAME = "MARS EXPRESS"
MISSION_PHASE_NAME = ME_Phase_25
PROCESSING_LEVEL_ID = 4
PRODUCT_CREATION_TIME = 2023-02-04T22:47:41.000Z
PRODUCT_ID = "HA407_0000_P24.TIF"
RELEASE_ID = 0008
REVISION_ID = 0000
/* QUALITY DATA ELEMENTS */
DATA_QUALITY_ID = 1
DATA_QUALITY_DESC = "Data calculated based on original SPICE kernels"
/* TIME DATA ELEMENTS */
SPACECRAFT_CLOCK_START_COUNT = "1/0278741398.09033"
SPACECRAFT_CLOCK_STOP_COUNT = "1/0278741723.40484"
START_TIME = 2012-03-02T04:10:17.070Z
STOP_TIME = 2012-03-02T04:13:16.224Z
/* ORBITAL DATA ELEMENTS */
ASCENDING_NODE_LONGITUDE = 18.63
MAXIMUM_RESOLUTION = 0.0408
FOOTPRINT_POINT_LATITUDE = (10.4236,10.4203,10.4157,10.4098, 10.4068,10.4033,10.4031,10.4134,10.9047 ,11.3006,11.7997,12.3054,12.7124, 13.1252,13.332,13.5384,13.7503,14.0643, 14.2746,14.4884,14.7026,14.9166,15.1328 ,15.3505,15.6764,15.8972,16.1186, 16.3397,16.5631,16.7874,17.0113,17.2388 ,17.4663,17.6937,17.9244,18.1551, 18.3868,18.6212,18.8551,19.0909,19.3284 ,19.5657,19.8068,20.1677,20.4118, 20.6555,21.025,21.2719,21.3962,21.4104, 21.4146,21.4197,21.4237,21.4287,21.4318 ,21.4352,21.4374,21.4376,21.4369, 21.0653,20.6951,20.4513,20.0869,19.8463 ,19.6052,19.3678,19.1301,18.7768, 18.5427,18.3089,18.0779,17.8467,17.5034 ,17.2755,17.048,16.8245,16.5997,16.3764 ,16.1555,15.9341,15.7135,15.4955, 15.2783,14.9524,14.6313,14.4169,14.2044 ,13.9939,13.7835,13.5728,13.366,13.1586 ,12.7457,12.3382,11.9326,11.5331,11.134 ,10.5435,10.4451,10.4236)
FOOTPRINT_POINT_LONGITUDE = (113.554,113.299,112.925,112.416, 112.145,111.822,111.805,111.795,111.777 ,111.763,111.744,111.725,111.71,111.694 ,111.686,111.678,111.669,111.657, 111.648,111.64,111.631,111.622,111.613, 111.604,111.59,111.58,111.571,111.561, 111.551,111.541,111.531,111.521,111.511 ,111.501,111.49,111.48,111.469,111.458, 111.447,111.436,111.425,111.413,111.402 ,111.384,111.372,111.36,111.342,111.329 ,111.323,111.322,111.629,112.055,112.41 ,112.859,113.143,113.497,113.735, 113.758,113.767,113.757,113.747,113.741 ,113.731,113.725,113.719,113.714, 113.708,113.7,113.695,113.689,113.684, 113.679,113.672,113.667,113.662,113.658 ,113.653,113.649,113.645,113.641, 113.637,113.632,113.629,113.623,113.617 ,113.614,113.61,113.607,113.604,113.6, 113.597,113.594,113.588,113.582,113.577 ,113.572,113.567,113.559,113.558, 113.554)
ORBIT_NUMBER = 10407
ORBITAL_ECCENTRICITY = 0.578
ORBITAL_INCLINATION = 86.87
ORBITAL_SEMIMAJOR_AXIS = 8852.87
PERIAPSIS_ALTITUDE = 337.78
PERIAPSIS_ARGUMENT_ANGLE = 341.45
PERIAPSIS_TIME = 2012-03-02T04:03:12.000Z
SPACECRAFT_ORIENTATION = (0.0,1.0,0.0)
^MEX_ORIENTATION_DESC = "MEX_ORIENTATION_DESC.TXT"
SPACECRAFT_POINTING_MODE = NADIR
^MEX_POINTING_DESC = "MEX_POINTING_DESC.TXT"
RIGHT_ASCENSION = -1e+32
DECLINATION = -1e+32
OFFSET_ANGLE = -1e+32
SPACECRAFT_SOLAR_DISTANCE = 2.49053e+08
TARGET_NAME = MARS
/* CAMERA DATA ELEMENTS */
DETECTOR_TEMPERATURE = 19.39
FOCAL_PLANE_TEMPERATURE = 10.0106
INST_CMPRS_NAME = "DISCRETE COSINE TRANSFORMATION (DCT)"
INST_CMPRS_RATIO = 7.98033
INST_CMPRS_QUALITY = 0
INST_CMPRS_QUANTZ_TBL_ID = 0
INSTRUMENT_TEMPERATURE = 13.273
LENS_TEMPERATURE = 10.4184
MACROPIXEL_SIZE = 2
MISSING_FRAMES = 0
PIXEL_SUBSAMPLING_FLAG = N
SIGNAL_CHAIN_ID = 3
/* RADIOMETRIC DATA ELEMENTS */
BANDWIDTH = 177.0
CENTER_FILTER_WAVELENGTH = 676.5
RADIANCE_OFFSET = 1.58595
RADIANCE_SCALING_FACTOR = 0.00937419
REFLECTANCE_SCALING_FACTOR = 0.000308301
MEX:REFLECTANCE_OFFSET = 0.0521592
/* IMAGE OBJECT DEFINITIONS */
OBJECT = IMAGE
  INTERCHANGE_FORMAT = BINARY
  LINES = 13034
  LINE_SAMPLES = 2861
  SAMPLE_TYPE = UNSIGNED_INTEGER
  SAMPLE_BITS = 8
  BANDS = 1
  BAND_STORAGE_TYPE = BAND_SEQUENTIAL
  MAXIMUM = 255
  MEAN = 100.624
  MINIMUM = 1
  STANDARD_DEVIATION = 20.6208
END_OBJECT = IMAGE
/* MAP OBJECT DEFINITIONS */
OBJECT = IMAGE_MAP_PROJECTION
  ^DATA_SET_MAP_PROJECTION_CATALOG= "DSMAP.CAT"
  A_AXIS_RADIUS = 3396.0
  B_AXIS_RADIUS = 3396.0
  C_AXIS_RADIUS = 3396.0
  CENTER_LATITUDE = 0.0
  CENTER_LONGITUDE = 113.0
  COORDINATE_SYSTEM_NAME = PLANETOGRAPHIC
  COORDINATE_SYSTEM_TYPE = "BODY-FIXED ROTATING"
  EASTERNMOST_LONGITUDE = 113.767
  FIRST_STANDARD_PARALLEL = "N/A"
  LINE_FIRST_PIXEL = 1
  LINE_LAST_PIXEL = 13034
  LINE_PROJECTION_OFFSET = 25371.25
  MAP_PROJECTION_ROTATION = 0.0
  MAP_PROJECTION_TYPE = SINUSOIDAL
  MAP_RESOLUTION = 1185.42760773333
  MAP_SCALE = 0.05
  MAXIMUM_LATITUDE = 21.4376
  MINIMUM_LATITUDE = 10.4031
  POSITIVE_LONGITUDE_DIRECTION = EAST
  REFERENCE_LATITUDE = "N/A"
  REFERENCE_LONGITUDE = "N/A"
  SAMPLE_FIRST_PIXEL = 1
  SAMPLE_LAST_PIXEL = 2861
  SAMPLE_PROJECTION_OFFSET = 1929.25
  SECOND_STANDARD_PARALLEL = "N/A"
  WESTERNMOST_LONGITUDE = 111.322
END_OBJECT = IMAGE_MAP_PROJECTION
END
