PDS_VERSION_ID = PDS3
/* FILE DATA ELEMENTS */
RECORD_TYPE = UNDEFINED
/* POINTERS TO DATA OBJECTS */
^IMAGE = ("HA405_0000_GR4.TIF")
/* IDENTIFICATION DATA ELEMENTS */
DATA_SET_ID = "MEX-M-HRSC-4-REFDR-MAPPROJECT-EXT3-V4.0"
DATA_SET_NAME = "MARS EXPRESS HRSC MAP PROJECTED REFDR EXTENSION3 V4.0"
DETECTOR_ID = MEX_HRSC_GREEN
EVENT_TYPE = "MARS-CLOUD-VARIABLE-At"
INSTRUMENT_HOST_ID = MEX
INSTRUMENT_HOST_NAME = "MARS EXPRESS"
INSTRUMENT_ID = HRSC
INSTRUMENT_NAME = "HIGH RESOLUTION STEREO CAMERA"
MISSION_NAME = "MARS EXPRESS"
MISSION_PHASE_NAME = ME_Phase_25
PROCESSING_LEVEL_ID = 4
PRODUCT_CREATION_TIME = 2023-02-04T22:47:41.000Z
PRODUCT_ID = "HA405_0000_GR4.TIF"
RELEASE_ID = 0008
REVISION_ID = 0000
/* QUALITY DATA ELEMENTS */
DATA_QUALITY_ID = 1
DATA_QUALITY_DESC = "Data calculated based on original SPICE kernels"
/* TIME DATA ELEMENTS */
SPACECRAFT_CLOCK_START_COUNT = "1/0278690582.09041"
SPACECRAFT_CLOCK_STOP_COUNT = "1/0278691364.17952"
START_TIME = 2012-03-01T14:03:41.575Z
STOP_TIME = 2012-03-01T14:14:53.745Z
/* ORBITAL DATA ELEMENTS */
ASCENDING_NODE_LONGITUDE = 18.68
MAXIMUM_RESOLUTION = 0.1081
FOOTPRINT_POINT_LATITUDE = (-19.2002,-19.2008,-19.2008,-19.2005, -18.3263,-17.4515,-16.5785,-15.7089, -14.8361,-13.9644,-13.0884,-12.2196, -11.3529,-10.0526,-8.76047,-7.89428, -7.03456,-6.17746,-5.32255,-4.47035, -3.62048,-2.77336,-1.92896,-1.09005, -0.249159,0.586059,1.4177,2.24552, 3.06873,4.30069,5.1171,5.92936,6.73763, 7.54152,8.34124,9.13662,9.92797,10.7151 ,11.4977,12.276,13.0498,13.8191,14.5837 ,15.3435,16.0986,16.8489,18.3339, 19.8015,21.2483,21.6069,21.6807,21.6927 ,21.7034,21.7035,21.7021,20.2613, 18.8005,17.3197,15.8194,15.0619,14.3004 ,13.5336,12.7624,11.9865,11.2055, 10.4207,9.63203,8.83816,8.03877,7.23655 ,6.43263,5.62257,4.80861,3.99085, 3.16944,2.34428,1.51575,0.683079, -0.152073,-0.990641,-1.83232,-2.67643, -3.52381,-4.37434,-5.22573,-6.08127, -6.93905,-7.79914,-9.09297,-10.3899, -11.2568,-12.1274,-13.4359,-14.3076, -15.1802,-16.4873,-17.3618,-18.6737, -19.1115,-19.2002)
FOOTPRINT_POINT_LONGITUDE = (318.124,316.911,316.9,316.891,316.893, 316.894,316.892,316.883,316.881,316.877 ,316.882,316.875,316.865,316.854, 316.832,316.829,316.818,316.804,316.79, 316.775,316.758,316.741,316.724,316.7, 316.686,316.666,316.644,316.621,316.595 ,316.562,316.538,316.514,316.488, 316.461,316.433,316.404,316.375,316.345 ,316.315,316.284,316.252,316.22,316.186 ,316.152,316.118,316.083,316.008, 315.935,315.857,315.837,315.833,316.64, 318.407,318.432,318.448,318.401,318.359 ,318.32,318.285,318.269,318.252,318.237 ,318.223,318.21,318.198,318.186,318.174 ,318.164,318.158,318.149,318.137, 318.129,318.122,318.116,318.11,318.105, 318.1,318.097,318.093,318.09,318.088, 318.085,318.084,318.084,318.08,318.081, 318.082,318.083,318.086,318.088,318.09, 318.097,318.108,318.111,318.115,318.114 ,318.119,318.124,318.127,318.124)
ORBIT_NUMBER = 10405
ORBITAL_ECCENTRICITY = 0.578
ORBITAL_INCLINATION = 86.89
ORBITAL_SEMIMAJOR_AXIS = 8845.59
PERIAPSIS_ALTITUDE = 338.38
PERIAPSIS_ARGUMENT_ANGLE = 341.82
PERIAPSIS_TIME = 2012-03-01T14:03:53.000Z
SPACECRAFT_ORIENTATION = (0.0,1.0,0.0)
^MEX_ORIENTATION_DESC = "MEX_ORIENTATION_DESC.TXT"
SPACECRAFT_POINTING_MODE = NADIR
^MEX_POINTING_DESC = "MEX_POINTING_DESC.TXT"
RIGHT_ASCENSION = -1e+32
DECLINATION = -1e+32
OFFSET_ANGLE = -1e+32
SPACECRAFT_SOLAR_DISTANCE = 2.49066e+08
TARGET_NAME = MARS
/* CAMERA DATA ELEMENTS */
DETECTOR_TEMPERATURE = 18.5744
FOCAL_PLANE_TEMPERATURE = 9.3989
INST_CMPRS_NAME = "DISCRETE COSINE TRANSFORMATION (DCT)"
INST_CMPRS_RATIO = 21.5276
INST_CMPRS_QUALITY = 0
INST_CMPRS_QUANTZ_TBL_ID = 0
INSTRUMENT_TEMPERATURE = 12.6613
LENS_TEMPERATURE = 9.8067
MACROPIXEL_SIZE = 8
MISSING_FRAMES = 0
PIXEL_SUBSAMPLING_FLAG = N
SIGNAL_CHAIN_ID = 2
/* RADIOMETRIC DATA ELEMENTS */
BANDWIDTH = 88.0
CENTER_FILTER_WAVELENGTH = 538.0
RADIANCE_OFFSET = 0.0917316
RADIANCE_SCALING_FACTOR = 0.0045566
REFLECTANCE_SCALING_FACTOR = 0.000243367
MEX:REFLECTANCE_OFFSET = 0.00489935
/* IMAGE OBJECT DEFINITIONS */
OBJECT = IMAGE
  INTERCHANGE_FORMAT = BINARY
  LINES = 24259
  LINE_SAMPLES = 1425
  SAMPLE_TYPE = UNSIGNED_INTEGER
  SAMPLE_BITS = 8
  BANDS = 1
  BAND_STORAGE_TYPE = BAND_SEQUENTIAL
  MAXIMUM = 255
  MEAN = 116.172
  MINIMUM = 1
  STANDARD_DEVIATION = 52.5728
END_OBJECT = IMAGE
/* MAP OBJECT DEFINITIONS */
OBJECT = IMAGE_MAP_PROJECTION
  ^DATA_SET_MAP_PROJECTION_CATALOG= "DSMAP.CAT"
  A_AXIS_RADIUS = 3396.0
  B_AXIS_RADIUS = 3396.0
  C_AXIS_RADIUS = 3396.0
  CENTER_LATITUDE = 0.0
  CENTER_LONGITUDE = 317.0
  COORDINATE_SYSTEM_NAME = PLANETOGRAPHIC
  COORDINATE_SYSTEM_TYPE = "BODY-FIXED ROTATING"
  EASTERNMOST_LONGITUDE = 318.448
  FIRST_STANDARD_PARALLEL = "N/A"
  LINE_FIRST_PIXEL = 1
  LINE_LAST_PIXEL = 24259
  LINE_PROJECTION_OFFSET = 12872.25
  MAP_PROJECTION_ROTATION = 0.0
  MAP_PROJECTION_TYPE = SINUSOIDAL
  MAP_RESOLUTION = 592.713803866667
  MAP_SCALE = 0.1
  MAXIMUM_LATITUDE = 21.7035
  MINIMUM_LATITUDE = -19.2008
  POSITIVE_LONGITUDE_DIRECTION = EAST
  REFERENCE_LATITUDE = "N/A"
  REFERENCE_LONGITUDE = "N/A"
  SAMPLE_FIRST_PIXEL = 1
  SAMPLE_LAST_PIXEL = 1425
  SAMPLE_PROJECTION_OFFSET = 639.75
  SECOND_STANDARD_PARALLEL = "N/A"
  WESTERNMOST_LONGITUDE = 315.833
END_OBJECT = IMAGE_MAP_PROJECTION
END
