PDS_VERSION_ID = PDS3
/* FILE DATA ELEMENTS */
RECORD_TYPE = UNDEFINED
/* POINTERS TO DATA OBJECTS */
^IMAGE = ("HA397_0000_BL4.TIF")
/* IDENTIFICATION DATA ELEMENTS */
DATA_SET_ID = "MEX-M-HRSC-4-REFDR-MAPPROJECT-EXT3-V4.0"
DATA_SET_NAME = "MARS EXPRESS HRSC MAP PROJECTED REFDR EXTENSION3 V4.0"
DETECTOR_ID = MEX_HRSC_BLUE
EVENT_TYPE = "MARS-REGIONAL-MAPPING-Im-Fl"
INSTRUMENT_HOST_ID = MEX
INSTRUMENT_HOST_NAME = "MARS EXPRESS"
INSTRUMENT_ID = HRSC
INSTRUMENT_NAME = "HIGH RESOLUTION STEREO CAMERA"
MISSION_NAME = "MARS EXPRESS"
MISSION_PHASE_NAME = ME_Phase_25
PROCESSING_LEVEL_ID = 4
PRODUCT_CREATION_TIME = 2023-02-04T22:47:41.000Z
PRODUCT_ID = "HA397_0000_BL4.TIF"
RELEASE_ID = 0008
REVISION_ID = 0000
/* QUALITY DATA ELEMENTS */
DATA_QUALITY_ID = 1
DATA_QUALITY_DESC = "Data calculated based on original SPICE kernels"
/* TIME DATA ELEMENTS */
SPACECRAFT_CLOCK_START_COUNT = "1/0278489517.07307"
SPACECRAFT_CLOCK_STOP_COUNT = "1/0278489792.16484"
START_TIME = 2012-02-28T06:12:41.052Z
STOP_TIME = 2012-02-28T06:15:22.902Z
/* ORBITAL DATA ELEMENTS */
ASCENDING_NODE_LONGITUDE = 18.83
MAXIMUM_RESOLUTION = 0.0829
FOOTPRINT_POINT_LATITUDE = (10.7544,10.781,10.8001,10.8153,10.8359 ,10.8532,10.8542,10.845,11.2723,11.6981 ,12.2511,12.6955,13.1461,13.4908, 13.8466,14.0832,14.4375,14.6678,15.0279 ,15.3939,15.641,16.0166,16.2711,16.5236 ,16.7817,17.0438,17.4429,17.8477, 18.1177,18.3933,18.673,18.9574,19.2606, 19.5446,19.8373,20.2641,20.5663,20.8756 ,21.1819,21.4923,21.8064,22.1249, 22.4477,22.7754,23.1082,23.4439,23.9583 ,24.1322,24.2087,24.1856,24.1582,24.141 ,24.1189,24.0963,24.0803,24.0609, 24.0402,24.04,24.0371,23.6951,23.3537, 22.8407,22.5104,22.1857,21.862,21.5482, 21.2407,20.7786,20.4801,20.1759,19.884, 19.5969,19.1698,18.886,18.4714,18.1946, 17.9213,17.6477,17.2521,16.9866,16.7252 ,16.4631,16.2074,15.9544,15.7078, 15.4596,15.0909,14.8492,14.4866,14.2504 ,14.0151,13.7793,13.5488,13.2041, 12.8638,12.3041,11.5351,10.9002,10.795, 10.7544)
FOOTPRINT_POINT_LONGITUDE = (56.8,56.2697,55.9107,55.6374,55.2785, 54.9875,54.9704,54.968,54.9579,54.9484, 54.9347,54.9241,54.9132,54.9048,54.8947 ,54.8886,54.8798,54.875,54.8662,54.8568 ,54.8505,54.8406,54.8338,54.8273, 54.8205,54.8132,54.8019,54.7903,54.783, 54.775,54.7669,54.7582,54.7473,54.7393, 54.7305,54.7193,54.7099,54.6998,54.6904 ,54.6808,54.6709,54.661,54.6506,54.64, 54.6291,54.6182,54.601,54.5951,54.5926, 54.8868,55.2367,55.5047,55.8794,56.2811 ,56.6028,57.0051,57.4347,57.4618, 57.4706,57.4464,57.4216,57.3835,57.3606 ,57.339,57.3168,57.297,57.2784,57.2495, 57.2324,57.2131,57.1968,57.1813,57.1582 ,57.1428,57.1215,57.1068,57.0925, 57.0781,57.0593,57.046,57.0332,57.0203, 57.0081,56.9968,56.9868,56.9758,56.96, 56.9499,56.9347,56.9251,56.9158,56.9064 ,56.8974,56.8843,56.8714,56.851,56.823, 56.8031,56.8,56.8)
ORBIT_NUMBER = 10397
ORBITAL_ECCENTRICITY = 0.578
ORBITAL_INCLINATION = 86.89
ORBITAL_SEMIMAJOR_AXIS = 8854.88
PERIAPSIS_ALTITUDE = 338.39
PERIAPSIS_ARGUMENT_ANGLE = 343.21
PERIAPSIS_TIME = 2012-02-28T06:06:32.000Z
SPACECRAFT_ORIENTATION = (0.0,1.0,0.0)
^MEX_ORIENTATION_DESC = "MEX_ORIENTATION_DESC.TXT"
SPACECRAFT_POINTING_MODE = INERT
^MEX_POINTING_DESC = "MEX_POINTING_DESC.TXT"
RIGHT_ASCENSION = 251.784
DECLINATION = 2.973
OFFSET_ANGLE = -1e+32
SPACECRAFT_SOLAR_DISTANCE = 2.49113e+08
TARGET_NAME = MARS
/* CAMERA DATA ELEMENTS */
DETECTOR_TEMPERATURE = 18.9822
FOCAL_PLANE_TEMPERATURE = 9.3989
INST_CMPRS_NAME = "DISCRETE COSINE TRANSFORMATION (DCT)"
INST_CMPRS_RATIO = 5.84315
INST_CMPRS_QUALITY = 0
INST_CMPRS_QUANTZ_TBL_ID = 0
INSTRUMENT_TEMPERATURE = 12.6613
LENS_TEMPERATURE = 9.8067
MACROPIXEL_SIZE = 4
MISSING_FRAMES = 0
PIXEL_SUBSAMPLING_FLAG = N
SIGNAL_CHAIN_ID = 2
/* RADIOMETRIC DATA ELEMENTS */
BANDWIDTH = 76.0
CENTER_FILTER_WAVELENGTH = 444.0
RADIANCE_OFFSET = 0.342893
RADIANCE_SCALING_FACTOR = 0.00155034
REFLECTANCE_SCALING_FACTOR = 9.88501e-05
MEX:REFLECTANCE_OFFSET = 0.021863
/* IMAGE OBJECT DEFINITIONS */
OBJECT = IMAGE
  INTERCHANGE_FORMAT = BINARY
  LINES = 7979
  LINE_SAMPLES = 1531
  SAMPLE_TYPE = UNSIGNED_INTEGER
  SAMPLE_BITS = 8
  BANDS = 1
  BAND_STORAGE_TYPE = BAND_SEQUENTIAL
  MAXIMUM = 255
  MEAN = 132.588
  MINIMUM = 1
  STANDARD_DEVIATION = 32.3023
END_OBJECT = IMAGE
/* MAP OBJECT DEFINITIONS */
OBJECT = IMAGE_MAP_PROJECTION
  ^DATA_SET_MAP_PROJECTION_CATALOG= "DSMAP.CAT"
  A_AXIS_RADIUS = 3396.0
  B_AXIS_RADIUS = 3396.0
  C_AXIS_RADIUS = 3396.0
  CENTER_LATITUDE = 0.0
  CENTER_LONGITUDE = 56.0
  COORDINATE_SYSTEM_NAME = PLANETOGRAPHIC
  COORDINATE_SYSTEM_TYPE = "BODY-FIXED ROTATING"
  EASTERNMOST_LONGITUDE = 57.4706
  FIRST_STANDARD_PARALLEL = "N/A"
  LINE_FIRST_PIXEL = 1
  LINE_LAST_PIXEL = 7979
  LINE_PROJECTION_OFFSET = 14338.875
  MAP_PROJECTION_ROTATION = 0.0
  MAP_PROJECTION_TYPE = SINUSOIDAL
  MAP_RESOLUTION = 592.713803866667
  MAP_SCALE = 0.1
  MAXIMUM_LATITUDE = 24.2087
  MINIMUM_LATITUDE = 10.7544
  POSITIVE_LONGITUDE_DIRECTION = EAST
  REFERENCE_LATITUDE = "N/A"
  REFERENCE_LONGITUDE = "N/A"
  SAMPLE_FIRST_PIXEL = 1
  SAMPLE_LAST_PIXEL = 1531
  SAMPLE_PROJECTION_OFFSET = 777.875
  SECOND_STANDARD_PARALLEL = "N/A"
  WESTERNMOST_LONGITUDE = 54.5926
END_OBJECT = IMAGE_MAP_PROJECTION
END
