PDS_VERSION_ID = PDS3
/* FILE DATA ELEMENTS */
RECORD_TYPE = UNDEFINED
/* POINTERS TO DATA OBJECTS */
^IMAGE = ("HA396_0000_S24.TIF")
/* IDENTIFICATION DATA ELEMENTS */
DATA_SET_ID = "MEX-M-HRSC-4-REFDR-MAPPROJECT-EXT3-V4.0"
DATA_SET_NAME = "MARS EXPRESS HRSC MAP PROJECTED REFDR EXTENSION3 V4.0"
DETECTOR_ID = MEX_HRSC_S2
EVENT_TYPE = "MARS-REGIONAL-MAPPING-Vo-Te"
INSTRUMENT_HOST_ID = MEX
INSTRUMENT_HOST_NAME = "MARS EXPRESS"
INSTRUMENT_ID = HRSC
INSTRUMENT_NAME = "HIGH RESOLUTION STEREO CAMERA"
MISSION_NAME = "MARS EXPRESS"
MISSION_PHASE_NAME = ME_Phase_25
PROCESSING_LEVEL_ID = 4
PRODUCT_CREATION_TIME = 2023-02-04T22:47:41.000Z
PRODUCT_ID = "HA396_0000_S24.TIF"
RELEASE_ID = 0008
REVISION_ID = 0000
/* QUALITY DATA ELEMENTS */
DATA_QUALITY_ID = 1
DATA_QUALITY_DESC = "Data calculated based on original SPICE kernels"
/* TIME DATA ELEMENTS */
SPACECRAFT_CLOCK_START_COUNT = "1/0278464466.09038"
SPACECRAFT_CLOCK_STOP_COUNT = "1/0278464838.25803"
START_TIME = 2012-02-27T23:14:29.666Z
STOP_TIME = 2012-02-27T23:17:43.503Z
/* ORBITAL DATA ELEMENTS */
ASCENDING_NODE_LONGITUDE = 18.84
MAXIMUM_RESOLUTION = 0.0444
FOOTPRINT_POINT_LATITUDE = (15.2763,15.2729,15.2694,15.2654, 15.2624,15.2597,15.2567,15.2565,15.2818 ,15.7191,16.1615,16.6084,16.9462, 17.4011,17.9762,18.5584,19.0316,19.5081 ,19.7485,19.9888,20.3553,20.5995, 20.9709,21.2187,21.5954,21.8474,22.0989 ,22.3499,22.6012,22.9774,23.2277, 23.4777,23.7275,23.9766,24.2257,24.4745 ,24.7231,24.9716,25.2197,25.4677, 25.7154,25.9625,26.2094,26.4557,26.7019 ,26.9478,27.1934,27.3161,27.3798, 27.3832,27.3884,27.3932,27.3958,27.3992 ,27.4025,27.4055,27.4057,27.4047,27.16, 26.9138,26.6676,26.2983,25.9282,25.681, 25.4333,25.1856,24.9375,24.6889,24.4403 ,24.1914,23.9419,23.6925,23.4426,23.192 ,22.9415,22.6911,22.3144,22.063,21.8111 ,21.5588,21.3074,20.9353,20.6869, 20.4426,20.198,19.9546,19.7135,19.4732, 19.1153,18.8785,18.5244,18.0582,17.7113 ,17.1385,16.6879,16.3507,15.9079, 15.4673,15.3586,15.2763)
FOOTPRINT_POINT_LONGITUDE = (158.776,158.503,158.211,157.846, 157.555,157.263,156.916,156.897,156.884 ,156.867,156.85,156.833,156.819,156.801 ,156.778,156.753,156.733,156.713, 156.703,156.692,156.676,156.665,156.648 ,156.637,156.62,156.608,156.596,156.585 ,156.573,156.555,156.542,156.53,156.518 ,156.506,156.493,156.481,156.468, 156.455,156.442,156.429,156.416,156.403 ,156.39,156.377,156.364,156.35,156.337, 156.33,156.326,156.674,157.181,157.662, 157.929,158.33,158.705,159.053,159.079, 159.089,159.08,159.071,159.062,159.049, 159.036,159.028,159.019,159.011,159.003 ,158.995,158.988,158.98,158.973,158.965 ,158.958,158.951,158.944,158.937, 158.927,158.92,158.914,158.907,158.901, 158.892,158.886,158.881,158.875,158.87, 158.864,158.859,158.852,158.847,158.84, 158.831,158.824,158.814,158.806,158.801 ,158.794,158.787,158.785,158.776)
ORBIT_NUMBER = 10396
ORBITAL_ECCENTRICITY = 0.578
ORBITAL_INCLINATION = 86.88
ORBITAL_SEMIMAJOR_AXIS = 8848.58
PERIAPSIS_ALTITUDE = 339.28
PERIAPSIS_ARGUMENT_ANGLE = 343.4
PERIAPSIS_TIME = 2012-02-27T23:06:54.000Z
SPACECRAFT_ORIENTATION = (0.0,1.0,0.0)
^MEX_ORIENTATION_DESC = "MEX_ORIENTATION_DESC.TXT"
SPACECRAFT_POINTING_MODE = NADIR
^MEX_POINTING_DESC = "MEX_POINTING_DESC.TXT"
RIGHT_ASCENSION = -1e+32
DECLINATION = -1e+32
OFFSET_ANGLE = -1e+32
SPACECRAFT_SOLAR_DISTANCE = 2.49119e+08
TARGET_NAME = MARS
/* CAMERA DATA ELEMENTS */
DETECTOR_TEMPERATURE = 19.39
FOCAL_PLANE_TEMPERATURE = 9.8067
INST_CMPRS_NAME = "DISCRETE COSINE TRANSFORMATION (DCT)"
INST_CMPRS_RATIO = 12.2806
INST_CMPRS_QUALITY = 0
INST_CMPRS_QUANTZ_TBL_ID = 0
INSTRUMENT_TEMPERATURE = 12.8652
LENS_TEMPERATURE = 10.4184
MACROPIXEL_SIZE = 2
MISSING_FRAMES = 0
PIXEL_SUBSAMPLING_FLAG = N
SIGNAL_CHAIN_ID = 1
/* RADIOMETRIC DATA ELEMENTS */
BANDWIDTH = 178.0
CENTER_FILTER_WAVELENGTH = 679.0
RADIANCE_OFFSET = 1.64496
RADIANCE_SCALING_FACTOR = 0.0148076
REFLECTANCE_SCALING_FACTOR = 0.000486662
MEX:REFLECTANCE_OFFSET = 0.0540628
/* IMAGE OBJECT DEFINITIONS */
OBJECT = IMAGE
  INTERCHANGE_FORMAT = BINARY
  LINES = 14365
  LINE_SAMPLES = 3194
  SAMPLE_TYPE = UNSIGNED_INTEGER
  SAMPLE_BITS = 8
  BANDS = 1
  BAND_STORAGE_TYPE = BAND_SEQUENTIAL
  MAXIMUM = 255
  MEAN = 64.593
  MINIMUM = 1
  STANDARD_DEVIATION = 14.8396
END_OBJECT = IMAGE
/* MAP OBJECT DEFINITIONS */
OBJECT = IMAGE_MAP_PROJECTION
  ^DATA_SET_MAP_PROJECTION_CATALOG= "DSMAP.CAT"
  A_AXIS_RADIUS = 3396.0
  B_AXIS_RADIUS = 3396.0
  C_AXIS_RADIUS = 3396.0
  CENTER_LATITUDE = 0.0
  CENTER_LONGITUDE = 158.0
  COORDINATE_SYSTEM_NAME = PLANETOGRAPHIC
  COORDINATE_SYSTEM_TYPE = "BODY-FIXED ROTATING"
  EASTERNMOST_LONGITUDE = 159.089
  FIRST_STANDARD_PARALLEL = "N/A"
  LINE_FIRST_PIXEL = 1
  LINE_LAST_PIXEL = 14365
  LINE_PROJECTION_OFFSET = 32446.75
  MAP_PROJECTION_ROTATION = 0.0
  MAP_PROJECTION_TYPE = SINUSOIDAL
  MAP_RESOLUTION = 1185.42760773333
  MAP_SCALE = 0.05
  MAXIMUM_LATITUDE = 27.4057
  MINIMUM_LATITUDE = 15.2565
  POSITIVE_LONGITUDE_DIRECTION = EAST
  REFERENCE_LATITUDE = "N/A"
  REFERENCE_LONGITUDE = "N/A"
  SAMPLE_FIRST_PIXEL = 1
  SAMPLE_LAST_PIXEL = 3194
  SAMPLE_PROJECTION_OFFSET = 1896.75
  SECOND_STANDARD_PARALLEL = "N/A"
  WESTERNMOST_LONGITUDE = 156.326
END_OBJECT = IMAGE_MAP_PROJECTION
END
