PDS_VERSION_ID = PDS3
/* FILE DATA ELEMENTS */
RECORD_TYPE = UNDEFINED
/* POINTERS TO DATA OBJECTS */
^IMAGE = ("HA393_0001_ND4.TIF")
/* IDENTIFICATION DATA ELEMENTS */
DATA_SET_ID = "MEX-M-HRSC-4-REFDR-MAPPROJECT-EXT3-V4.0"
DATA_SET_NAME = "MARS EXPRESS HRSC MAP PROJECTED REFDR EXTENSION3 V4.0"
DETECTOR_ID = MEX_HRSC_NADIR
EVENT_TYPE = "MARS-REGIONAL-MAPPING-Vo-Im-Lc"
INSTRUMENT_HOST_ID = MEX
INSTRUMENT_HOST_NAME = "MARS EXPRESS"
INSTRUMENT_ID = HRSC
INSTRUMENT_NAME = "HIGH RESOLUTION STEREO CAMERA"
MISSION_NAME = "MARS EXPRESS"
MISSION_PHASE_NAME = ME_Phase_25
PROCESSING_LEVEL_ID = 4
PRODUCT_CREATION_TIME = 2023-02-04T22:47:41.000Z
PRODUCT_ID = "HA393_0001_ND4.TIF"
RELEASE_ID = 0008
REVISION_ID = 0000
/* QUALITY DATA ELEMENTS */
DATA_QUALITY_ID = 1
DATA_QUALITY_DESC = "Data calculated based on original SPICE kernels"
/* TIME DATA ELEMENTS */
SPACECRAFT_CLOCK_START_COUNT = "1/0278388861.07307"
SPACECRAFT_CLOCK_STOP_COUNT = "1/0278389168.53777"
START_TIME = 2012-02-27T02:15:10.869Z
STOP_TIME = 2012-02-27T02:18:09.869Z
/* ORBITAL DATA ELEMENTS */
ASCENDING_NODE_LONGITUDE = 18.9
MAXIMUM_RESOLUTION = 0.0204
FOOTPRINT_POINT_LATITUDE = (12.1609,12.156,12.1534,12.1497,12.1451 ,12.1423,12.1421,12.1424,12.5135, 12.8851,13.2618,13.6393,13.9267,14.3101 ,14.6987,14.8934,15.0879,15.2859, 15.4836,15.681,15.981,16.1815,16.3817, 16.5851,16.7884,16.9915,17.1972,17.4034 ,17.6093,17.8179,18.0269,18.2356, 18.4472,18.7646,18.9782,19.1927,19.4068 ,19.624,19.9495,20.1694,20.4989,20.8323 ,21.0545,21.2799,21.505,21.846,22.0735, 22.3038,22.419,22.4439,22.4498,22.4532, 22.456,22.4596,22.4623,22.4637,22.4647, 22.4647,22.4644,22.234,21.8912,21.5499, 21.3249,20.9882,20.7658,20.5433,20.3238 ,20.1039,19.7768,19.5596,19.2365,19.022 ,18.808,18.5966,18.3847,18.07,17.8611, 17.652,17.4461,17.2399,17.0338,16.8307, 16.6273,16.4236,16.2233,16.0228,15.7223 ,15.5249,15.3272,15.0315,14.642,14.3504 ,13.9669,13.679,13.3014,12.9243,12.5525 ,12.2732,12.1809,12.1609)
FOOTPRINT_POINT_LONGITUDE = (105.695,105.105,104.837,104.498, 104.123,103.908,103.89,103.877,103.862, 103.848,103.834,103.819,103.808,103.793 ,103.777,103.769,103.761,103.753, 103.745,103.737,103.724,103.715,103.707 ,103.698,103.689,103.68,103.671,103.661 ,103.652,103.643,103.634,103.624, 103.614,103.6,103.59,103.58,103.569, 103.559,103.543,103.533,103.517,103.5, 103.489,103.477,103.466,103.449,103.437 ,103.425,103.419,103.417,103.816,104.09 ,104.338,104.736,105.134,105.458, 105.906,105.931,105.943,105.935,105.924 ,105.913,105.906,105.896,105.89,105.883 ,105.877,105.87,105.861,105.855,105.847 ,105.841,105.835,105.83,105.824,105.817 ,105.812,105.807,105.802,105.797, 105.792,105.787,105.783,105.778,105.774 ,105.77,105.763,105.759,105.755,105.749 ,105.742,105.736,105.729,105.724, 105.718,105.712,105.706,105.701,105.699 ,105.695)
ORBIT_NUMBER = 10393
ORBITAL_ECCENTRICITY = 0.578
ORBITAL_INCLINATION = 86.87
ORBITAL_SEMIMAJOR_AXIS = 8856.08
PERIAPSIS_ALTITUDE = 338.47
PERIAPSIS_ARGUMENT_ANGLE = 343.87
PERIAPSIS_TIME = 2012-02-27T02:07:45.000Z
SPACECRAFT_ORIENTATION = (0.0,1.0,0.0)
^MEX_ORIENTATION_DESC = "MEX_ORIENTATION_DESC.TXT"
SPACECRAFT_POINTING_MODE = NADIR
^MEX_POINTING_DESC = "MEX_POINTING_DESC.TXT"
RIGHT_ASCENSION = -1e+32
DECLINATION = -1e+32
OFFSET_ANGLE = -1e+32
SPACECRAFT_SOLAR_DISTANCE = 2.49134e+08
TARGET_NAME = MARS
/* CAMERA DATA ELEMENTS */
DETECTOR_TEMPERATURE = 18.7783
FOCAL_PLANE_TEMPERATURE = 9.3989
INST_CMPRS_NAME = "DISCRETE COSINE TRANSFORMATION (DCT)"
INST_CMPRS_RATIO = 6.24373
INST_CMPRS_QUALITY = 0
INST_CMPRS_QUANTZ_TBL_ID = 0
INSTRUMENT_TEMPERATURE = 12.8652
LENS_TEMPERATURE = 9.8067
MACROPIXEL_SIZE = 1
MISSING_FRAMES = 0
PIXEL_SUBSAMPLING_FLAG = N
SIGNAL_CHAIN_ID = 0
/* RADIOMETRIC DATA ELEMENTS */
BANDWIDTH = 177.0
CENTER_FILTER_WAVELENGTH = 677.5
RADIANCE_OFFSET = 1.24443
RADIANCE_SCALING_FACTOR = 0.00909473
REFLECTANCE_SCALING_FACTOR = 0.000299875
MEX:REFLECTANCE_OFFSET = 0.0410316
/* IMAGE OBJECT DEFINITIONS */
OBJECT = IMAGE
  INTERCHANGE_FORMAT = BINARY
  LINES = 24473
  LINE_SAMPLES = 5534
  SAMPLE_TYPE = UNSIGNED_INTEGER
  SAMPLE_BITS = 8
  BANDS = 1
  BAND_STORAGE_TYPE = BAND_SEQUENTIAL
  MAXIMUM = 255
  MEAN = 100.424
  MINIMUM = 1
  STANDARD_DEVIATION = 21.768
END_OBJECT = IMAGE
/* MAP OBJECT DEFINITIONS */
OBJECT = IMAGE_MAP_PROJECTION
  ^DATA_SET_MAP_PROJECTION_CATALOG= "DSMAP.CAT"
  A_AXIS_RADIUS = 3396.0
  B_AXIS_RADIUS = 3396.0
  C_AXIS_RADIUS = 3396.0
  CENTER_LATITUDE = 0.0
  CENTER_LONGITUDE = 105.0
  COORDINATE_SYSTEM_NAME = PLANETOGRAPHIC
  COORDINATE_SYSTEM_TYPE = "BODY-FIXED ROTATING"
  EASTERNMOST_LONGITUDE = 105.943
  FIRST_STANDARD_PARALLEL = "N/A"
  LINE_FIRST_PIXEL = 1
  LINE_LAST_PIXEL = 24473
  LINE_PROJECTION_OFFSET = 53259.0
  MAP_PROJECTION_ROTATION = 0.0
  MAP_PROJECTION_TYPE = SINUSOIDAL
  MAP_RESOLUTION = 2370.85521546667
  MAP_SCALE = 0.025
  MAXIMUM_LATITUDE = 22.4647
  MINIMUM_LATITUDE = 12.1421
  POSITIVE_LONGITUDE_DIRECTION = EAST
  REFERENCE_LATITUDE = "N/A"
  REFERENCE_LONGITUDE = "N/A"
  SAMPLE_FIRST_PIXEL = 1
  SAMPLE_LAST_PIXEL = 5534
  SAMPLE_PROJECTION_OFFSET = 3467.0
  SECOND_STANDARD_PARALLEL = "N/A"
  WESTERNMOST_LONGITUDE = 103.417
END_OBJECT = IMAGE_MAP_PROJECTION
END
