PDS_VERSION_ID = PDS3
/* FILE DATA ELEMENTS */
RECORD_TYPE = UNDEFINED
/* POINTERS TO DATA OBJECTS */
^IMAGE = ("HA385_0000_RE4.TIF")
/* IDENTIFICATION DATA ELEMENTS */
DATA_SET_ID = "MEX-M-HRSC-4-REFDR-MAPPROJECT-EXT3-V4.0"
DATA_SET_NAME = "MARS EXPRESS HRSC MAP PROJECTED REFDR EXTENSION3 V4.0"
DETECTOR_ID = MEX_HRSC_RED
EVENT_TYPE = "MARS-REGIONAL-MAPPING-Vo-Te-La"
INSTRUMENT_HOST_ID = MEX
INSTRUMENT_HOST_NAME = "MARS EXPRESS"
INSTRUMENT_ID = HRSC
INSTRUMENT_NAME = "HIGH RESOLUTION STEREO CAMERA"
MISSION_NAME = "MARS EXPRESS"
MISSION_PHASE_NAME = ME_Phase_25
PROCESSING_LEVEL_ID = 4
PRODUCT_CREATION_TIME = 2023-02-04T22:47:41.000Z
PRODUCT_ID = "HA385_0000_RE4.TIF"
RELEASE_ID = 0008
REVISION_ID = 0000
/* QUALITY DATA ELEMENTS */
DATA_QUALITY_ID = 1
DATA_QUALITY_DESC = "Data calculated based on original SPICE kernels"
/* TIME DATA ELEMENTS */
SPACECRAFT_CLOCK_START_COUNT = "1/0278187230.09094"
SPACECRAFT_CLOCK_STOP_COUNT = "1/0278187569.04912"
START_TIME = 2012-02-24T18:13:59.748Z
STOP_TIME = 2012-02-24T18:17:46.313Z
/* ORBITAL DATA ELEMENTS */
ASCENDING_NODE_LONGITUDE = 19.06
MAXIMUM_RESOLUTION = 0.0651
FOOTPRINT_POINT_LATITUDE = (2.30628,2.30226,2.29766,2.2938,2.29372 ,2.30738,2.70799,2.97547,3.37549, 3.90826,4.30837,4.84134,5.50603,5.90512 ,6.17776,6.58644,6.85903,7.13129, 7.40936,7.68844,7.96771,8.24708,8.67281 ,9.1013,9.38671,9.67683,9.96871,10.4061 ,10.8503,11.1486,11.4462,11.9,12.2039, 12.5075,12.8177,13.1278,13.5956,14.0736 ,14.5483,14.8706,15.3567,15.685,16.013, 16.347,16.681,16.8484,16.9354,16.9383, 16.9428,16.9456,16.9502,16.9535,16.9537 ,16.9525,16.4493,15.9497,15.6216, 15.1306,14.8084,14.3253,14.0094,13.693, 13.378,13.0682,12.7578,12.4492,12.1455, 11.841,11.5375,11.2398,10.942,10.4961, 10.2048,9.91308,9.62141,9.33283,8.90481 ,8.61939,8.33474,8.05622,7.7773,7.35913 ,7.08304,6.81082,6.5383,6.26572,5.99268 ,5.72448,5.32471,5.05828,4.65882, 4.39166,3.99183,3.59456,3.32539,3.05898 ,2.79088,2.52115,2.38712,2.30628)
FOOTPRINT_POINT_LONGITUDE = (203.991,203.65,203.183,202.653,202.64, 202.632,202.624,202.618,202.609,202.597 ,202.587,202.574,202.558,202.548, 202.541,202.531,202.523,202.516,202.509 ,202.501,202.493,202.485,202.473, 202.461,202.452,202.444,202.435,202.422 ,202.408,202.399,202.389,202.375, 202.365,202.356,202.345,202.335,202.319 ,202.302,202.287,202.275,202.258, 202.246,202.234,202.222,202.209,202.203 ,202.2,202.523,202.99,203.295,203.762, 204.104,204.122,204.128,204.12,204.111, 204.106,204.099,204.094,204.087,204.083 ,204.078,204.074,204.07,204.067,204.063 ,204.059,204.056,204.053,204.05,204.047 ,204.042,204.04,204.037,204.035,204.032 ,204.028,204.026,204.024,204.022,204.02 ,204.018,204.016,204.015,204.013, 204.012,204.01,204.009,204.007,204.005, 204.004,204.002,204.001,204.001,203.999 ,203.999,203.998,203.996,203.996, 203.991)
ORBIT_NUMBER = 10385
ORBITAL_ECCENTRICITY = 0.578
ORBITAL_INCLINATION = 86.88
ORBITAL_SEMIMAJOR_AXIS = 8850.49
PERIAPSIS_ALTITUDE = 339.46
PERIAPSIS_ARGUMENT_ANGLE = 345.25
PERIAPSIS_TIME = 2012-02-24T18:10:06.000Z
SPACECRAFT_ORIENTATION = (0.0,1.0,0.0)
^MEX_ORIENTATION_DESC = "MEX_ORIENTATION_DESC.TXT"
SPACECRAFT_POINTING_MODE = NADIR
^MEX_POINTING_DESC = "MEX_POINTING_DESC.TXT"
RIGHT_ASCENSION = -1e+32
DECLINATION = -1e+32
OFFSET_ANGLE = -1e+32
SPACECRAFT_SOLAR_DISTANCE = 2.49169e+08
TARGET_NAME = MARS
/* CAMERA DATA ELEMENTS */
DETECTOR_TEMPERATURE = 17.7588
FOCAL_PLANE_TEMPERATURE = 9.6028
INST_CMPRS_NAME = "DISCRETE COSINE TRANSFORMATION (DCT)"
INST_CMPRS_RATIO = 10.4723
INST_CMPRS_QUALITY = 0
INST_CMPRS_QUANTZ_TBL_ID = 0
INSTRUMENT_TEMPERATURE = 12.8652
LENS_TEMPERATURE = 10.0106
MACROPIXEL_SIZE = 4
MISSING_FRAMES = 0
PIXEL_SUBSAMPLING_FLAG = N
SIGNAL_CHAIN_ID = 2
/* RADIOMETRIC DATA ELEMENTS */
BANDWIDTH = 48.0
CENTER_FILTER_WAVELENGTH = 748.0
RADIANCE_OFFSET = 0.322314
RADIANCE_SCALING_FACTOR = 0.00294928
REFLECTANCE_SCALING_FACTOR = 0.000417859
MEX:REFLECTANCE_OFFSET = 0.045666
/* IMAGE OBJECT DEFINITIONS */
OBJECT = IMAGE
  INTERCHANGE_FORMAT = BINARY
  LINES = 17352
  LINE_SAMPLES = 2319
  SAMPLE_TYPE = UNSIGNED_INTEGER
  SAMPLE_BITS = 8
  BANDS = 1
  BAND_STORAGE_TYPE = BAND_SEQUENTIAL
  MAXIMUM = 255
  MEAN = 96.1539
  MINIMUM = 1
  STANDARD_DEVIATION = 34.6226
END_OBJECT = IMAGE
/* MAP OBJECT DEFINITIONS */
OBJECT = IMAGE_MAP_PROJECTION
  ^DATA_SET_MAP_PROJECTION_CATALOG= "DSMAP.CAT"
  A_AXIS_RADIUS = 3396.0
  B_AXIS_RADIUS = 3396.0
  C_AXIS_RADIUS = 3396.0
  CENTER_LATITUDE = 0.0
  CENTER_LONGITUDE = 203.0
  COORDINATE_SYSTEM_NAME = PLANETOGRAPHIC
  COORDINATE_SYSTEM_TYPE = "BODY-FIXED ROTATING"
  EASTERNMOST_LONGITUDE = 204.128
  FIRST_STANDARD_PARALLEL = "N/A"
  LINE_FIRST_PIXEL = 1
  LINE_LAST_PIXEL = 17352
  LINE_PROJECTION_OFFSET = 20062.625
  MAP_PROJECTION_ROTATION = 0.0
  MAP_PROJECTION_TYPE = SINUSOIDAL
  MAP_RESOLUTION = 1185.42760773333
  MAP_SCALE = 0.05
  MAXIMUM_LATITUDE = 16.9537
  MINIMUM_LATITUDE = 2.29372
  POSITIVE_LONGITUDE_DIRECTION = EAST
  REFERENCE_LATITUDE = "N/A"
  REFERENCE_LONGITUDE = "N/A"
  SAMPLE_FIRST_PIXEL = 1
  SAMPLE_LAST_PIXEL = 2319
  SAMPLE_PROJECTION_OFFSET = 971.625
  SECOND_STANDARD_PARALLEL = "N/A"
  WESTERNMOST_LONGITUDE = 202.2
END_OBJECT = IMAGE_MAP_PROJECTION
END
