PDS_VERSION_ID = PDS3
/* FILE DATA ELEMENTS */
RECORD_TYPE = UNDEFINED
/* POINTERS TO DATA OBJECTS */
^IMAGE = ("HA385_0000_IR4.TIF")
/* IDENTIFICATION DATA ELEMENTS */
DATA_SET_ID = "MEX-M-HRSC-4-REFDR-MAPPROJECT-EXT3-V4.0"
DATA_SET_NAME = "MARS EXPRESS HRSC MAP PROJECTED REFDR EXTENSION3 V4.0"
DETECTOR_ID = MEX_HRSC_IR
EVENT_TYPE = "MARS-REGIONAL-MAPPING-Vo-Te-La"
INSTRUMENT_HOST_ID = MEX
INSTRUMENT_HOST_NAME = "MARS EXPRESS"
INSTRUMENT_ID = HRSC
INSTRUMENT_NAME = "HIGH RESOLUTION STEREO CAMERA"
MISSION_NAME = "MARS EXPRESS"
MISSION_PHASE_NAME = ME_Phase_25
PROCESSING_LEVEL_ID = 4
PRODUCT_CREATION_TIME = 2023-02-04T22:47:41.000Z
PRODUCT_ID = "HA385_0000_IR4.TIF"
RELEASE_ID = 0008
REVISION_ID = 0000
/* QUALITY DATA ELEMENTS */
DATA_QUALITY_ID = 1
DATA_QUALITY_DESC = "Data calculated based on original SPICE kernels"
/* TIME DATA ELEMENTS */
SPACECRAFT_CLOCK_START_COUNT = "1/0278187230.09094"
SPACECRAFT_CLOCK_STOP_COUNT = "1/0278187569.04912"
START_TIME = 2012-02-24T18:15:01.040Z
STOP_TIME = 2012-02-24T18:19:19.165Z
/* ORBITAL DATA ELEMENTS */
ASCENDING_NODE_LONGITUDE = 19.06
MAXIMUM_RESOLUTION = 0.0697
FOOTPRINT_POINT_LATITUDE = (2.305,2.30137,2.29648,2.29142,2.29123, 2.27993,2.6654,3.44248,4.09604,4.49501, 4.76108,5.16023,5.43143,5.8377,6.10768, 6.38366,6.65929,6.93407,7.35241,7.63238 ,7.91159,8.1958,8.48039,8.7643,9.05277, 9.48503,9.77776,10.2168,10.6617,10.9586 ,11.4102,11.7116,12.0176,12.3235, 12.7877,13.0976,13.4126,13.7267,14.045, 14.5246,14.847,15.1722,15.499,15.8273, 16.3263,16.6604,16.8295,16.8782,16.8882 ,16.8928,16.895,16.8964,16.8961,16.8961 ,16.8948,16.3911,16.0578,15.7274, 15.2359,14.91,14.5878,14.2667,13.9483, 13.6314,13.3171,13.0039,12.6938,12.3841 ,12.0781,11.7715,11.47,11.0174,10.5715, 10.2743,9.83458,9.54111,9.25281,8.96369 ,8.67622,8.39192,8.10686,7.82375, 7.54402,7.26345,6.98414,6.70886,6.43307 ,6.02144,5.75142,5.48095,5.07646, 4.81044,4.54422,4.14481,3.6201,3.22801, 2.84021,2.4585,2.32999,2.305)
FOOTPRINT_POINT_LONGITUDE = (204.042,203.514,203.015,202.609, 202.595,202.588,202.578,202.557,202.539 ,202.528,202.52,202.509,202.501,202.489 ,202.481,202.472,202.464,202.455, 202.442,202.433,202.424,202.414,202.404 ,202.395,202.384,202.369,202.359, 202.343,202.326,202.315,202.298,202.286 ,202.275,202.263,202.244,202.232, 202.219,202.206,202.192,202.172,202.158 ,202.144,202.129,202.114,202.091, 202.076,202.068,202.066,202.702,203.133 ,203.441,203.893,204.243,204.263,204.27 ,204.257,204.248,204.24,204.228,204.22, 204.213,204.206,204.199,204.192,204.186 ,204.179,204.173,204.167,204.162, 204.156,204.151,204.143,204.136,204.131 ,204.125,204.12,204.116,204.112,204.108 ,204.104,204.101,204.097,204.094, 204.091,204.088,204.085,204.082,204.078 ,204.075,204.072,204.068,204.066, 204.064,204.06,204.057,204.054,204.051, 204.047,204.046,204.042)
ORBIT_NUMBER = 10385
ORBITAL_ECCENTRICITY = 0.578
ORBITAL_INCLINATION = 86.88
ORBITAL_SEMIMAJOR_AXIS = 8850.49
PERIAPSIS_ALTITUDE = 339.46
PERIAPSIS_ARGUMENT_ANGLE = 345.25
PERIAPSIS_TIME = 2012-02-24T18:10:06.000Z
SPACECRAFT_ORIENTATION = (0.0,1.0,0.0)
^MEX_ORIENTATION_DESC = "MEX_ORIENTATION_DESC.TXT"
SPACECRAFT_POINTING_MODE = NADIR
^MEX_POINTING_DESC = "MEX_POINTING_DESC.TXT"
RIGHT_ASCENSION = -1e+32
DECLINATION = -1e+32
OFFSET_ANGLE = -1e+32
SPACECRAFT_SOLAR_DISTANCE = 2.49169e+08
TARGET_NAME = MARS
/* CAMERA DATA ELEMENTS */
DETECTOR_TEMPERATURE = 18.3705
FOCAL_PLANE_TEMPERATURE = 9.6028
INST_CMPRS_NAME = "DISCRETE COSINE TRANSFORMATION (DCT)"
INST_CMPRS_RATIO = 7.58312
INST_CMPRS_QUALITY = 0
INST_CMPRS_QUANTZ_TBL_ID = 0
INSTRUMENT_TEMPERATURE = 12.8652
LENS_TEMPERATURE = 10.0106
MACROPIXEL_SIZE = 4
MISSING_FRAMES = 0
PIXEL_SUBSAMPLING_FLAG = N
SIGNAL_CHAIN_ID = 2
/* RADIOMETRIC DATA ELEMENTS */
BANDWIDTH = 81.0
CENTER_FILTER_WAVELENGTH = 955.5
RADIANCE_OFFSET = 0.235326
RADIANCE_SCALING_FACTOR = 0.00281712
REFLECTANCE_SCALING_FACTOR = 0.000377329
MEX:REFLECTANCE_OFFSET = 0.03152
/* IMAGE OBJECT DEFINITIONS */
OBJECT = IMAGE
  INTERCHANGE_FORMAT = BINARY
  LINES = 17352
  LINE_SAMPLES = 2319
  SAMPLE_TYPE = UNSIGNED_INTEGER
  SAMPLE_BITS = 8
  BANDS = 1
  BAND_STORAGE_TYPE = BAND_SEQUENTIAL
  MAXIMUM = 255
  MEAN = 98.571
  MINIMUM = 1
  STANDARD_DEVIATION = 34.0574
END_OBJECT = IMAGE
/* MAP OBJECT DEFINITIONS */
OBJECT = IMAGE_MAP_PROJECTION
  ^DATA_SET_MAP_PROJECTION_CATALOG= "DSMAP.CAT"
  A_AXIS_RADIUS = 3396.0
  B_AXIS_RADIUS = 3396.0
  C_AXIS_RADIUS = 3396.0
  CENTER_LATITUDE = 0.0
  CENTER_LONGITUDE = 203.0
  COORDINATE_SYSTEM_NAME = PLANETOGRAPHIC
  COORDINATE_SYSTEM_TYPE = "BODY-FIXED ROTATING"
  EASTERNMOST_LONGITUDE = 204.27
  FIRST_STANDARD_PARALLEL = "N/A"
  LINE_FIRST_PIXEL = 1
  LINE_LAST_PIXEL = 17352
  LINE_PROJECTION_OFFSET = 20062.625
  MAP_PROJECTION_ROTATION = 0.0
  MAP_PROJECTION_TYPE = SINUSOIDAL
  MAP_RESOLUTION = 1185.42760773333
  MAP_SCALE = 0.05
  MAXIMUM_LATITUDE = 16.8964
  MINIMUM_LATITUDE = 2.27993
  POSITIVE_LONGITUDE_DIRECTION = EAST
  REFERENCE_LATITUDE = "N/A"
  REFERENCE_LONGITUDE = "N/A"
  SAMPLE_FIRST_PIXEL = 1
  SAMPLE_LAST_PIXEL = 2319
  SAMPLE_PROJECTION_OFFSET = 971.625
  SECOND_STANDARD_PARALLEL = "N/A"
  WESTERNMOST_LONGITUDE = 202.066
END_OBJECT = IMAGE_MAP_PROJECTION
END
