PDS_VERSION_ID = PDS3
/* FILE DATA ELEMENTS */
RECORD_TYPE = UNDEFINED
/* POINTERS TO DATA OBJECTS */
^IMAGE = ("HA379_0000_ND4.TIF")
/* IDENTIFICATION DATA ELEMENTS */
DATA_SET_ID = "MEX-M-HRSC-4-REFDR-MAPPROJECT-EXT3-V4.0"
DATA_SET_NAME = "MARS EXPRESS HRSC MAP PROJECTED REFDR EXTENSION3 V4.0"
DETECTOR_ID = MEX_HRSC_NADIR
EVENT_TYPE = "MARS-REGIONAL-MAPPING-Vo-Im-Lc"
INSTRUMENT_HOST_ID = MEX
INSTRUMENT_HOST_NAME = "MARS EXPRESS"
INSTRUMENT_ID = HRSC
INSTRUMENT_NAME = "HIGH RESOLUTION STEREO CAMERA"
MISSION_NAME = "MARS EXPRESS"
MISSION_PHASE_NAME = ME_Phase_25
PROCESSING_LEVEL_ID = 4
PRODUCT_CREATION_TIME = 2023-02-04T22:47:41.000Z
PRODUCT_ID = "HA379_0000_ND4.TIF"
RELEASE_ID = 0008
REVISION_ID = 0000
/* QUALITY DATA ELEMENTS */
DATA_QUALITY_ID = 1
DATA_QUALITY_DESC = "Data calculated based on original SPICE kernels"
/* TIME DATA ELEMENTS */
SPACECRAFT_CLOCK_START_COUNT = "1/0278036264.08243"
SPACECRAFT_CLOCK_STOP_COUNT = "1/0278036571.48887"
START_TIME = 2012-02-23T00:18:30.869Z
STOP_TIME = 2012-02-23T00:21:38.904Z
/* ORBITAL DATA ELEMENTS */
ASCENDING_NODE_LONGITUDE = 19.17
MAXIMUM_RESOLUTION = 0.0193
FOOTPRINT_POINT_LATITUDE = (11.9407,11.9365,11.9342,11.9311, 11.9247,11.9245,11.925,12.5163,12.9126, 13.3154,13.7185,14.128,14.333,14.5378, 14.8503,15.0588,15.2669,15.5838,15.7956 ,16.0071,16.3291,16.5441,16.7589, 16.9774,17.1958,17.4138,17.6348,17.8565 ,18.0778,18.302,18.5269,18.7513,18.9792 ,19.321,19.5508,19.7819,20.1299,20.3642 ,20.5982,20.9539,21.1909,21.4313, 21.7916,22.0352,22.2785,22.5242,22.7707 ,22.8937,22.9192,22.9227,22.9261, 22.9306,22.9341,22.9353,22.9356,22.9356 ,22.9352,22.5657,22.3196,22.0765, 21.7126,21.4725,21.2318,20.8762,20.6389 ,20.405,20.1707,19.9379,19.7069,19.3612 ,19.1335,18.9054,18.5668,18.3421, 18.1174,17.8961,17.6745,17.4531,17.2351 ,17.0167,16.6905,16.4756,16.2604, 16.0457,15.8342,15.6224,15.305,15.0969, 14.7841,14.5754,14.3706,14.1656,13.9603 ,13.7556,13.3525,12.9492,12.5529, 12.0583,11.961,11.9407)
FOOTPRINT_POINT_LONGITUDE = (97.8944,97.3396,97.0874,96.7684, 96.2133,96.1965,96.1801,96.1602,96.1467 ,96.1329,96.1186,96.104,96.0965,96.0891 ,96.0776,96.0699,96.0621,96.0501, 96.0421,96.0341,96.0216,96.0132,96.0048 ,95.9961,95.9874,95.9786,95.9695, 95.9605,95.9514,95.9421,95.9326,95.9233 ,95.9135,95.8987,95.8887,95.8788, 95.8635,95.8531,95.8425,95.8263,95.8155 ,95.8044,95.7876,95.7761,95.7647,95.753 ,95.7411,95.7351,95.7338,95.9952, 96.2808,96.7559,97.3264,97.7305,98.1114 ,98.1352,98.1469,98.1348,98.1271, 98.1193,98.1082,98.1011,98.0941,98.0839 ,98.0771,98.0706,98.0642,98.0581, 98.0518,98.0432,98.0375,98.0318,98.0236 ,98.0182,98.0131,98.008,98.0031,97.9983 ,97.9935,97.9887,97.9819,97.9775, 97.9733,97.9692,97.965,97.961,97.9552, 97.9514,97.9459,97.9422,97.9388,97.9354 ,97.9321,97.9287,97.9223,97.9163, 97.9106,97.9036,97.9024,97.8944)
ORBIT_NUMBER = 10379
ORBITAL_ECCENTRICITY = 0.578
ORBITAL_INCLINATION = 86.87
ORBITAL_SEMIMAJOR_AXIS = 8858.79
PERIAPSIS_ALTITUDE = 339.21
PERIAPSIS_ARGUMENT_ANGLE = 346.27
PERIAPSIS_TIME = 2012-02-23T00:11:48.000Z
SPACECRAFT_ORIENTATION = (0.0,1.0,0.0)
^MEX_ORIENTATION_DESC = "MEX_ORIENTATION_DESC.TXT"
SPACECRAFT_POINTING_MODE = NADIR
^MEX_POINTING_DESC = "MEX_POINTING_DESC.TXT"
RIGHT_ASCENSION = -1e+32
DECLINATION = -1e+32
OFFSET_ANGLE = -1e+32
SPACECRAFT_SOLAR_DISTANCE = 2.4919e+08
TARGET_NAME = MARS
/* CAMERA DATA ELEMENTS */
DETECTOR_TEMPERATURE = 18.7783
FOCAL_PLANE_TEMPERATURE = 9.6028
INST_CMPRS_NAME = "DISCRETE COSINE TRANSFORMATION (DCT)"
INST_CMPRS_RATIO = 6.35551
INST_CMPRS_QUALITY = 0
INST_CMPRS_QUANTZ_TBL_ID = 0
INSTRUMENT_TEMPERATURE = 12.8652
LENS_TEMPERATURE = 9.8067
MACROPIXEL_SIZE = 1
MISSING_FRAMES = 0
PIXEL_SUBSAMPLING_FLAG = N
SIGNAL_CHAIN_ID = 0
/* RADIOMETRIC DATA ELEMENTS */
BANDWIDTH = 177.0
CENTER_FILTER_WAVELENGTH = 677.5
RADIANCE_OFFSET = 1.13187
RADIANCE_SCALING_FACTOR = 0.00803764
REFLECTANCE_SCALING_FACTOR = 0.000265139
MEX:REFLECTANCE_OFFSET = 0.0373371
/* IMAGE OBJECT DEFINITIONS */
OBJECT = IMAGE
  INTERCHANGE_FORMAT = BINARY
  LINES = 26106
  LINE_SAMPLES = 5269
  SAMPLE_TYPE = UNSIGNED_INTEGER
  SAMPLE_BITS = 8
  BANDS = 1
  BAND_STORAGE_TYPE = BAND_SEQUENTIAL
  MAXIMUM = 255
  MEAN = 95.8923
  MINIMUM = 1
  STANDARD_DEVIATION = 26.748
END_OBJECT = IMAGE
/* MAP OBJECT DEFINITIONS */
OBJECT = IMAGE_MAP_PROJECTION
  ^DATA_SET_MAP_PROJECTION_CATALOG= "DSMAP.CAT"
  A_AXIS_RADIUS = 3396.0
  B_AXIS_RADIUS = 3396.0
  C_AXIS_RADIUS = 3396.0
  CENTER_LATITUDE = 0.0
  CENTER_LONGITUDE = 97.0
  COORDINATE_SYSTEM_NAME = PLANETOGRAPHIC
  COORDINATE_SYSTEM_TYPE = "BODY-FIXED ROTATING"
  EASTERNMOST_LONGITUDE = 98.1469
  FIRST_STANDARD_PARALLEL = "N/A"
  LINE_FIRST_PIXEL = 1
  LINE_LAST_PIXEL = 26106
  LINE_PROJECTION_OFFSET = 54376.0
  MAP_PROJECTION_ROTATION = 0.0
  MAP_PROJECTION_TYPE = SINUSOIDAL
  MAP_RESOLUTION = 2370.85521546667
  MAP_SCALE = 0.025
  MAXIMUM_LATITUDE = 22.9356
  MINIMUM_LATITUDE = 11.9245
  POSITIVE_LONGITUDE_DIRECTION = EAST
  REFERENCE_LATITUDE = "N/A"
  REFERENCE_LONGITUDE = "N/A"
  SAMPLE_FIRST_PIXEL = 1
  SAMPLE_LAST_PIXEL = 5269
  SAMPLE_PROJECTION_OFFSET = 2764.0
  SECOND_STANDARD_PARALLEL = "N/A"
  WESTERNMOST_LONGITUDE = 95.7338
END_OBJECT = IMAGE_MAP_PROJECTION
END
