PDS_VERSION_ID = PDS3
/* FILE DATA ELEMENTS */
RECORD_TYPE = UNDEFINED
/* POINTERS TO DATA OBJECTS */
^IMAGE = ("HA357_0000_P24.TIF")
/* IDENTIFICATION DATA ELEMENTS */
DATA_SET_ID = "MEX-M-HRSC-4-REFDR-MAPPROJECT-EXT3-V4.0"
DATA_SET_NAME = "MARS EXPRESS HRSC MAP PROJECTED REFDR EXTENSION3 V4.0"
DETECTOR_ID = MEX_HRSC_P2
EVENT_TYPE = "MARS-REGIONAL-MAPPING-Vo-Te"
INSTRUMENT_HOST_ID = MEX
INSTRUMENT_HOST_NAME = "MARS EXPRESS"
INSTRUMENT_ID = HRSC
INSTRUMENT_NAME = "HIGH RESOLUTION STEREO CAMERA"
MISSION_NAME = "MARS EXPRESS"
MISSION_PHASE_NAME = ME_Phase_24
PROCESSING_LEVEL_ID = 4
PRODUCT_CREATION_TIME = 2023-02-04T22:47:41.000Z
PRODUCT_ID = "HA357_0000_P24.TIF"
RELEASE_ID = 0008
REVISION_ID = 0000
/* QUALITY DATA ELEMENTS */
DATA_QUALITY_ID = 1
DATA_QUALITY_DESC = "Data calculated based on original SPICE kernels"
/* TIME DATA ELEMENTS */
SPACECRAFT_CLOCK_START_COUNT = "1/0277482249.07299"
SPACECRAFT_CLOCK_STOP_COUNT = "1/0277482539.55868"
START_TIME = 2012-02-16T14:24:27.493Z
STOP_TIME = 2012-02-16T14:27:05.093Z
/* ORBITAL DATA ELEMENTS */
ASCENDING_NODE_LONGITUDE = 19.59
MAXIMUM_RESOLUTION = 0.0796
FOOTPRINT_POINT_LATITUDE = (17.1552,17.1551,17.1548,17.1545, 17.1542,17.1539,17.1536,17.1532,17.1532 ,17.1804,17.4405,17.9704,18.3235,18.864 ,19.2244,19.6833,20.0502,20.2369, 20.4238,20.7963,20.9865,21.2703,21.46, 21.7484,21.9418,22.1351,22.3282,22.6223 ,22.8188,23.0148,23.2128,23.4126, 23.6121,23.9126,24.1153,24.3186,24.5211 ,24.7272,24.9332,25.139,25.3472,25.6586 ,25.9747,26.1872,26.3978,26.6134, 26.8292,26.9367,26.9499,26.9509,26.9518 ,26.9526,26.9526,26.9523,26.9509, 26.9509,26.9494,26.7344,26.4128,26.201, 25.9889,25.7782,25.5694,25.3605,25.1521 ,24.9465,24.7406,24.4331,24.2298, 24.0273,23.8246,23.6247,23.4254,23.2258 ,22.9299,22.7335,22.537,22.3411,22.148, 21.9548,21.7614,21.5692,21.3794,21.1894 ,20.9993,20.8103,20.6235,20.4365, 20.2495,20.0627,19.604,19.2368,18.8766, 18.5156,18.2475,17.9806,17.715,17.2772, 17.1902,17.1552)
FOOTPRINT_POINT_LONGITUDE = (188.357,188.147,187.887,187.628, 187.367,187.107,186.845,186.631,186.615 ,186.594,186.586,186.567,186.555, 186.536,186.523,186.506,186.492,186.485 ,186.478,186.465,186.456,186.446, 186.439,186.427,186.419,186.411,186.404 ,186.392,186.384,186.376,186.367, 186.359,186.351,186.338,186.33,186.321, 186.312,186.303,186.294,186.285,186.276 ,186.263,186.248,186.238,186.229, 186.219,186.208,186.203,186.203,186.515 ,186.829,187.275,187.632,187.987, 188.565,188.587,188.594,188.587,188.577 ,188.57,188.563,188.557,188.55,188.544, 188.538,188.532,188.526,188.518,188.512 ,188.506,188.501,188.496,188.491, 188.486,188.478,188.473,188.469,188.464 ,188.459,188.455,188.451,188.446, 188.442,188.438,188.434,188.43,188.426, 188.422,188.419,188.415,188.406,188.4, 188.393,188.387,188.382,188.377,188.373 ,188.366,188.365,188.357)
ORBIT_NUMBER = 10357
ORBITAL_ECCENTRICITY = 0.578
ORBITAL_INCLINATION = 86.88
ORBITAL_SEMIMAJOR_AXIS = 8851.93
PERIAPSIS_ALTITUDE = 341.55
PERIAPSIS_ARGUMENT_ANGLE = 350.06
PERIAPSIS_TIME = 2012-02-16T14:17:51.000Z
SPACECRAFT_ORIENTATION = (0.0,1.0,0.0)
^MEX_ORIENTATION_DESC = "MEX_ORIENTATION_DESC.TXT"
SPACECRAFT_POINTING_MODE = ACROSSTRACK
^MEX_POINTING_DESC = "MEX_POINTING_DESC.TXT"
RIGHT_ASCENSION = -1e+32
DECLINATION = -1e+32
OFFSET_ANGLE = 0.25
SPACECRAFT_SOLAR_DISTANCE = 2.49227e+08
TARGET_NAME = MARS
/* CAMERA DATA ELEMENTS */
DETECTOR_TEMPERATURE = 19.5939
FOCAL_PLANE_TEMPERATURE = 9.8067
INST_CMPRS_NAME = "DISCRETE COSINE TRANSFORMATION (DCT)"
INST_CMPRS_RATIO = 15.4698
INST_CMPRS_QUALITY = 0
INST_CMPRS_QUANTZ_TBL_ID = 0
INSTRUMENT_TEMPERATURE = 12.8652
LENS_TEMPERATURE = 10.0106
MACROPIXEL_SIZE = 4
MISSING_FRAMES = 0
PIXEL_SUBSAMPLING_FLAG = N
SIGNAL_CHAIN_ID = 3
/* RADIOMETRIC DATA ELEMENTS */
BANDWIDTH = 177.0
CENTER_FILTER_WAVELENGTH = 676.5
RADIANCE_OFFSET = 1.39967
RADIANCE_SCALING_FACTOR = 0.00895561
REFLECTANCE_SCALING_FACTOR = 0.000294946
MEX:REFLECTANCE_OFFSET = 0.0460973
/* IMAGE OBJECT DEFINITIONS */
OBJECT = IMAGE
  INTERCHANGE_FORMAT = BINARY
  LINES = 5793
  LINE_SAMPLES = 1337
  SAMPLE_TYPE = UNSIGNED_INTEGER
  SAMPLE_BITS = 8
  BANDS = 1
  BAND_STORAGE_TYPE = BAND_SEQUENTIAL
  MAXIMUM = 255
  MEAN = 67.9705
  MINIMUM = 1
  STANDARD_DEVIATION = 24.2073
END_OBJECT = IMAGE
/* MAP OBJECT DEFINITIONS */
OBJECT = IMAGE_MAP_PROJECTION
  ^DATA_SET_MAP_PROJECTION_CATALOG= "DSMAP.CAT"
  A_AXIS_RADIUS = 3396.0
  B_AXIS_RADIUS = 3396.0
  C_AXIS_RADIUS = 3396.0
  CENTER_LATITUDE = 0.0
  CENTER_LONGITUDE = 187.0
  COORDINATE_SYSTEM_NAME = PLANETOGRAPHIC
  COORDINATE_SYSTEM_TYPE = "BODY-FIXED ROTATING"
  EASTERNMOST_LONGITUDE = 188.594
  FIRST_STANDARD_PARALLEL = "N/A"
  LINE_FIRST_PIXEL = 1
  LINE_LAST_PIXEL = 5793
  LINE_PROJECTION_OFFSET = 15952.875
  MAP_PROJECTION_ROTATION = 0.0
  MAP_PROJECTION_TYPE = SINUSOIDAL
  MAP_RESOLUTION = 592.713803866667
  MAP_SCALE = 0.1
  MAXIMUM_LATITUDE = 26.9526
  MINIMUM_LATITUDE = 17.1532
  POSITIVE_LONGITUDE_DIRECTION = EAST
  REFERENCE_LATITUDE = "N/A"
  REFERENCE_LONGITUDE = "N/A"
  SAMPLE_FIRST_PIXEL = 1
  SAMPLE_LAST_PIXEL = 1337
  SAMPLE_PROJECTION_OFFSET = 456.375
  SECOND_STANDARD_PARALLEL = "N/A"
  WESTERNMOST_LONGITUDE = 186.203
END_OBJECT = IMAGE_MAP_PROJECTION
END
