PDS_VERSION_ID = PDS3
/* FILE DATA ELEMENTS */
RECORD_TYPE = UNDEFINED
/* POINTERS TO DATA OBJECTS */
^IMAGE = ("HA357_0000_BL4.TIF")
/* IDENTIFICATION DATA ELEMENTS */
DATA_SET_ID = "MEX-M-HRSC-4-REFDR-MAPPROJECT-EXT3-V4.0"
DATA_SET_NAME = "MARS EXPRESS HRSC MAP PROJECTED REFDR EXTENSION3 V4.0"
DETECTOR_ID = MEX_HRSC_BLUE
EVENT_TYPE = "MARS-REGIONAL-MAPPING-Vo-Te"
INSTRUMENT_HOST_ID = MEX
INSTRUMENT_HOST_NAME = "MARS EXPRESS"
INSTRUMENT_ID = HRSC
INSTRUMENT_NAME = "HIGH RESOLUTION STEREO CAMERA"
MISSION_NAME = "MARS EXPRESS"
MISSION_PHASE_NAME = ME_Phase_24
PROCESSING_LEVEL_ID = 4
PRODUCT_CREATION_TIME = 2023-02-04T22:47:41.000Z
PRODUCT_ID = "HA357_0000_BL4.TIF"
RELEASE_ID = 0008
REVISION_ID = 0000
/* QUALITY DATA ELEMENTS */
DATA_QUALITY_ID = 1
DATA_QUALITY_DESC = "Data calculated based on original SPICE kernels"
/* TIME DATA ELEMENTS */
SPACECRAFT_CLOCK_START_COUNT = "1/0277482249.07299"
SPACECRAFT_CLOCK_STOP_COUNT = "1/0277482539.55868"
START_TIME = 2012-02-16T14:24:49.721Z
STOP_TIME = 2012-02-16T14:27:34.730Z
/* ORBITAL DATA ELEMENTS */
ASCENDING_NODE_LONGITUDE = 19.59
MAXIMUM_RESOLUTION = 0.0796
FOOTPRINT_POINT_LATITUDE = (17.1584,17.1576,17.1564,17.155,17.1533 ,17.1502,17.1474,17.1472,17.1555, 17.4207,17.7738,18.1334,18.4028,18.9483 ,19.3136,19.6847,19.8704,20.0559,20.244 ,20.4329,20.6214,20.8099,21.0023, 21.1941,21.4806,21.772,21.9666,22.1609, 22.4565,22.6539,22.8511,23.0511,23.2517 ,23.4518,23.6539,23.857,24.1616,24.4708 ,24.6766,24.8842,25.093,25.3016,25.5122 ,25.7235,25.9348,26.1489,26.3626, 26.5779,26.7953,26.9038,26.9126,26.9165 ,26.9194,26.9215,26.9226,26.9229, 26.9217,26.9216,26.9201,26.7033,26.4869 ,26.1658,25.9519,25.7407,25.5293, 25.3187,25.1102,24.9015,24.6939,24.4881 ,24.2819,23.9761,23.7731,23.4692, 23.2692,23.0689,22.8687,22.6716,22.4743 ,22.1786,21.9843,21.7898,21.4986, 21.3073,21.1157,20.9238,20.6394,20.4507 ,20.2619,20.0737,19.8882,19.7024, 19.3313,18.966,18.6,18.2408,17.7908, 17.2608,17.1725,17.1584)
FOOTPRINT_POINT_LONGITUDE = (188.384,188.119,187.853,187.587,187.32 ,186.919,186.617,186.6,186.58,186.571, 186.558,186.545,186.536,186.515,186.501 ,186.487,186.479,186.472,186.465, 186.457,186.45,186.443,186.434,186.426, 186.416,186.403,186.395,186.387,186.374 ,186.366,186.358,186.349,186.34,186.331 ,186.323,186.314,186.3,186.286,186.277, 186.267,186.257,186.248,186.238,186.229 ,186.218,186.208,186.199,186.187, 186.176,186.171,186.17,186.563,186.934, 187.326,187.695,188.063,188.615,188.638 ,188.645,188.637,188.63,188.618,188.611 ,188.604,188.597,188.59,188.583,188.576 ,188.57,188.563,188.557,188.548,188.542 ,188.533,188.528,188.522,188.516, 188.511,188.506,188.498,188.493,188.488 ,188.481,188.477,188.472,188.468, 188.461,188.457,188.452,188.448,188.444 ,188.44,188.433,188.425,188.418,188.411 ,188.403,188.393,188.392,188.384)
ORBIT_NUMBER = 10357
ORBITAL_ECCENTRICITY = 0.578
ORBITAL_INCLINATION = 86.88
ORBITAL_SEMIMAJOR_AXIS = 8851.93
PERIAPSIS_ALTITUDE = 341.55
PERIAPSIS_ARGUMENT_ANGLE = 350.06
PERIAPSIS_TIME = 2012-02-16T14:17:51.000Z
SPACECRAFT_ORIENTATION = (0.0,1.0,0.0)
^MEX_ORIENTATION_DESC = "MEX_ORIENTATION_DESC.TXT"
SPACECRAFT_POINTING_MODE = ACROSSTRACK
^MEX_POINTING_DESC = "MEX_POINTING_DESC.TXT"
RIGHT_ASCENSION = -1e+32
DECLINATION = -1e+32
OFFSET_ANGLE = 0.25
SPACECRAFT_SOLAR_DISTANCE = 2.49227e+08
TARGET_NAME = MARS
/* CAMERA DATA ELEMENTS */
DETECTOR_TEMPERATURE = 18.5744
FOCAL_PLANE_TEMPERATURE = 9.8067
INST_CMPRS_NAME = "DISCRETE COSINE TRANSFORMATION (DCT)"
INST_CMPRS_RATIO = 7.04095
INST_CMPRS_QUALITY = 0
INST_CMPRS_QUANTZ_TBL_ID = 0
INSTRUMENT_TEMPERATURE = 12.8652
LENS_TEMPERATURE = 10.0106
MACROPIXEL_SIZE = 4
MISSING_FRAMES = 0
PIXEL_SUBSAMPLING_FLAG = N
SIGNAL_CHAIN_ID = 2
/* RADIOMETRIC DATA ELEMENTS */
BANDWIDTH = 76.0
CENTER_FILTER_WAVELENGTH = 444.0
RADIANCE_OFFSET = 0.254145
RADIANCE_SCALING_FACTOR = 0.00107574
REFLECTANCE_SCALING_FACTOR = 6.86525e-05
MEX:REFLECTANCE_OFFSET = 0.0162192
/* IMAGE OBJECT DEFINITIONS */
OBJECT = IMAGE
  INTERCHANGE_FORMAT = BINARY
  LINES = 5793
  LINE_SAMPLES = 1337
  SAMPLE_TYPE = UNSIGNED_INTEGER
  SAMPLE_BITS = 8
  BANDS = 1
  BAND_STORAGE_TYPE = BAND_SEQUENTIAL
  MAXIMUM = 255
  MEAN = 99.6475
  MINIMUM = 1
  STANDARD_DEVIATION = 22.6743
END_OBJECT = IMAGE
/* MAP OBJECT DEFINITIONS */
OBJECT = IMAGE_MAP_PROJECTION
  ^DATA_SET_MAP_PROJECTION_CATALOG= "DSMAP.CAT"
  A_AXIS_RADIUS = 3396.0
  B_AXIS_RADIUS = 3396.0
  C_AXIS_RADIUS = 3396.0
  CENTER_LATITUDE = 0.0
  CENTER_LONGITUDE = 187.0
  COORDINATE_SYSTEM_NAME = PLANETOGRAPHIC
  COORDINATE_SYSTEM_TYPE = "BODY-FIXED ROTATING"
  EASTERNMOST_LONGITUDE = 188.645
  FIRST_STANDARD_PARALLEL = "N/A"
  LINE_FIRST_PIXEL = 1
  LINE_LAST_PIXEL = 5793
  LINE_PROJECTION_OFFSET = 15952.875
  MAP_PROJECTION_ROTATION = 0.0
  MAP_PROJECTION_TYPE = SINUSOIDAL
  MAP_RESOLUTION = 592.713803866667
  MAP_SCALE = 0.1
  MAXIMUM_LATITUDE = 26.9229
  MINIMUM_LATITUDE = 17.1472
  POSITIVE_LONGITUDE_DIRECTION = EAST
  REFERENCE_LATITUDE = "N/A"
  REFERENCE_LONGITUDE = "N/A"
  SAMPLE_FIRST_PIXEL = 1
  SAMPLE_LAST_PIXEL = 1337
  SAMPLE_PROJECTION_OFFSET = 456.375
  SECOND_STANDARD_PARALLEL = "N/A"
  WESTERNMOST_LONGITUDE = 186.17
END_OBJECT = IMAGE_MAP_PROJECTION
END
