PDS_VERSION_ID = PDS3
/* FILE DATA ELEMENTS */
RECORD_TYPE = UNDEFINED
/* POINTERS TO DATA OBJECTS */
^IMAGE = ("HA350_0000_RE4.TIF")
/* IDENTIFICATION DATA ELEMENTS */
DATA_SET_ID = "MEX-M-HRSC-4-REFDR-MAPPROJECT-EXT3-V4.0"
DATA_SET_NAME = "MARS EXPRESS HRSC MAP PROJECTED REFDR EXTENSION3 V4.0"
DETECTOR_ID = MEX_HRSC_RED
EVENT_TYPE = "MARS-REGIONAL-MAPPING-Vo-Te"
INSTRUMENT_HOST_ID = MEX
INSTRUMENT_HOST_NAME = "MARS EXPRESS"
INSTRUMENT_ID = HRSC
INSTRUMENT_NAME = "HIGH RESOLUTION STEREO CAMERA"
MISSION_NAME = "MARS EXPRESS"
MISSION_PHASE_NAME = ME_Phase_24
PROCESSING_LEVEL_ID = 4
PRODUCT_CREATION_TIME = 2023-02-04T22:47:41.000Z
PRODUCT_ID = "HA350_0000_RE4.TIF"
RELEASE_ID = 0008
REVISION_ID = 0000
/* QUALITY DATA ELEMENTS */
DATA_QUALITY_ID = 1
DATA_QUALITY_DESC = "Data calculated based on original SPICE kernels"
/* TIME DATA ELEMENTS */
SPACECRAFT_CLOCK_START_COUNT = "1/0277305894.09038"
SPACECRAFT_CLOCK_STOP_COUNT = "1/0277306217.04622"
START_TIME = 2012-02-14T13:25:04.450Z
STOP_TIME = 2012-02-14T13:28:21.379Z
/* ORBITAL DATA ELEMENTS */
ASCENDING_NODE_LONGITUDE = 19.72
MAXIMUM_RESOLUTION = 0.072
FOOTPRINT_POINT_LATITUDE = (13.1923,13.2032,13.2147,13.2306,13.231 ,13.2595,13.6989,14.1459,14.48,14.9298, 15.4997,15.7298,15.9614,16.3116,16.5451 ,16.7783,17.1339,17.372,17.6104,17.8482 ,18.091,18.3341,18.577,18.8195,19.0679, 19.3157,19.6868,20.0647,20.3169,20.5695 ,20.8262,21.0835,21.3406,21.6006, 21.8626,22.1243,22.3927,22.7885,23.0549 ,23.3263,23.5971,24.0069,24.2827, 24.5581,24.8383,25.2585,25.5428,25.6852 ,25.8121,25.8077,25.8029,25.7988, 25.7922,25.7877,25.7769,25.7765,25.775, 25.4898,25.2058,24.9259,24.6455,24.2288 ,23.9544,23.6807,23.2739,23.0028, 22.7365,22.4697,22.2036,21.9422,21.6799 ,21.4175,21.1606,20.9026,20.6458,20.392 ,20.1397,19.8871,19.6355,19.3879,19.14, 18.892,18.5251,18.2822,18.0391,17.6775, 17.4395,17.2013,16.8471,16.6102,16.377, 16.1435,15.91,15.4508,14.9941,14.3176, 13.9823,13.426,13.3169,13.1923)
FOOTPRINT_POINT_LONGITUDE = (183.828,183.374,182.912,182.293, 182.278,182.253,182.239,182.226,182.216 ,182.202,182.184,182.175,182.167, 182.155,182.146,182.138,182.126,182.117 ,182.108,182.1,182.091,182.082,182.073, 182.064,182.055,182.045,182.031,182.016 ,182.007,181.996,181.986,181.975, 181.965,181.954,181.943,181.932,181.917 ,181.903,181.891,181.879,181.868, 181.849,181.836,181.824,181.811,181.791 ,181.777,181.771,181.765,182.061, 182.399,182.671,183.067,183.356,183.971 ,183.992,183.998,183.992,183.985, 183.979,183.973,183.965,183.959,183.954 ,183.946,183.941,183.936,183.931, 183.927,183.922,183.918,183.914,183.91, 183.906,183.902,183.898,183.895,183.891 ,183.888,183.885,183.881,183.878, 183.874,183.871,183.868,183.864,183.862 ,183.859,183.855,183.853,183.851, 183.849,183.847,183.843,183.839,183.834 ,183.832,183.828,183.828,183.828)
ORBIT_NUMBER = 10350
ORBITAL_ECCENTRICITY = 0.578
ORBITAL_INCLINATION = 86.88
ORBITAL_SEMIMAJOR_AXIS = 8852.15
PERIAPSIS_ALTITUDE = 342.17
PERIAPSIS_ARGUMENT_ANGLE = 351.27
PERIAPSIS_TIME = 2012-02-14T13:19:55.000Z
SPACECRAFT_ORIENTATION = (0.0,1.0,0.0)
^MEX_ORIENTATION_DESC = "MEX_ORIENTATION_DESC.TXT"
SPACECRAFT_POINTING_MODE = ACROSSTRACK
^MEX_POINTING_DESC = "MEX_POINTING_DESC.TXT"
RIGHT_ASCENSION = -1e+32
DECLINATION = -1e+32
OFFSET_ANGLE = 0.8
SPACECRAFT_SOLAR_DISTANCE = 2.49226e+08
TARGET_NAME = MARS
/* CAMERA DATA ELEMENTS */
DETECTOR_TEMPERATURE = 19.1861
FOCAL_PLANE_TEMPERATURE = 9.3989
INST_CMPRS_NAME = "DISCRETE COSINE TRANSFORMATION (DCT)"
INST_CMPRS_RATIO = 18.3542
INST_CMPRS_QUALITY = 0
INST_CMPRS_QUANTZ_TBL_ID = 0
INSTRUMENT_TEMPERATURE = 12.6613
LENS_TEMPERATURE = 9.6028
MACROPIXEL_SIZE = 4
MISSING_FRAMES = 0
PIXEL_SUBSAMPLING_FLAG = N
SIGNAL_CHAIN_ID = 2
/* RADIOMETRIC DATA ELEMENTS */
BANDWIDTH = 48.0
CENTER_FILTER_WAVELENGTH = 748.0
RADIANCE_OFFSET = 0.301742
RADIANCE_SCALING_FACTOR = 0.00285965
REFLECTANCE_SCALING_FACTOR = 0.000405347
MEX:REFLECTANCE_OFFSET = 0.0427711
/* IMAGE OBJECT DEFINITIONS */
OBJECT = IMAGE
  INTERCHANGE_FORMAT = BINARY
  LINES = 14906
  LINE_SAMPLES = 2538
  SAMPLE_TYPE = UNSIGNED_INTEGER
  SAMPLE_BITS = 8
  BANDS = 1
  BAND_STORAGE_TYPE = BAND_SEQUENTIAL
  MAXIMUM = 255
  MEAN = 80.0409
  MINIMUM = 1
  STANDARD_DEVIATION = 28.1233
END_OBJECT = IMAGE
/* MAP OBJECT DEFINITIONS */
OBJECT = IMAGE_MAP_PROJECTION
  ^DATA_SET_MAP_PROJECTION_CATALOG= "DSMAP.CAT"
  A_AXIS_RADIUS = 3396.0
  B_AXIS_RADIUS = 3396.0
  C_AXIS_RADIUS = 3396.0
  CENTER_LATITUDE = 0.0
  CENTER_LONGITUDE = 183.0
  COORDINATE_SYSTEM_NAME = PLANETOGRAPHIC
  COORDINATE_SYSTEM_TYPE = "BODY-FIXED ROTATING"
  EASTERNMOST_LONGITUDE = 183.998
  FIRST_STANDARD_PARALLEL = "N/A"
  LINE_FIRST_PIXEL = 1
  LINE_LAST_PIXEL = 14906
  LINE_PROJECTION_OFFSET = 30549.875
  MAP_PROJECTION_ROTATION = 0.0
  MAP_PROJECTION_TYPE = SINUSOIDAL
  MAP_RESOLUTION = 1185.42760773333
  MAP_SCALE = 0.05
  MAXIMUM_LATITUDE = 25.8121
  MINIMUM_LATITUDE = 13.1923
  POSITIVE_LONGITUDE_DIRECTION = EAST
  REFERENCE_LATITUDE = "N/A"
  REFERENCE_LONGITUDE = "N/A"
  SAMPLE_FIRST_PIXEL = 1
  SAMPLE_LAST_PIXEL = 2538
  SAMPLE_PROJECTION_OFFSET = 1383.375
  SECOND_STANDARD_PARALLEL = "N/A"
  WESTERNMOST_LONGITUDE = 181.765
END_OBJECT = IMAGE_MAP_PROJECTION
END
