PDS_VERSION_ID = PDS3
/* FILE DATA ELEMENTS */
RECORD_TYPE = UNDEFINED
/* POINTERS TO DATA OBJECTS */
^IMAGE = ("HA333_0000_IR4.TIF")
/* IDENTIFICATION DATA ELEMENTS */
DATA_SET_ID = "MEX-M-HRSC-4-REFDR-MAPPROJECT-EXT3-V4.0"
DATA_SET_NAME = "MARS EXPRESS HRSC MAP PROJECTED REFDR EXTENSION3 V4.0"
DETECTOR_ID = MEX_HRSC_IR
EVENT_TYPE = "MARS-REGIONAL-MAPPING-Pf"
INSTRUMENT_HOST_ID = MEX
INSTRUMENT_HOST_NAME = "MARS EXPRESS"
INSTRUMENT_ID = HRSC
INSTRUMENT_NAME = "HIGH RESOLUTION STEREO CAMERA"
MISSION_NAME = "MARS EXPRESS"
MISSION_PHASE_NAME = ME_Phase_24
PROCESSING_LEVEL_ID = 4
PRODUCT_CREATION_TIME = 2023-02-04T22:47:41.000Z
PRODUCT_ID = "HA333_0000_IR4.TIF"
RELEASE_ID = 0008
REVISION_ID = 0000
/* QUALITY DATA ELEMENTS */
DATA_QUALITY_ID = 1
DATA_QUALITY_DESC = "Data calculated based on original SPICE kernels"
/* TIME DATA ELEMENTS */
SPACECRAFT_CLOCK_START_COUNT = "1/0276877998.09052"
SPACECRAFT_CLOCK_STOP_COUNT = "1/0276878400.56687"
START_TIME = 2012-02-09T14:35:12.982Z
STOP_TIME = 2012-02-09T14:39:39.234Z
/* ORBITAL DATA ELEMENTS */
ASCENDING_NODE_LONGITUDE = 20.04
MAXIMUM_RESOLUTION = 0.1092
FOOTPRINT_POINT_LATITUDE = (28.2517,28.2575,28.2611,28.2636, 28.2636,28.2618,28.2571,28.2568,28.211, 28.5394,28.9799,29.4244,29.8729,30.3258 ,30.7831,31.1288,31.594,32.0633,32.4187 ,32.7762,33.016,33.2575,33.4998,33.866, 34.2348,34.4823,34.7313,34.9811,35.2322 ,35.4848,35.7387,35.9935,36.2507, 36.5087,36.7676,37.0282,37.2905,37.554, 37.8188,38.085,38.3527,38.6218,38.8926, 39.1645,39.4387,39.7142,39.9917,40.4097 ,40.5495,40.6859,40.6893,40.6917, 40.6922,40.6916,40.6851,40.6804,40.6664 ,40.6458,40.6273,40.6256,40.6233, 40.2068,39.9311,39.6566,39.3832,39.111, 38.8406,38.5718,38.3043,38.0383,37.7737 ,37.5101,37.2479,36.9873,36.7284, 36.3417,36.0862,35.7048,35.3261,35.0755 ,34.8256,34.5772,34.3307,33.9623,33.718 ,33.4752,33.2339,32.7544,32.3976, 32.0436,31.5756,31.1118,30.5383,30.0847 ,29.6353,29.1895,28.7479,28.4203, 28.3109,28.2517)
FOOTPRINT_POINT_LONGITUDE = (124.17,123.765,123.407,122.954,122.501 ,122.12,121.642,121.619,121.593,121.577 ,121.554,121.531,121.507,121.482, 121.457,121.437,121.411,121.383,121.362 ,121.34,121.325,121.311,121.295,121.272 ,121.249,121.232,121.216,121.199, 121.182,121.165,121.148,121.13,121.112, 121.094,121.075,121.056,121.037,121.017 ,120.997,120.977,120.956,120.935, 120.913,120.891,120.869,120.847,120.824 ,120.788,120.776,120.764,121.13,121.622 ,121.95,122.318,122.931,123.258,123.912 ,124.607,125.099,125.14,125.153,125.106 ,125.075,125.045,125.016,124.987, 124.959,124.932,124.906,124.88,124.854, 124.83,124.805,124.782,124.759,124.725, 124.703,124.671,124.641,124.621,124.601 ,124.582,124.563,124.536,124.518, 124.501,124.484,124.451,124.428,124.405 ,124.375,124.347,124.313,124.287, 124.263,124.239,124.216,124.2,124.194, 124.17)
ORBIT_NUMBER = 10333
ORBITAL_ECCENTRICITY = 0.578
ORBITAL_INCLINATION = 86.87
ORBITAL_SEMIMAJOR_AXIS = 8861.08
PERIAPSIS_ALTITUDE = 343.27
PERIAPSIS_ARGUMENT_ANGLE = 354.21
PERIAPSIS_TIME = 2012-02-09T14:25:12.000Z
SPACECRAFT_ORIENTATION = (0.0,1.0,0.0)
^MEX_ORIENTATION_DESC = "MEX_ORIENTATION_DESC.TXT"
SPACECRAFT_POINTING_MODE = NADIR
^MEX_POINTING_DESC = "MEX_POINTING_DESC.TXT"
RIGHT_ASCENSION = -1e+32
DECLINATION = -1e+32
OFFSET_ANGLE = -1e+32
SPACECRAFT_SOLAR_DISTANCE = 2.49198e+08
TARGET_NAME = MARS
/* CAMERA DATA ELEMENTS */
DETECTOR_TEMPERATURE = 18.3705
FOCAL_PLANE_TEMPERATURE = 9.195
INST_CMPRS_NAME = "DISCRETE COSINE TRANSFORMATION (DCT)"
INST_CMPRS_RATIO = 12.6069
INST_CMPRS_QUALITY = 0
INST_CMPRS_QUANTZ_TBL_ID = 0
INSTRUMENT_TEMPERATURE = 12.8652
LENS_TEMPERATURE = 9.8067
MACROPIXEL_SIZE = 4
MISSING_FRAMES = 0
PIXEL_SUBSAMPLING_FLAG = N
SIGNAL_CHAIN_ID = 2
/* RADIOMETRIC DATA ELEMENTS */
BANDWIDTH = 81.0
CENTER_FILTER_WAVELENGTH = 955.5
RADIANCE_OFFSET = 0.286848
RADIANCE_SCALING_FACTOR = 0.00239651
REFLECTANCE_SCALING_FACTOR = 0.000321068
MEX:REFLECTANCE_OFFSET = 0.0384299
/* IMAGE OBJECT DEFINITIONS */
OBJECT = IMAGE
  INTERCHANGE_FORMAT = BINARY
  LINES = 7398
  LINE_SAMPLES = 1738
  SAMPLE_TYPE = UNSIGNED_INTEGER
  SAMPLE_BITS = 8
  BANDS = 1
  BAND_STORAGE_TYPE = BAND_SEQUENTIAL
  MAXIMUM = 255
  MEAN = 96.8208
  MINIMUM = 1
  STANDARD_DEVIATION = 29.935
END_OBJECT = IMAGE
/* MAP OBJECT DEFINITIONS */
OBJECT = IMAGE_MAP_PROJECTION
  ^DATA_SET_MAP_PROJECTION_CATALOG= "DSMAP.CAT"
  A_AXIS_RADIUS = 3396.0
  B_AXIS_RADIUS = 3396.0
  C_AXIS_RADIUS = 3396.0
  CENTER_LATITUDE = 0.0
  CENTER_LONGITUDE = 123.0
  COORDINATE_SYSTEM_NAME = PLANETOGRAPHIC
  COORDINATE_SYSTEM_TYPE = "BODY-FIXED ROTATING"
  EASTERNMOST_LONGITUDE = 125.153
  FIRST_STANDARD_PARALLEL = "N/A"
  LINE_FIRST_PIXEL = 1
  LINE_LAST_PIXEL = 7398
  LINE_PROJECTION_OFFSET = 24127.625
  MAP_PROJECTION_ROTATION = 0.0
  MAP_PROJECTION_TYPE = SINUSOIDAL
  MAP_RESOLUTION = 592.713803866667
  MAP_SCALE = 0.1
  MAXIMUM_LATITUDE = 40.6922
  MINIMUM_LATITUDE = 28.211
  POSITIVE_LONGITUDE_DIRECTION = EAST
  REFERENCE_LATITUDE = "N/A"
  REFERENCE_LONGITUDE = "N/A"
  SAMPLE_FIRST_PIXEL = 1
  SAMPLE_LAST_PIXEL = 1738
  SAMPLE_PROJECTION_OFFSET = 881.875
  SECOND_STANDARD_PARALLEL = "N/A"
  WESTERNMOST_LONGITUDE = 120.764
END_OBJECT = IMAGE_MAP_PROJECTION
END
