PDS_VERSION_ID = PDS3
/* FILE DATA ELEMENTS */
RECORD_TYPE = UNDEFINED
/* POINTERS TO DATA OBJECTS */
^IMAGE = ("HA333_0000_GR4.TIF")
/* IDENTIFICATION DATA ELEMENTS */
DATA_SET_ID = "MEX-M-HRSC-4-REFDR-MAPPROJECT-EXT3-V4.0"
DATA_SET_NAME = "MARS EXPRESS HRSC MAP PROJECTED REFDR EXTENSION3 V4.0"
DETECTOR_ID = MEX_HRSC_GREEN
EVENT_TYPE = "MARS-REGIONAL-MAPPING-Pf"
INSTRUMENT_HOST_ID = MEX
INSTRUMENT_HOST_NAME = "MARS EXPRESS"
INSTRUMENT_ID = HRSC
INSTRUMENT_NAME = "HIGH RESOLUTION STEREO CAMERA"
MISSION_NAME = "MARS EXPRESS"
MISSION_PHASE_NAME = ME_Phase_24
PROCESSING_LEVEL_ID = 4
PRODUCT_CREATION_TIME = 2023-02-04T22:47:41.000Z
PRODUCT_ID = "HA333_0000_GR4.TIF"
RELEASE_ID = 0008
REVISION_ID = 0000
/* QUALITY DATA ELEMENTS */
DATA_QUALITY_ID = 1
DATA_QUALITY_DESC = "Data calculated based on original SPICE kernels"
/* TIME DATA ELEMENTS */
SPACECRAFT_CLOCK_START_COUNT = "1/0276877998.09052"
SPACECRAFT_CLOCK_STOP_COUNT = "1/0276878400.56687"
START_TIME = 2012-02-09T14:34:27.927Z
STOP_TIME = 2012-02-09T14:38:24.025Z
/* ORBITAL DATA ELEMENTS */
ASCENDING_NODE_LONGITUDE = 20.04
MAXIMUM_RESOLUTION = 0.0976
FOOTPRINT_POINT_LATITUDE = (28.2355,28.2381,28.2405,28.2419, 28.2421,28.2411,28.2376,28.2374,28.23, 28.5585,29.1117,29.6719,30.0116,30.4683 ,30.8128,31.2776,31.7472,31.9841, 32.2216,32.5807,32.9421,33.1847,33.429, 33.674,33.9211,34.1683,34.4185,34.7949, 35.0474,35.3021,35.686,35.9432,36.2029, 36.4636,36.7257,36.9897,37.2548,37.5216 ,37.7902,38.0597,38.3311,38.6044, 38.8789,39.1547,39.433,39.7127,39.9939, 40.2768,40.5617,40.7047,40.7083,40.7114 ,40.7099,40.7052,40.6992,40.6888, 40.6807,40.6683,40.6673,40.6651,40.3811 ,40.0986,39.8177,39.5386,39.2615, 38.9859,38.7113,38.4389,38.168,37.8983, 37.6303,37.3641,37.0988,36.8353,36.5736 ,36.3124,36.0536,35.6681,35.2854, 35.0314,34.7797,34.4044,34.1551,33.9084 ,33.6621,33.4178,33.1741,32.9321, 32.5716,32.2133,31.74,31.2715,30.8077, 30.4638,30.0081,29.4451,28.8885,28.3389 ,28.2295,28.2355)
FOOTPRINT_POINT_LONGITUDE = (124.084,123.796,123.442,123.043, 122.712,122.291,121.737,121.715,121.691 ,121.676,121.652,121.627,121.611,121.59 ,121.574,121.551,121.529,121.517, 121.505,121.487,121.469,121.456,121.444 ,121.431,121.418,121.405,121.392, 121.371,121.357,121.343,121.322,121.307 ,121.293,121.278,121.262,121.247, 121.231,121.216,121.199,121.183,121.166 ,121.149,121.132,121.114,121.097, 121.079,121.06,121.042,121.023,121.013, 121.013,121.781,122.441,122.99,123.466, 124.053,124.419,124.896,124.933,124.945 ,124.917,124.889,124.863,124.836, 124.811,124.786,124.762,124.738,124.715 ,124.692,124.67,124.649,124.628,124.607 ,124.587,124.567,124.548,124.52,124.493 ,124.476,124.459,124.434,124.417, 124.402,124.386,124.371,124.356,124.342 ,124.321,124.3,124.274,124.249,124.224, 124.207,124.184,124.158,124.132,124.108 ,124.103,124.084)
ORBIT_NUMBER = 10333
ORBITAL_ECCENTRICITY = 0.578
ORBITAL_INCLINATION = 86.87
ORBITAL_SEMIMAJOR_AXIS = 8861.08
PERIAPSIS_ALTITUDE = 343.27
PERIAPSIS_ARGUMENT_ANGLE = 354.21
PERIAPSIS_TIME = 2012-02-09T14:25:12.000Z
SPACECRAFT_ORIENTATION = (0.0,1.0,0.0)
^MEX_ORIENTATION_DESC = "MEX_ORIENTATION_DESC.TXT"
SPACECRAFT_POINTING_MODE = NADIR
^MEX_POINTING_DESC = "MEX_POINTING_DESC.TXT"
RIGHT_ASCENSION = -1e+32
DECLINATION = -1e+32
OFFSET_ANGLE = -1e+32
SPACECRAFT_SOLAR_DISTANCE = 2.49198e+08
TARGET_NAME = MARS
/* CAMERA DATA ELEMENTS */
DETECTOR_TEMPERATURE = 18.5744
FOCAL_PLANE_TEMPERATURE = 9.195
INST_CMPRS_NAME = "DISCRETE COSINE TRANSFORMATION (DCT)"
INST_CMPRS_RATIO = 12.4709
INST_CMPRS_QUALITY = 0
INST_CMPRS_QUANTZ_TBL_ID = 0
INSTRUMENT_TEMPERATURE = 12.8652
LENS_TEMPERATURE = 9.8067
MACROPIXEL_SIZE = 4
MISSING_FRAMES = 0
PIXEL_SUBSAMPLING_FLAG = N
SIGNAL_CHAIN_ID = 2
/* RADIOMETRIC DATA ELEMENTS */
BANDWIDTH = 88.0
CENTER_FILTER_WAVELENGTH = 538.0
RADIANCE_OFFSET = 0.496339
RADIANCE_SCALING_FACTOR = 0.00266203
REFLECTANCE_SCALING_FACTOR = 0.000142328
MEX:REFLECTANCE_OFFSET = 0.0265373
/* IMAGE OBJECT DEFINITIONS */
OBJECT = IMAGE
  INTERCHANGE_FORMAT = BINARY
  LINES = 7398
  LINE_SAMPLES = 1738
  SAMPLE_TYPE = UNSIGNED_INTEGER
  SAMPLE_BITS = 8
  BANDS = 1
  BAND_STORAGE_TYPE = BAND_SEQUENTIAL
  MAXIMUM = 255
  MEAN = 87.0582
  MINIMUM = 1
  STANDARD_DEVIATION = 29.4392
END_OBJECT = IMAGE
/* MAP OBJECT DEFINITIONS */
OBJECT = IMAGE_MAP_PROJECTION
  ^DATA_SET_MAP_PROJECTION_CATALOG= "DSMAP.CAT"
  A_AXIS_RADIUS = 3396.0
  B_AXIS_RADIUS = 3396.0
  C_AXIS_RADIUS = 3396.0
  CENTER_LATITUDE = 0.0
  CENTER_LONGITUDE = 123.0
  COORDINATE_SYSTEM_NAME = PLANETOGRAPHIC
  COORDINATE_SYSTEM_TYPE = "BODY-FIXED ROTATING"
  EASTERNMOST_LONGITUDE = 124.945
  FIRST_STANDARD_PARALLEL = "N/A"
  LINE_FIRST_PIXEL = 1
  LINE_LAST_PIXEL = 7398
  LINE_PROJECTION_OFFSET = 24127.625
  MAP_PROJECTION_ROTATION = 0.0
  MAP_PROJECTION_TYPE = SINUSOIDAL
  MAP_RESOLUTION = 592.713803866667
  MAP_SCALE = 0.1
  MAXIMUM_LATITUDE = 40.7114
  MINIMUM_LATITUDE = 28.2295
  POSITIVE_LONGITUDE_DIRECTION = EAST
  REFERENCE_LATITUDE = "N/A"
  REFERENCE_LONGITUDE = "N/A"
  SAMPLE_FIRST_PIXEL = 1
  SAMPLE_LAST_PIXEL = 1738
  SAMPLE_PROJECTION_OFFSET = 881.875
  SECOND_STANDARD_PARALLEL = "N/A"
  WESTERNMOST_LONGITUDE = 121.013
END_OBJECT = IMAGE_MAP_PROJECTION
END
