PDS_VERSION_ID = PDS3
/* FILE DATA ELEMENTS */
RECORD_TYPE = UNDEFINED
/* POINTERS TO DATA OBJECTS */
^IMAGE = ("HA319_0000_S14.TIF")
/* IDENTIFICATION DATA ELEMENTS */
DATA_SET_ID = "MEX-M-HRSC-4-REFDR-MAPPROJECT-EXT3-V4.0"
DATA_SET_NAME = "MARS EXPRESS HRSC MAP PROJECTED REFDR EXTENSION3 V4.0"
DETECTOR_ID = MEX_HRSC_S1
EVENT_TYPE = "MARS-REGIONAL-MAPPING-Vo-Pf-Mw"
INSTRUMENT_HOST_ID = MEX
INSTRUMENT_HOST_NAME = "MARS EXPRESS"
INSTRUMENT_ID = HRSC
INSTRUMENT_NAME = "HIGH RESOLUTION STEREO CAMERA"
MISSION_NAME = "MARS EXPRESS"
MISSION_PHASE_NAME = ME_Phase_24
PROCESSING_LEVEL_ID = 4
PRODUCT_CREATION_TIME = 2023-02-04T22:47:41.000Z
PRODUCT_ID = "HA319_0000_S14.TIF"
RELEASE_ID = 0008
REVISION_ID = 0000
/* QUALITY DATA ELEMENTS */
DATA_QUALITY_ID = 1
DATA_QUALITY_DESC = "Data calculated based on original SPICE kernels"
/* TIME DATA ELEMENTS */
SPACECRAFT_CLOCK_START_COUNT = "1/0276525456.08245"
SPACECRAFT_CLOCK_STOP_COUNT = "1/0276525883.24735"
START_TIME = 2012-02-05T12:39:39.081Z
STOP_TIME = 2012-02-05T12:44:44.966Z
/* ORBITAL DATA ELEMENTS */
ASCENDING_NODE_LONGITUDE = 20.31
MAXIMUM_RESOLUTION = 0.0548
FOOTPRINT_POINT_LATITUDE = (29.4286,29.4308,29.4315,29.4284,29.424 ,29.4174,29.4101,29.4095,29.3495, 29.8357,30.3272,30.9491,31.452,31.8322, 32.3443,32.732,33.1227,33.5163,33.913, 34.3129,34.7162,35.2585,35.5323,35.8078 ,36.0843,36.3623,36.6426,36.9243,37.207 ,37.4917,37.7778,38.0661,38.3556, 38.6466,38.9398,39.2346,39.5313,39.8296 ,40.1292,40.4309,40.7343,41.0395, 41.3467,41.6557,41.9664,42.2794,42.5941 ,43.0689,43.2286,43.2373,43.2477, 43.2523,43.2549,43.2526,43.2418,43.2272 ,43.2133,43.194,43.1901,43.1886,42.721, 42.4072,42.0963,41.787,41.4786,41.1727, 40.8682,40.5656,40.265,39.9661,39.6694, 39.3743,39.0802,38.7878,38.4976,38.2082 ,37.9206,37.6349,37.3511,37.0683, 36.7871,36.508,36.2302,35.9535,35.4047, 34.8627,34.3266,33.9277,33.5321,33.1398 ,32.7502,32.3637,31.8529,31.4745,30.972 ,30.3515,29.861,29.4965,29.3757, 29.4286)
FOOTPRINT_POINT_LONGITUDE = (115.966,115.621,115.225,114.581, 114.184,113.785,113.436,113.41,113.377, 113.35,113.323,113.288,113.259,113.237, 113.206,113.182,113.158,113.133,113.107 ,113.081,113.054,113.016,112.997, 112.978,112.958,112.938,112.917,112.896 ,112.875,112.853,112.831,112.808, 112.785,112.761,112.737,112.713,112.688 ,112.662,112.636,112.609,112.582, 112.554,112.526,112.497,112.467,112.436 ,112.405,112.357,112.341,112.34,112.945 ,113.364,114.06,114.661,115.54,116.14, 116.601,117.063,117.11,117.127,117.065, 117.026,116.989,116.952,116.916,116.882 ,116.848,116.815,116.783,116.752, 116.721,116.692,116.663,116.635,116.607 ,116.581,116.555,116.53,116.505,116.481 ,116.458,116.435,116.412,116.391, 116.349,116.309,116.271,116.243,116.217 ,116.192,116.167,116.144,116.113, 116.091,116.064,116.03,116.005,115.987, 115.981,115.966)
ORBIT_NUMBER = 10319
ORBITAL_ECCENTRICITY = 0.578
ORBITAL_INCLINATION = 86.87
ORBITAL_SEMIMAJOR_AXIS = 8862.23
PERIAPSIS_ALTITUDE = 344.08
PERIAPSIS_ARGUMENT_ANGLE = 356.62
PERIAPSIS_TIME = 2012-02-05T12:29:49.000Z
SPACECRAFT_ORIENTATION = (0.0,1.0,0.0)
^MEX_ORIENTATION_DESC = "MEX_ORIENTATION_DESC.TXT"
SPACECRAFT_POINTING_MODE = ACROSSTRACK
^MEX_POINTING_DESC = "MEX_POINTING_DESC.TXT"
RIGHT_ASCENSION = -1e+32
DECLINATION = -1e+32
OFFSET_ANGLE = 0.269
SPACECRAFT_SOLAR_DISTANCE = 2.49148e+08
TARGET_NAME = MARS
/* CAMERA DATA ELEMENTS */
DETECTOR_TEMPERATURE = 18.3705
FOCAL_PLANE_TEMPERATURE = 10.0106
INST_CMPRS_NAME = "DISCRETE COSINE TRANSFORMATION (DCT)"
INST_CMPRS_RATIO = 13.4463
INST_CMPRS_QUALITY = 0
INST_CMPRS_QUANTZ_TBL_ID = 0
INSTRUMENT_TEMPERATURE = 13.0691
LENS_TEMPERATURE = 10.4184
MACROPIXEL_SIZE = 2
MISSING_FRAMES = 0
PIXEL_SUBSAMPLING_FLAG = N
SIGNAL_CHAIN_ID = 1
/* RADIOMETRIC DATA ELEMENTS */
BANDWIDTH = 180.0
CENTER_FILTER_WAVELENGTH = 677.0
RADIANCE_OFFSET = 1.16794
RADIANCE_SCALING_FACTOR = 0.00744276
REFLECTANCE_SCALING_FACTOR = 0.000241041
MEX:REFLECTANCE_OFFSET = 0.0378249
/* IMAGE OBJECT DEFINITIONS */
OBJECT = IMAGE
  INTERCHANGE_FORMAT = BINARY
  LINES = 16466
  LINE_SAMPLES = 3501
  SAMPLE_TYPE = UNSIGNED_INTEGER
  SAMPLE_BITS = 8
  BANDS = 1
  BAND_STORAGE_TYPE = BAND_SEQUENTIAL
  MAXIMUM = 255
  MEAN = 101.135
  MINIMUM = 1
  STANDARD_DEVIATION = 34.7453
END_OBJECT = IMAGE
/* MAP OBJECT DEFINITIONS */
OBJECT = IMAGE_MAP_PROJECTION
  ^DATA_SET_MAP_PROJECTION_CATALOG= "DSMAP.CAT"
  A_AXIS_RADIUS = 3396.0
  B_AXIS_RADIUS = 3396.0
  C_AXIS_RADIUS = 3396.0
  CENTER_LATITUDE = 0.0
  CENTER_LONGITUDE = 115.0
  COORDINATE_SYSTEM_NAME = PLANETOGRAPHIC
  COORDINATE_SYSTEM_TYPE = "BODY-FIXED ROTATING"
  EASTERNMOST_LONGITUDE = 117.127
  FIRST_STANDARD_PARALLEL = "N/A"
  LINE_FIRST_PIXEL = 1
  LINE_LAST_PIXEL = 16466
  LINE_PROJECTION_OFFSET = 51305.75
  MAP_PROJECTION_ROTATION = 0.0
  MAP_PROJECTION_TYPE = SINUSOIDAL
  MAP_RESOLUTION = 1185.42760773333
  MAP_SCALE = 0.05
  MAXIMUM_LATITUDE = 43.2549
  MINIMUM_LATITUDE = 29.3495
  POSITIVE_LONGITUDE_DIRECTION = EAST
  REFERENCE_LATITUDE = "N/A"
  REFERENCE_LONGITUDE = "N/A"
  SAMPLE_FIRST_PIXEL = 1
  SAMPLE_LAST_PIXEL = 3501
  SAMPLE_PROJECTION_OFFSET = 1947.75
  SECOND_STANDARD_PARALLEL = "N/A"
  WESTERNMOST_LONGITUDE = 112.34
END_OBJECT = IMAGE_MAP_PROJECTION
END
