PDS_VERSION_ID = PDS3
/* FILE DATA ELEMENTS */
RECORD_TYPE = UNDEFINED
/* POINTERS TO DATA OBJECTS */
^IMAGE = ("HA313_0000_BL4.TIF")
/* IDENTIFICATION DATA ELEMENTS */
DATA_SET_ID = "MEX-M-HRSC-4-REFDR-MAPPROJECT-EXT3-V4.0"
DATA_SET_NAME = "MARS EXPRESS HRSC MAP PROJECTED REFDR EXTENSION3 V4.0"
DETECTOR_ID = MEX_HRSC_BLUE
EVENT_TYPE = "MARS-REGIONAL-MAPPING-Te-Pf-Mw"
INSTRUMENT_HOST_ID = MEX
INSTRUMENT_HOST_NAME = "MARS EXPRESS"
INSTRUMENT_ID = HRSC
INSTRUMENT_NAME = "HIGH RESOLUTION STEREO CAMERA"
MISSION_NAME = "MARS EXPRESS"
MISSION_PHASE_NAME = ME_Phase_24
PROCESSING_LEVEL_ID = 4
PRODUCT_CREATION_TIME = 2023-02-04T22:47:41.000Z
PRODUCT_ID = "HA313_0000_BL4.TIF"
RELEASE_ID = 0008
REVISION_ID = 0000
/* QUALITY DATA ELEMENTS */
DATA_QUALITY_ID = 1
DATA_QUALITY_DESC = "Data calculated based on original SPICE kernels"
/* TIME DATA ELEMENTS */
SPACECRAFT_CLOCK_START_COUNT = "1/0276374438.09035"
SPACECRAFT_CLOCK_STOP_COUNT = "1/0276374879.54881"
START_TIME = 2012-02-03T18:41:31.330Z
STOP_TIME = 2012-02-03T18:45:30.989Z
/* ORBITAL DATA ELEMENTS */
ASCENDING_NODE_LONGITUDE = 20.43
MAXIMUM_RESOLUTION = 0.1013
FOOTPRINT_POINT_LATITUDE = (34.1612,34.1656,34.1689,34.171,34.172, 34.1715,34.1693,34.1691,34.1813,34.6807 ,35.3138,35.5689,35.8247,36.0841, 36.3429,36.6052,36.9997,37.2647,37.5316 ,37.7994,38.0668,38.3332,38.7323, 38.9976,39.2631,39.5271,39.7904,40.0529 ,40.315,40.5769,40.8379,41.0985,41.3586 ,41.6179,41.8766,42.1346,42.3921, 42.6492,42.9055,43.1611,43.6705,44.1775 ,44.6824,45.1847,45.56,46.0581,46.5538, 47.047,47.17,47.1846,47.1869,47.1874, 47.1843,47.1763,47.1684,47.1527,47.1336 ,47.1323,47.1305,46.6408,46.1486, 45.6538,45.1564,44.6565,44.1538,43.6489 ,43.1421,42.887,42.6318,42.3759,42.1193 ,41.862,41.6042,41.3459,41.087,40.8275, 40.5673,40.3064,40.045,39.7829,39.5203, 39.257,38.9932,38.7288,38.4638,38.1982, 37.9323,37.6655,37.2653,37.0005,36.7372 ,36.4756,36.2156,35.9577,35.5728, 35.1905,34.6855,34.3111,34.1861, 34.1612)
FOOTPRINT_POINT_LONGITUDE = (9.49482,9.10685,8.71771,8.32711, 7.93529,7.34467,6.89852,6.87369,6.83563 ,6.81238,6.77752,6.7674,6.75399,6.73986 ,6.72643,6.71215,6.69061,6.67583, 6.66064,6.64553,6.62976,6.61515,6.59127 ,6.57522,6.55682,6.54108,6.52561, 6.51049,6.49464,6.47765,6.46128,6.44445 ,6.42714,6.41008,6.3932,6.37636,6.35914 ,6.34146,6.32403,6.30666,6.27169, 6.23624,6.19935,6.16279,6.13421,6.09644 ,6.05797,6.01908,6.00915,6.008,6.43517, 7.12257,7.7633,8.52929,9.03876,9.80075, 10.5186,10.5608,10.5746,10.5143,10.4558 ,10.3988,10.3434,10.2897,10.2372, 10.1866,10.1385,10.1139,10.0903,10.067, 10.0441,10.0212,9.99906,9.97726,9.9559, 9.93479,9.91397,9.89345,9.87327,9.85333 ,9.83374,9.81454,9.7956,9.77702,9.75878 ,9.74087,9.72352,9.70616,9.68051,9.6635 ,9.64726,9.63137,9.6163,9.60208,9.58045 ,9.55953,9.53235,9.51284,9.50637, 9.49482)
ORBIT_NUMBER = 10313
ORBITAL_ECCENTRICITY = 0.578
ORBITAL_INCLINATION = 86.87
ORBITAL_SEMIMAJOR_AXIS = 8859.35
PERIAPSIS_ALTITUDE = 345.04
PERIAPSIS_ARGUMENT_ANGLE = 357.67
PERIAPSIS_TIME = 2012-02-03T18:31:52.000Z
SPACECRAFT_ORIENTATION = (0.0,1.0,0.0)
^MEX_ORIENTATION_DESC = "MEX_ORIENTATION_DESC.TXT"
SPACECRAFT_POINTING_MODE = ACROSSTRACK
^MEX_POINTING_DESC = "MEX_POINTING_DESC.TXT"
RIGHT_ASCENSION = -1e+32
DECLINATION = -1e+32
OFFSET_ANGLE = 0.5
SPACECRAFT_SOLAR_DISTANCE = 2.49119e+08
TARGET_NAME = MARS
/* CAMERA DATA ELEMENTS */
DETECTOR_TEMPERATURE = 19.1861
FOCAL_PLANE_TEMPERATURE = 9.3989
INST_CMPRS_NAME = "DISCRETE COSINE TRANSFORMATION (DCT)"
INST_CMPRS_RATIO = 8.11391
INST_CMPRS_QUALITY = 0
INST_CMPRS_QUANTZ_TBL_ID = 0
INSTRUMENT_TEMPERATURE = 12.6613
LENS_TEMPERATURE = 9.8067
MACROPIXEL_SIZE = 4
MISSING_FRAMES = 0
PIXEL_SUBSAMPLING_FLAG = N
SIGNAL_CHAIN_ID = 2
/* RADIOMETRIC DATA ELEMENTS */
BANDWIDTH = 76.0
CENTER_FILTER_WAVELENGTH = 444.0
RADIANCE_OFFSET = 0.174276
RADIANCE_SCALING_FACTOR = 0.0010935
REFLECTANCE_SCALING_FACTOR = 6.97246e-05
MEX:REFLECTANCE_OFFSET = 0.0111124
/* IMAGE OBJECT DEFINITIONS */
OBJECT = IMAGE
  INTERCHANGE_FORMAT = BINARY
  LINES = 7706
  LINE_SAMPLES = 1895
  SAMPLE_TYPE = UNSIGNED_INTEGER
  SAMPLE_BITS = 8
  BANDS = 1
  BAND_STORAGE_TYPE = BAND_SEQUENTIAL
  MAXIMUM = 255
  MEAN = 110.02
  MINIMUM = 1
  STANDARD_DEVIATION = 28.6201
END_OBJECT = IMAGE
/* MAP OBJECT DEFINITIONS */
OBJECT = IMAGE_MAP_PROJECTION
  ^DATA_SET_MAP_PROJECTION_CATALOG= "DSMAP.CAT"
  A_AXIS_RADIUS = 3396.0
  B_AXIS_RADIUS = 3396.0
  C_AXIS_RADIUS = 3396.0
  CENTER_LATITUDE = 0.0
  CENTER_LONGITUDE = 8.0
  COORDINATE_SYSTEM_NAME = PLANETOGRAPHIC
  COORDINATE_SYSTEM_TYPE = "BODY-FIXED ROTATING"
  EASTERNMOST_LONGITUDE = 10.5746
  FIRST_STANDARD_PARALLEL = "N/A"
  LINE_FIRST_PIXEL = 1
  LINE_LAST_PIXEL = 7706
  LINE_PROJECTION_OFFSET = 27965.125
  MAP_PROJECTION_ROTATION = 0.0
  MAP_PROJECTION_TYPE = SINUSOIDAL
  MAP_RESOLUTION = 592.713803866667
  MAP_SCALE = 0.1
  MAXIMUM_LATITUDE = 47.1874
  MINIMUM_LATITUDE = 34.1612
  POSITIVE_LONGITUDE_DIRECTION = EAST
  REFERENCE_LATITUDE = "N/A"
  REFERENCE_LONGITUDE = "N/A"
  SAMPLE_FIRST_PIXEL = 1
  SAMPLE_LAST_PIXEL = 1895
  SAMPLE_PROJECTION_OFFSET = 834.125
  SECOND_STANDARD_PARALLEL = "N/A"
  WESTERNMOST_LONGITUDE = 6.008
END_OBJECT = IMAGE_MAP_PROJECTION
END
