PDS_VERSION_ID = PDS3
/* FILE DATA ELEMENTS */
RECORD_TYPE = UNDEFINED
/* POINTERS TO DATA OBJECTS */
^IMAGE = ("HA312_0000_GR4.TIF")
/* IDENTIFICATION DATA ELEMENTS */
DATA_SET_ID = "MEX-M-HRSC-4-REFDR-MAPPROJECT-EXT3-V4.0"
DATA_SET_NAME = "MARS EXPRESS HRSC MAP PROJECTED REFDR EXTENSION3 V4.0"
DETECTOR_ID = MEX_HRSC_GREEN
EVENT_TYPE = "MARS-REGIONAL-MAPPING-Vo-Pf-Mw"
INSTRUMENT_HOST_ID = MEX
INSTRUMENT_HOST_NAME = "MARS EXPRESS"
INSTRUMENT_ID = HRSC
INSTRUMENT_NAME = "HIGH RESOLUTION STEREO CAMERA"
MISSION_NAME = "MARS EXPRESS"
MISSION_PHASE_NAME = ME_Phase_24
PROCESSING_LEVEL_ID = 4
PRODUCT_CREATION_TIME = 2023-02-04T22:47:41.000Z
PRODUCT_ID = "HA312_0000_GR4.TIF"
RELEASE_ID = 0008
REVISION_ID = 0000
/* QUALITY DATA ELEMENTS */
DATA_QUALITY_ID = 1
DATA_QUALITY_DESC = "Data calculated based on original SPICE kernels"
/* TIME DATA ELEMENTS */
SPACECRAFT_CLOCK_START_COUNT = "1/0276349262.09042"
SPACECRAFT_CLOCK_STOP_COUNT = "1/0276349861.21710"
START_TIME = 2012-02-03T11:42:18.821Z
STOP_TIME = 2012-02-03T11:48:31.519Z
/* ORBITAL DATA ELEMENTS */
ASCENDING_NODE_LONGITUDE = 20.44
MAXIMUM_RESOLUTION = 0.1056
FOOTPRINT_POINT_LATITUDE = (34.6412,34.6527,34.66,34.6613,34.6598, 34.6597,34.65,35.4117,35.8744,36.3419, 36.814,37.2913,37.9351,38.5881,39.2506, 39.9233,40.605,41.298,42.0011,42.3565, 42.7149,43.0759,43.4396,43.8066,44.1761 ,44.5488,44.9243,45.3028,45.6844, 46.0688,46.4564,46.8477,47.2419,47.6393 ,48.0399,48.4442,48.8519,49.2626, 49.6773,50.0951,50.5171,50.9422,51.3717 ,51.8041,52.2411,52.6817,52.9035, 53.1085,53.1073,53.0995,53.0905,53.071, 53.0542,53.03,52.9963,52.9565,52.9535, 52.9503,52.2951,51.8625,51.4337,51.0085 ,50.5865,50.1683,49.7533,49.3418, 48.9336,48.5285,48.1272,47.7287,47.3331 ,46.9412,46.5523,46.1664,45.7834, 45.4034,45.0261,44.652,44.2808,43.9125, 43.5468,43.1841,42.8241,42.4666,42.1117 ,41.7596,41.0638,40.3777,39.7009, 39.0346,38.3773,37.7297,37.2495,36.7741 ,36.3038,35.8382,35.3771,34.9207, 34.7692,34.6412)
FOOTPRINT_POINT_LONGITUDE = (112.456,111.713,110.869,110.384, 109.743,109.717,109.685,109.649,109.627 ,109.605,109.582,109.558,109.525, 109.491,109.456,109.419,109.381,109.341 ,109.299,109.278,109.256,109.234, 109.211,109.188,109.164,109.139,109.115 ,109.089,109.063,109.036,109.009, 108.981,108.952,108.923,108.893,108.862 ,108.83,108.797,108.764,108.729,108.694 ,108.657,108.62,108.581,108.542,108.501 ,108.48,108.461,109.463,110.29,110.879, 111.762,112.351,113.058,113.88,114.704, 114.763,114.782,114.639,114.548,114.46, 114.376,114.295,114.218,114.143,114.071 ,114.001,113.934,113.87,113.808,113.748 ,113.69,113.634,113.58,113.528,113.478, 113.429,113.382,113.337,113.293,113.25, 113.209,113.169,113.13,113.093,113.057, 112.988,112.923,112.861,112.804,112.749 ,112.698,112.661,112.626,112.593,112.56 ,112.529,112.5,112.49,112.456)
ORBIT_NUMBER = 10312
ORBITAL_ECCENTRICITY = 0.578
ORBITAL_INCLINATION = 86.87
ORBITAL_SEMIMAJOR_AXIS = 8862.75
PERIAPSIS_ALTITUDE = 344.57
PERIAPSIS_ARGUMENT_ANGLE = 357.84
PERIAPSIS_TIME = 2012-02-03T11:32:12.000Z
SPACECRAFT_ORIENTATION = (0.0,1.0,0.0)
^MEX_ORIENTATION_DESC = "MEX_ORIENTATION_DESC.TXT"
SPACECRAFT_POINTING_MODE = NADIR
^MEX_POINTING_DESC = "MEX_POINTING_DESC.TXT"
RIGHT_ASCENSION = -1e+32
DECLINATION = -1e+32
OFFSET_ANGLE = -1e+32
SPACECRAFT_SOLAR_DISTANCE = 2.49113e+08
TARGET_NAME = MARS
/* CAMERA DATA ELEMENTS */
DETECTOR_TEMPERATURE = 18.9822
FOCAL_PLANE_TEMPERATURE = 9.3989
INST_CMPRS_NAME = "DISCRETE COSINE TRANSFORMATION (DCT)"
INST_CMPRS_RATIO = 18.7554
INST_CMPRS_QUALITY = 0
INST_CMPRS_QUANTZ_TBL_ID = 0
INSTRUMENT_TEMPERATURE = 13.0691
LENS_TEMPERATURE = 10.2145
MACROPIXEL_SIZE = 4
MISSING_FRAMES = 0
PIXEL_SUBSAMPLING_FLAG = N
SIGNAL_CHAIN_ID = 2
/* RADIOMETRIC DATA ELEMENTS */
BANDWIDTH = 88.0
CENTER_FILTER_WAVELENGTH = 538.0
RADIANCE_OFFSET = 0.48146
RADIANCE_SCALING_FACTOR = 0.00151046
REFLECTANCE_SCALING_FACTOR = 8.07037e-05
MEX:REFLECTANCE_OFFSET = 0.0257243
/* IMAGE OBJECT DEFINITIONS */
OBJECT = IMAGE
  INTERCHANGE_FORMAT = BINARY
  LINES = 10954
  LINE_SAMPLES = 2203
  SAMPLE_TYPE = UNSIGNED_INTEGER
  SAMPLE_BITS = 8
  BANDS = 1
  BAND_STORAGE_TYPE = BAND_SEQUENTIAL
  MAXIMUM = 255
  MEAN = 114.88
  MINIMUM = 1
  STANDARD_DEVIATION = 36.3401
END_OBJECT = IMAGE
/* MAP OBJECT DEFINITIONS */
OBJECT = IMAGE_MAP_PROJECTION
  ^DATA_SET_MAP_PROJECTION_CATALOG= "DSMAP.CAT"
  A_AXIS_RADIUS = 3396.0
  B_AXIS_RADIUS = 3396.0
  C_AXIS_RADIUS = 3396.0
  CENTER_LATITUDE = 0.0
  CENTER_LONGITUDE = 111.0
  COORDINATE_SYSTEM_NAME = PLANETOGRAPHIC
  COORDINATE_SYSTEM_TYPE = "BODY-FIXED ROTATING"
  EASTERNMOST_LONGITUDE = 114.782
  FIRST_STANDARD_PARALLEL = "N/A"
  LINE_FIRST_PIXEL = 1
  LINE_LAST_PIXEL = 10954
  LINE_PROJECTION_OFFSET = 31475.875
  MAP_PROJECTION_ROTATION = 0.0
  MAP_PROJECTION_TYPE = SINUSOIDAL
  MAP_RESOLUTION = 592.713803866667
  MAP_SCALE = 0.1
  MAXIMUM_LATITUDE = 53.1085
  MINIMUM_LATITUDE = 34.6412
  POSITIVE_LONGITUDE_DIRECTION = EAST
  REFERENCE_LATITUDE = "N/A"
  REFERENCE_LONGITUDE = "N/A"
  SAMPLE_FIRST_PIXEL = 1
  SAMPLE_LAST_PIXEL = 2203
  SAMPLE_PROJECTION_OFFSET = 882.625
  SECOND_STANDARD_PARALLEL = "N/A"
  WESTERNMOST_LONGITUDE = 108.461
END_OBJECT = IMAGE_MAP_PROJECTION
END
