PDS_VERSION_ID = PDS3
/* FILE DATA ELEMENTS */
RECORD_TYPE = UNDEFINED
/* POINTERS TO DATA OBJECTS */
^IMAGE = ("HA306_0000_P14.TIF")
/* IDENTIFICATION DATA ELEMENTS */
DATA_SET_ID = "MEX-M-HRSC-4-REFDR-MAPPROJECT-EXT3-V4.0"
DATA_SET_NAME = "MARS EXPRESS HRSC MAP PROJECTED REFDR EXTENSION3 V4.0"
DETECTOR_ID = MEX_HRSC_P1
EVENT_TYPE = "MARS-REGIONAL-MAPPING-Te-Pf-Mw"
INSTRUMENT_HOST_ID = MEX
INSTRUMENT_HOST_NAME = "MARS EXPRESS"
INSTRUMENT_ID = HRSC
INSTRUMENT_NAME = "HIGH RESOLUTION STEREO CAMERA"
MISSION_NAME = "MARS EXPRESS"
MISSION_PHASE_NAME = ME_Phase_24
PROCESSING_LEVEL_ID = 4
PRODUCT_CREATION_TIME = 2023-02-04T22:47:41.000Z
PRODUCT_ID = "HA306_0000_P14.TIF"
RELEASE_ID = 0008
REVISION_ID = 0000
/* QUALITY DATA ELEMENTS */
DATA_QUALITY_ID = 1
DATA_QUALITY_DESC = "Data calculated based on original SPICE kernels"
/* TIME DATA ELEMENTS */
SPACECRAFT_CLOCK_START_COUNT = "1/0276198166.09054"
SPACECRAFT_CLOCK_STOP_COUNT = "1/0276198752.24223"
START_TIME = 2012-02-01T17:44:36.031Z
STOP_TIME = 2012-02-01T17:51:25.823Z
/* ORBITAL DATA ELEMENTS */
ASCENDING_NODE_LONGITUDE = 20.56
MAXIMUM_RESOLUTION = 0.0556
FOOTPRINT_POINT_LATITUDE = (34.7469,34.7443,34.7395,34.7327, 34.7235,34.712,34.6924,34.6914,34.6524, 35.1162,35.5835,36.0573,36.6942,37.3392 ,38.1541,38.8204,39.4979,40.1818, 40.8772,41.2286,41.5819,41.9374,42.2964 ,42.8465,43.212,43.5808,43.9518,44.3252 ,44.7024,45.0823,45.465,45.8505,46.2389 ,46.6309,47.0261,47.4241,47.8247, 48.2288,48.6363,49.0473,49.4608,49.8786 ,50.2994,50.7232,51.1507,51.582,52.0168 ,52.6753,52.8969,53.1171,53.1331, 53.1472,53.1551,53.1595,53.1523,53.1423 ,53.1162,53.0823,53.0796,53.0777, 52.4217,51.988,51.5579,51.1313,50.7077, 50.2878,49.8707,49.4567,49.0464,48.6392 ,48.2343,47.8328,47.4341,47.0388, 46.6465,46.257,45.8711,45.487,45.1073, 44.7287,44.3542,43.9821,43.6119,43.2449 ,42.8805,42.5126,42.154,41.7975,41.0933 ,40.3989,39.7158,38.8697,38.2044, 37.5547,36.9067,36.2697,35.639,35.0164, 34.8611,34.7469)
FOOTPRINT_POINT_LONGITUDE = (5.14883,4.7119,4.27261,3.83023,3.38523 ,2.93725,2.31487,2.28643,2.23858, 2.20865,2.17686,2.14592,2.10109,2.05465 ,1.98964,1.93906,1.88788,1.8317,1.77445 ,1.74488,1.71376,1.68147,1.6494,1.59946 ,1.56515,1.53042,1.49412,1.45677, 1.41956,1.38111,1.34111,1.29998,1.25797 ,1.21478,1.17111,1.12569,1.07803, 1.02965,0.980022,0.929063,0.87592, 0.821635,0.765743,0.70781,0.648073, 0.58653,0.522702,0.422929,0.388656, 0.353989,0.960096,1.70123,2.3053, 3.37302,4.43529,5.09721,6.15091,7.13492 ,7.20041,7.22377,7.09047,7.00628, 6.92534,6.84766,6.77323,6.70162,6.63281 ,6.56654,6.50287,6.44152,6.38266, 6.32591,6.27125,6.21855,6.16783,6.11879 ,6.07153,6.02607,5.9818,5.93962,5.89859 ,5.85901,5.82085,5.78391,5.74824,5.7131 ,5.6797,5.64745,5.58589,5.52821,5.47385 ,5.41155,5.36488,5.32023,5.27899, 5.24014,5.20353,5.1692,5.16103,5.14883)
ORBIT_NUMBER = 10306
ORBITAL_ECCENTRICITY = 0.578
ORBITAL_INCLINATION = 86.87
ORBITAL_SEMIMAJOR_AXIS = 8858.95
PERIAPSIS_ALTITUDE = 345.64
PERIAPSIS_ARGUMENT_ANGLE = 358.88
PERIAPSIS_TIME = 2012-02-01T17:34:11.000Z
SPACECRAFT_ORIENTATION = (0.0,1.0,0.0)
^MEX_ORIENTATION_DESC = "MEX_ORIENTATION_DESC.TXT"
SPACECRAFT_POINTING_MODE = ACROSSTRACK
^MEX_POINTING_DESC = "MEX_POINTING_DESC.TXT"
RIGHT_ASCENSION = -1e+32
DECLINATION = -1e+32
OFFSET_ANGLE = 0.916
SPACECRAFT_SOLAR_DISTANCE = 2.49079e+08
TARGET_NAME = MARS
/* CAMERA DATA ELEMENTS */
DETECTOR_TEMPERATURE = 18.1666
FOCAL_PLANE_TEMPERATURE = 9.3989
INST_CMPRS_NAME = "DISCRETE COSINE TRANSFORMATION (DCT)"
INST_CMPRS_RATIO = 12.358
INST_CMPRS_QUALITY = 0
INST_CMPRS_QUANTZ_TBL_ID = 0
INSTRUMENT_TEMPERATURE = 12.8652
LENS_TEMPERATURE = 10.0106
MACROPIXEL_SIZE = 2
MISSING_FRAMES = 1
PIXEL_SUBSAMPLING_FLAG = N
SIGNAL_CHAIN_ID = 3
/* RADIOMETRIC DATA ELEMENTS */
BANDWIDTH = 174.0
CENTER_FILTER_WAVELENGTH = 675.0
RADIANCE_OFFSET = 1.06046
RADIANCE_SCALING_FACTOR = 0.00810407
REFLECTANCE_SCALING_FACTOR = 0.000270435
MEX:REFLECTANCE_OFFSET = 0.0353879
/* IMAGE OBJECT DEFINITIONS */
OBJECT = IMAGE
  INTERCHANGE_FORMAT = BINARY
  LINES = 21927
  LINE_SAMPLES = 4323
  SAMPLE_TYPE = UNSIGNED_INTEGER
  SAMPLE_BITS = 8
  BANDS = 1
  BAND_STORAGE_TYPE = BAND_SEQUENTIAL
  MAXIMUM = 255
  MEAN = 76.0968
  MINIMUM = 1
  STANDARD_DEVIATION = 24.2614
END_OBJECT = IMAGE
/* MAP OBJECT DEFINITIONS */
OBJECT = IMAGE_MAP_PROJECTION
  ^DATA_SET_MAP_PROJECTION_CATALOG= "DSMAP.CAT"
  A_AXIS_RADIUS = 3396.0
  B_AXIS_RADIUS = 3396.0
  C_AXIS_RADIUS = 3396.0
  CENTER_LATITUDE = 0.0
  CENTER_LONGITUDE = 4.0
  COORDINATE_SYSTEM_NAME = PLANETOGRAPHIC
  COORDINATE_SYSTEM_TYPE = "BODY-FIXED ROTATING"
  EASTERNMOST_LONGITUDE = 7.22377
  FIRST_STANDARD_PARALLEL = "N/A"
  LINE_FIRST_PIXEL = 1
  LINE_LAST_PIXEL = 21927
  LINE_PROJECTION_OFFSET = 63040.75
  MAP_PROJECTION_ROTATION = 0.0
  MAP_PROJECTION_TYPE = SINUSOIDAL
  MAP_RESOLUTION = 1185.42760773333
  MAP_SCALE = 0.05
  MAXIMUM_LATITUDE = 53.1595
  MINIMUM_LATITUDE = 34.6524
  POSITIVE_LONGITUDE_DIRECTION = EAST
  REFERENCE_LATITUDE = "N/A"
  REFERENCE_LONGITUDE = "N/A"
  SAMPLE_FIRST_PIXEL = 1
  SAMPLE_LAST_PIXEL = 4323
  SAMPLE_PROJECTION_OFFSET = 2282.25
  SECOND_STANDARD_PARALLEL = "N/A"
  WESTERNMOST_LONGITUDE = 0.353989
END_OBJECT = IMAGE_MAP_PROJECTION
END
