PDS_VERSION_ID = PDS3
/* FILE DATA ELEMENTS */
RECORD_TYPE = UNDEFINED
/* POINTERS TO DATA OBJECTS */
^IMAGE = ("HA182_0000_GR4.TIF")
/* IDENTIFICATION DATA ELEMENTS */
DATA_SET_ID = "MEX-M-HRSC-4-REFDR-MAPPROJECT-EXT3-V4.0"
DATA_SET_NAME = "MARS EXPRESS HRSC MAP PROJECTED REFDR EXTENSION3 V4.0"
DETECTOR_ID = MEX_HRSC_GREEN
EVENT_TYPE = "MARS-GLOBAL-VARIABLE-Gl-At"
INSTRUMENT_HOST_ID = MEX
INSTRUMENT_HOST_NAME = "MARS EXPRESS"
INSTRUMENT_ID = HRSC
INSTRUMENT_NAME = "HIGH RESOLUTION STEREO CAMERA"
MISSION_NAME = "MARS EXPRESS"
MISSION_PHASE_NAME = ME_Phase_24
PROCESSING_LEVEL_ID = 4
PRODUCT_CREATION_TIME = 2023-02-04T22:47:41.000Z
PRODUCT_ID = "HA182_0000_GR4.TIF"
RELEASE_ID = 0008
REVISION_ID = 0000
/* QUALITY DATA ELEMENTS */
DATA_QUALITY_ID = 1
DATA_QUALITY_DESC = "Data calculated based on original SPICE kernels"
/* TIME DATA ELEMENTS */
SPACECRAFT_CLOCK_START_COUNT = "1/0273076140.08241"
SPACECRAFT_CLOCK_STOP_COUNT = "1/0273077280.27450"
START_TIME = 2011-12-27T14:32:35.513Z
STOP_TIME = 2011-12-27T14:38:11.971Z
/* ORBITAL DATA ELEMENTS */
ASCENDING_NODE_LONGITUDE = 22.92
MAXIMUM_RESOLUTION = 0.1196
FOOTPRINT_POINT_LATITUDE = (83.628,84.0286,84.3773,84.8439,85.1722 ,85.3719,85.6801,85.9722,86.2449, 86.4936,86.7129,86.8967,87.0378,87.1013 ,87.1116,87.0993,87.4712,87.7176, 87.9625,88.2057,88.447,88.6858,88.9211, 89.1509,89.3703,89.6879,89.4943,89.0724 ,88.6212,88.1652,87.7097,87.2559, 86.8042,86.3559,85.9108,85.469,85.0306, 84.5951,84.1628,83.7344,83.3086,82.8861 ,82.4673,82.0511,81.6383,81.5356, 81.5004,81.5168,81.5158,81.5054,81.4862 ,81.4328,81.3791,81.3269,81.2175, 81.1436,81.0626,80.9743,80.879,80.7499, 80.5812,80.4609,80.3347,80.2027,80.065, 79.9219,79.7734,79.6196,79.4204,79.3796 ,79.3654,79.6986,80.0292,80.3566, 80.6798,80.9982,81.3106,81.616,81.9128, 82.1997,82.4748,82.7362,82.9817,83.2088 ,83.4148,83.5969,83.7523,83.8778, 83.9709,84.0291,84.0504,84.0335,83.9774 ,83.9344,83.8829,83.8215,83.7505,83.627 ,83.5814,83.628)
FOOTPRINT_POINT_LONGITUDE = (147.425,145.51,143.585,140.524,137.931 ,136.124,132.896,129.19,124.922,120.014 ,114.4,108.034,100.952,96.2143,95.2427, 93.8496,94.7217,95.4615,96.3805,97.5542 ,99.082,101.162,104.146,108.747,116.619 ,164.483,230.84,248.628,255.004,258.191 ,260.103,261.357,262.229,262.887, 263.394,263.8,264.132,264.396,264.615, 264.811,264.968,265.105,265.232,265.334 ,265.426,265.448,265.455,262.691, 260.374,258.525,256.683,253.498,251.254 ,249.481,246.438,244.734,243.06,241.418 ,239.807,237.839,235.549,234.069, 232.625,231.218,229.847,228.513,227.215 ,225.95,224.418,224.118,224.008,222.82, 221.536,220.147,218.643,217.012,215.242 ,213.32,211.231,208.962,206.496,203.819 ,200.919,197.786,194.411,190.796, 186.948,182.885,178.635,174.238,169.742 ,165.203,160.68,158.443,156.234,154.056 ,151.915,148.785,147.766,147.425)
ORBIT_NUMBER = 10182
ORBITAL_ECCENTRICITY = 0.576
ORBITAL_INCLINATION = 86.88
ORBITAL_SEMIMAJOR_AXIS = 8852.69
PERIAPSIS_ALTITUDE = 356.83
PERIAPSIS_ARGUMENT_ANGLE = 20.31
PERIAPSIS_TIME = 2011-12-27T14:11:28.000Z
SPACECRAFT_ORIENTATION = (0.0,1.0,0.0)
^MEX_ORIENTATION_DESC = "MEX_ORIENTATION_DESC.TXT"
SPACECRAFT_POINTING_MODE = NADIR
^MEX_POINTING_DESC = "MEX_POINTING_DESC.TXT"
RIGHT_ASCENSION = -1e+32
DECLINATION = -1e+32
OFFSET_ANGLE = -1e+32
SPACECRAFT_SOLAR_DISTANCE = 2.47361e+08
TARGET_NAME = MARS
/* CAMERA DATA ELEMENTS */
DETECTOR_TEMPERATURE = 19.1861
FOCAL_PLANE_TEMPERATURE = 9.195
INST_CMPRS_NAME = "DISCRETE COSINE TRANSFORMATION (DCT)"
INST_CMPRS_RATIO = 12.7637
INST_CMPRS_QUALITY = 0
INST_CMPRS_QUANTZ_TBL_ID = 0
INSTRUMENT_TEMPERATURE = 12.8652
LENS_TEMPERATURE = 9.3989
MACROPIXEL_SIZE = 2
MISSING_FRAMES = 0
PIXEL_SUBSAMPLING_FLAG = N
SIGNAL_CHAIN_ID = 2
/* RADIOMETRIC DATA ELEMENTS */
BANDWIDTH = 88.0
CENTER_FILTER_WAVELENGTH = 538.0
RADIANCE_OFFSET = 0.97572
RADIANCE_SCALING_FACTOR = 0.00754338
REFLECTANCE_SCALING_FACTOR = 0.000397394
MEX:REFLECTANCE_OFFSET = 0.0514021
/* IMAGE OBJECT DEFINITIONS */
OBJECT = IMAGE
  INTERCHANGE_FORMAT = BINARY
  LINES = 4288
  LINE_SAMPLES = 7041
  SAMPLE_TYPE = UNSIGNED_INTEGER
  SAMPLE_BITS = 8
  BANDS = 1
  BAND_STORAGE_TYPE = BAND_SEQUENTIAL
  MAXIMUM = 255
  MEAN = 117.398
  MINIMUM = 1
  STANDARD_DEVIATION = 46.0012
END_OBJECT = IMAGE
/* MAP OBJECT DEFINITIONS */
OBJECT = IMAGE_MAP_PROJECTION
  ^DATA_SET_MAP_PROJECTION_CATALOG= "DSMAP.CAT"
  A_AXIS_RADIUS = 3396.0
  B_AXIS_RADIUS = 3396.0
  C_AXIS_RADIUS = 3396.0
  CENTER_LATITUDE = 90.0
  CENTER_LONGITUDE = 0.0
  COORDINATE_SYSTEM_NAME = PLANETOGRAPHIC
  COORDINATE_SYSTEM_TYPE = "BODY-FIXED ROTATING"
  EASTERNMOST_LONGITUDE = 265.455
  FIRST_STANDARD_PARALLEL = "N/A"
  LINE_FIRST_PIXEL = 1
  LINE_LAST_PIXEL = 4288
  LINE_PROJECTION_OFFSET = 4454.25
  MAP_PROJECTION_ROTATION = 0.0
  MAP_PROJECTION_TYPE = STEREOGRAPHIC
  MAP_RESOLUTION = 592.713803866667
  MAP_SCALE = 0.1
  MAXIMUM_LATITUDE = 89.6879
  MINIMUM_LATITUDE = 79.36539999999999
  POSITIVE_LONGITUDE_DIRECTION = EAST
  REFERENCE_LATITUDE = "N/A"
  REFERENCE_LONGITUDE = "N/A"
  SAMPLE_FIRST_PIXEL = 1
  SAMPLE_LAST_PIXEL = 7041
  SAMPLE_PROJECTION_OFFSET = 5000.75
  SECOND_STANDARD_PARALLEL = "N/A"
  WESTERNMOST_LONGITUDE = 93.8496
END_OBJECT = IMAGE_MAP_PROJECTION
END
