PDS_VERSION_ID = PDS3
/* FILE DATA ELEMENTS */
RECORD_TYPE = UNDEFINED
/* POINTERS TO DATA OBJECTS */
^IMAGE = ("HA176_0000_S24.TIF")
/* IDENTIFICATION DATA ELEMENTS */
DATA_SET_ID = "MEX-M-HRSC-4-REFDR-MAPPROJECT-EXT3-V4.0"
DATA_SET_NAME = "MARS EXPRESS HRSC MAP PROJECTED REFDR EXTENSION3 V4.0"
DETECTOR_ID = MEX_HRSC_S2
EVENT_TYPE = "MARS-GLOBAL-VARIABLE-Gl-At"
INSTRUMENT_HOST_ID = MEX
INSTRUMENT_HOST_NAME = "MARS EXPRESS"
INSTRUMENT_ID = HRSC
INSTRUMENT_NAME = "HIGH RESOLUTION STEREO CAMERA"
MISSION_NAME = "MARS EXPRESS"
MISSION_PHASE_NAME = ME_Phase_24
PROCESSING_LEVEL_ID = 4
PRODUCT_CREATION_TIME = 2023-02-04T22:47:41.000Z
PRODUCT_ID = "HA176_0000_S24.TIF"
RELEASE_ID = 0008
REVISION_ID = 0000
/* QUALITY DATA ELEMENTS */
DATA_QUALITY_ID = 1
DATA_QUALITY_DESC = "Data calculated based on original SPICE kernels"
/* TIME DATA ELEMENTS */
SPACECRAFT_CLOCK_START_COUNT = "1/0272925034.09050"
SPACECRAFT_CLOCK_STOP_COUNT = "1/0272926093.05677"
START_TIME = 2011-12-25T20:30:37.554Z
STOP_TIME = 2011-12-25T20:34:06.245Z
/* ORBITAL DATA ELEMENTS */
ASCENDING_NODE_LONGITUDE = 23.04
MAXIMUM_RESOLUTION = 0.1001
FOOTPRINT_POINT_LATITUDE = (84.3481,84.5999,84.8835,85.1622, 85.4351,85.7014,85.9598,86.2086,86.446, 86.6697,86.8769,87.064,87.2268,87.3456, 87.3606,87.5469,87.751,88.0502,88.246, 88.4358,88.7064,88.9435,89.0739,89.1981 ,89.2167,89.1784,89.0906,88.9661, 88.7346,88.5616,88.3801,88.0962,87.9018 ,87.7054,87.507,87.3072,86.9005,86.3965 ,85.9888,85.7819,85.5741,85.1715, 84.7584,84.2547,83.9517,83.5481,83.1459 ,82.7449,82.3449,81.9457,81.8461,81.829 ,81.7993,81.7491,81.6769,81.5836, 81.4702,81.3364,81.1843,81.0141,80.899, 80.7524,80.5433,80.3766,80.0198,79.9887 ,79.9783,80.3159,80.6499,81.1428, 81.4644,81.8577,82.1632,82.4609,82.7521 ,82.9615,83.2299,83.4818,83.719,83.8834 ,84.0842,84.262,84.4476,84.5638,84.6112 ,84.6501,84.6808,84.7031,84.7169,84.722 ,84.7185,84.7062,84.6853,84.6556, 84.6174,84.5708,84.5159,84.4186,84.3823 ,84.3481)
FOOTPRINT_POINT_LONGITUDE = (403.207,401.835,400.114,398.204, 396.076,393.693,391.012,387.986,384.56, 380.669,376.247,371.232,365.581,360.112 ,359.292,359.29,361.041,364.338,367.161 ,370.674,377.843,388.41,398.27,417.972, 433.391,448.364,461.217,471.393,482.382 ,487.625,491.685,496.292,498.657, 500.605,502.239,503.629,505.9,507.941, 509.217,509.778,510.29,511.109,511.848, 512.567,512.943,513.387,513.773,514.112 ,514.413,514.681,514.744,514.754, 511.471,508.575,505.732,502.951,500.243 ,497.618,495.078,492.63,491.151,489.426 ,487.215,485.622,482.603,482.362, 482.272,481.074,479.78,477.641,476.069, 473.915,472.03,469.979,467.732,465.927, 463.335,460.536,457.488,455.055,451.596 ,447.892,442.939,438.744,436.562, 434.353,432.112,429.842,427.553,425.254 ,422.95,420.646,418.354,416.08,413.831, 411.616,409.435,406.249,405.211, 403.207)
ORBIT_NUMBER = 10176
ORBITAL_ECCENTRICITY = 0.576
ORBITAL_INCLINATION = 86.87
ORBITAL_SEMIMAJOR_AXIS = 8842.95
PERIAPSIS_ALTITUDE = 358.45
PERIAPSIS_ARGUMENT_ANGLE = 21.35
PERIAPSIS_TIME = 2011-12-25T20:13:09.000Z
SPACECRAFT_ORIENTATION = (0.0,1.0,0.0)
^MEX_ORIENTATION_DESC = "MEX_ORIENTATION_DESC.TXT"
SPACECRAFT_POINTING_MODE = NADIR
^MEX_POINTING_DESC = "MEX_POINTING_DESC.TXT"
RIGHT_ASCENSION = -1e+32
DECLINATION = -1e+32
OFFSET_ANGLE = -1e+32
SPACECRAFT_SOLAR_DISTANCE = 2.47231e+08
TARGET_NAME = MARS
/* CAMERA DATA ELEMENTS */
DETECTOR_TEMPERATURE = 19.39
FOCAL_PLANE_TEMPERATURE = 9.3989
INST_CMPRS_NAME = "DISCRETE COSINE TRANSFORMATION (DCT)"
INST_CMPRS_RATIO = 11.8553
INST_CMPRS_QUALITY = 0
INST_CMPRS_QUANTZ_TBL_ID = 0
INSTRUMENT_TEMPERATURE = 12.4574
LENS_TEMPERATURE = 9.6028
MACROPIXEL_SIZE = 2
MISSING_FRAMES = 0
PIXEL_SUBSAMPLING_FLAG = N
SIGNAL_CHAIN_ID = 1
/* RADIOMETRIC DATA ELEMENTS */
BANDWIDTH = 178.0
CENTER_FILTER_WAVELENGTH = 679.0
RADIANCE_OFFSET = 3.309
RADIANCE_SCALING_FACTOR = 0.0209066
REFLECTANCE_SCALING_FACTOR = 0.000676735
MEX:REFLECTANCE_OFFSET = 0.107111
/* IMAGE OBJECT DEFINITIONS */
OBJECT = IMAGE
  INTERCHANGE_FORMAT = BINARY
  LINES = 7001
  LINE_SAMPLES = 5565
  SAMPLE_TYPE = UNSIGNED_INTEGER
  SAMPLE_BITS = 8
  BANDS = 1
  BAND_STORAGE_TYPE = BAND_SEQUENTIAL
  MAXIMUM = 255
  MEAN = 103.098
  MINIMUM = 1
  STANDARD_DEVIATION = 42.8184
END_OBJECT = IMAGE
/* MAP OBJECT DEFINITIONS */
OBJECT = IMAGE_MAP_PROJECTION
  ^DATA_SET_MAP_PROJECTION_CATALOG= "DSMAP.CAT"
  A_AXIS_RADIUS = 3396.0
  B_AXIS_RADIUS = 3396.0
  C_AXIS_RADIUS = 3396.0
  CENTER_LATITUDE = 90.0
  CENTER_LONGITUDE = 0.0
  COORDINATE_SYSTEM_NAME = PLANETOGRAPHIC
  COORDINATE_SYSTEM_TYPE = "BODY-FIXED ROTATING"
  EASTERNMOST_LONGITUDE = 154.754
  FIRST_STANDARD_PARALLEL = "N/A"
  LINE_FIRST_PIXEL = 1
  LINE_LAST_PIXEL = 7001
  LINE_PROJECTION_OFFSET = 4506.75
  MAP_PROJECTION_ROTATION = 0.0
  MAP_PROJECTION_TYPE = STEREOGRAPHIC
  MAP_RESOLUTION = 592.713803866667
  MAP_SCALE = 0.1
  MAXIMUM_LATITUDE = 89.2167
  MINIMUM_LATITUDE = 79.9783
  POSITIVE_LONGITUDE_DIRECTION = EAST
  REFERENCE_LATITUDE = "N/A"
  REFERENCE_LONGITUDE = "N/A"
  SAMPLE_FIRST_PIXEL = 1
  SAMPLE_LAST_PIXEL = 5565
  SAMPLE_PROJECTION_OFFSET = 163.75
  SECOND_STANDARD_PARALLEL = "N/A"
  WESTERNMOST_LONGITUDE = -0.71
END_OBJECT = IMAGE_MAP_PROJECTION
END
