PDS_VERSION_ID = PDS3
/* FILE DATA ELEMENTS */
RECORD_TYPE = UNDEFINED
/* POINTERS TO DATA OBJECTS */
^IMAGE = ("HA176_0000_BL4.TIF")
/* IDENTIFICATION DATA ELEMENTS */
DATA_SET_ID = "MEX-M-HRSC-4-REFDR-MAPPROJECT-EXT3-V4.0"
DATA_SET_NAME = "MARS EXPRESS HRSC MAP PROJECTED REFDR EXTENSION3 V4.0"
DETECTOR_ID = MEX_HRSC_BLUE
EVENT_TYPE = "MARS-GLOBAL-VARIABLE-Gl-At"
INSTRUMENT_HOST_ID = MEX
INSTRUMENT_HOST_NAME = "MARS EXPRESS"
INSTRUMENT_ID = HRSC
INSTRUMENT_NAME = "HIGH RESOLUTION STEREO CAMERA"
MISSION_NAME = "MARS EXPRESS"
MISSION_PHASE_NAME = ME_Phase_24
PROCESSING_LEVEL_ID = 4
PRODUCT_CREATION_TIME = 2023-02-04T22:47:41.000Z
PRODUCT_ID = "HA176_0000_BL4.TIF"
RELEASE_ID = 0008
REVISION_ID = 0000
/* QUALITY DATA ELEMENTS */
DATA_QUALITY_ID = 1
DATA_QUALITY_DESC = "Data calculated based on original SPICE kernels"
/* TIME DATA ELEMENTS */
SPACECRAFT_CLOCK_START_COUNT = "1/0272925034.09050"
SPACECRAFT_CLOCK_STOP_COUNT = "1/0272926093.05677"
START_TIME = 2011-12-25T20:32:55.160Z
STOP_TIME = 2011-12-25T20:37:22.418Z
/* ORBITAL DATA ELEMENTS */
ASCENDING_NODE_LONGITUDE = 23.04
MAXIMUM_RESOLUTION = 0.1104
FOOTPRINT_POINT_LATITUDE = (84.0543,84.3922,84.7254,85.0127, 85.4152,85.8061,86.1082,86.3984,86.6735 ,86.9299,87.1626,87.3652,87.5796, 87.5948,87.6459,87.8607,88.0738,88.2835 ,88.4896,88.6904,88.8825,89.0625, 89.2217,89.3452,89.4013,89.1866,88.8457 ,88.4623,88.0632,87.6573,87.2489, 86.8399,86.432,86.1263,85.821,85.3141, 84.8105,84.4101,83.9123,83.5164,83.1225 ,82.7307,82.3409,81.9532,81.8566, 81.8061,81.8043,81.7953,81.7791,81.7557 ,81.7253,81.6882,81.6443,81.5937, 81.5366,81.4731,81.4033,81.3273,81.2455 ,81.1577,81.0643,80.9653,80.7795, 80.6664,80.5483,80.3942,80.2658,80.1332 ,79.9962,79.783,79.7466,79.734,80.052, 80.367,80.6784,80.9855,81.2877,81.5838, 81.8733,82.1556,82.4954,82.7538,83.0012 ,83.2335,83.4486,83.646,83.8216,83.9742 ,84.1018,84.201,84.2705,84.3083,84.3136 ,84.2854,84.2238,84.1805,84.1291, 84.0696,84.0369,84.0543)
FOOTPRINT_POINT_LONGITUDE = (405.611,404.152,402.513,400.905, 398.267,395.136,392.19,388.765,384.763, 380.065,374.552,368.107,357.685,356.652 ,355.396,356.875,358.663,360.899, 363.737,367.445,372.466,379.458,389.501 ,403.923,444.094,475.173,490.618, 498.674,503.417,506.522,508.687,510.276 ,511.47,512.206,512.839,513.703,514.376 ,514.813,515.274,515.587,515.86,516.099 ,516.311,516.5,516.544,516.566,514.884, 513.19,511.501,509.82,508.152,506.502, 504.869,503.256,501.664,500.096,498.553 ,497.035,495.544,494.082,492.648, 491.245,488.864,487.547,486.261,484.698 ,483.483,482.3,481.147,479.473,479.201, 479.101,477.932,476.675,475.32,473.86, 472.283,470.579,468.737,466.746,464.024 ,461.644,459.074,456.299,453.313, 450.109,446.688,443.054,439.22,435.211, 431.056,426.796,422.477,418.148,413.863 ,411.751,409.667,407.616,406.605, 405.611)
ORBIT_NUMBER = 10176
ORBITAL_ECCENTRICITY = 0.576
ORBITAL_INCLINATION = 86.87
ORBITAL_SEMIMAJOR_AXIS = 8842.95
PERIAPSIS_ALTITUDE = 358.45
PERIAPSIS_ARGUMENT_ANGLE = 21.35
PERIAPSIS_TIME = 2011-12-25T20:13:09.000Z
SPACECRAFT_ORIENTATION = (0.0,1.0,0.0)
^MEX_ORIENTATION_DESC = "MEX_ORIENTATION_DESC.TXT"
SPACECRAFT_POINTING_MODE = NADIR
^MEX_POINTING_DESC = "MEX_POINTING_DESC.TXT"
RIGHT_ASCENSION = -1e+32
DECLINATION = -1e+32
OFFSET_ANGLE = -1e+32
SPACECRAFT_SOLAR_DISTANCE = 2.47231e+08
TARGET_NAME = MARS
/* CAMERA DATA ELEMENTS */
DETECTOR_TEMPERATURE = 18.9822
FOCAL_PLANE_TEMPERATURE = 9.3989
INST_CMPRS_NAME = "DISCRETE COSINE TRANSFORMATION (DCT)"
INST_CMPRS_RATIO = 23.2058
INST_CMPRS_QUALITY = 0
INST_CMPRS_QUANTZ_TBL_ID = 0
INSTRUMENT_TEMPERATURE = 12.4574
LENS_TEMPERATURE = 9.6028
MACROPIXEL_SIZE = 2
MISSING_FRAMES = 0
PIXEL_SUBSAMPLING_FLAG = N
SIGNAL_CHAIN_ID = 2
/* RADIOMETRIC DATA ELEMENTS */
BANDWIDTH = 76.0
CENTER_FILTER_WAVELENGTH = 444.0
RADIANCE_OFFSET = 0.516144
RADIANCE_SCALING_FACTOR = 0.00475662
REFLECTANCE_SCALING_FACTOR = 0.000298719
MEX:REFLECTANCE_OFFSET = 0.0324142
/* IMAGE OBJECT DEFINITIONS */
OBJECT = IMAGE
  INTERCHANGE_FORMAT = BINARY
  LINES = 7001
  LINE_SAMPLES = 5565
  SAMPLE_TYPE = UNSIGNED_INTEGER
  SAMPLE_BITS = 8
  BANDS = 1
  BAND_STORAGE_TYPE = BAND_SEQUENTIAL
  MAXIMUM = 255
  MEAN = 92.1934
  MINIMUM = 1
  STANDARD_DEVIATION = 42.9224
END_OBJECT = IMAGE
/* MAP OBJECT DEFINITIONS */
OBJECT = IMAGE_MAP_PROJECTION
  ^DATA_SET_MAP_PROJECTION_CATALOG= "DSMAP.CAT"
  A_AXIS_RADIUS = 3396.0
  B_AXIS_RADIUS = 3396.0
  C_AXIS_RADIUS = 3396.0
  CENTER_LATITUDE = 90.0
  CENTER_LONGITUDE = 0.0
  COORDINATE_SYSTEM_NAME = PLANETOGRAPHIC
  COORDINATE_SYSTEM_TYPE = "BODY-FIXED ROTATING"
  EASTERNMOST_LONGITUDE = 156.566
  FIRST_STANDARD_PARALLEL = "N/A"
  LINE_FIRST_PIXEL = 1
  LINE_LAST_PIXEL = 7001
  LINE_PROJECTION_OFFSET = 4506.75
  MAP_PROJECTION_ROTATION = 0.0
  MAP_PROJECTION_TYPE = STEREOGRAPHIC
  MAP_RESOLUTION = 592.713803866667
  MAP_SCALE = 0.1
  MAXIMUM_LATITUDE = 89.40130000000001
  MINIMUM_LATITUDE = 79.73399999999999
  POSITIVE_LONGITUDE_DIRECTION = EAST
  REFERENCE_LATITUDE = "N/A"
  REFERENCE_LONGITUDE = "N/A"
  SAMPLE_FIRST_PIXEL = 1
  SAMPLE_LAST_PIXEL = 5565
  SAMPLE_PROJECTION_OFFSET = 163.75
  SECOND_STANDARD_PARALLEL = "N/A"
  WESTERNMOST_LONGITUDE = -4.604
END_OBJECT = IMAGE_MAP_PROJECTION
END
