PDS_VERSION_ID = PDS3
/* FILE DATA ELEMENTS */
RECORD_TYPE = UNDEFINED
/* POINTERS TO DATA OBJECTS */
^IMAGE = ("HA058_0000_RE4.TIF")
/* IDENTIFICATION DATA ELEMENTS */
DATA_SET_ID = "MEX-M-HRSC-4-REFDR-MAPPROJECT-EXT3-V4.0"
DATA_SET_NAME = "MARS EXPRESS HRSC MAP PROJECTED REFDR EXTENSION3 V4.0"
DETECTOR_ID = MEX_HRSC_RED
EVENT_TYPE = "MARS-CLOUD-VARIABLE-At"
INSTRUMENT_HOST_ID = MEX
INSTRUMENT_HOST_NAME = "MARS EXPRESS"
INSTRUMENT_ID = HRSC
INSTRUMENT_NAME = "HIGH RESOLUTION STEREO CAMERA"
MISSION_NAME = "MARS EXPRESS"
MISSION_PHASE_NAME = ME_Phase_24
PROCESSING_LEVEL_ID = 4
PRODUCT_CREATION_TIME = 2023-02-04T22:47:41.000Z
PRODUCT_ID = "HA058_0000_RE4.TIF"
RELEASE_ID = 0008
REVISION_ID = 0000
/* QUALITY DATA ELEMENTS */
DATA_QUALITY_ID = 1
DATA_QUALITY_DESC = "Data calculated based on original SPICE kernels"
/* TIME DATA ELEMENTS */
SPACECRAFT_CLOCK_START_COUNT = "1/0269955494.09056"
SPACECRAFT_CLOCK_STOP_COUNT = "1/0269957535.08500"
START_TIME = 2011-11-21T11:38:17.531Z
STOP_TIME = 2011-11-21T11:53:04.660Z
/* ORBITAL DATA ELEMENTS */
ASCENDING_NODE_LONGITUDE = 25.28
MAXIMUM_RESOLUTION = 0.328
FOOTPRINT_POINT_LATITUDE = (19.7148,19.5925,19.4793,19.353,19.2138 ,19.0617,18.8973,18.7204,18.5314, 18.3304,18.1171,17.8916,17.5297,17.4982 ,17.4616,15.9684,14.843,13.3159,12.1862 ,10.6421,9.08286,6.69906,5.10795, 3.04527,1.37917,-0.750743,-2.04722, -3.81601,-4.71826,-5.63083,-6.5499, -7.51515,-8.96224,-10.4183,-11.4193, -12.4353,-13.4655,-14.5313,-15.6309, -16.7196,-18.4496,-19.6228,-20.8781, -22.1334,-23.4585,-24.8176,-26.2427, -27.7416,-29.3299,-30.1669,-31.016, -29.9436,-28.9356,-28.199,-27.268, -26.6427,-26.2022,-25.9017,-25.5107, -25.1605,-24.8329,-24.5632,-24.3661, -24.2385,-24.225,-24.2011,-24.205, -22.8597,-21.5814,-20.3416,-19.1469, -17.9844,-16.8773,-15.2891,-14.2081, -13.2524,-12.2077,-11.2043,-9.78563, -8.78998,-6.95148,-6.02202,-5.13765, -3.39394,-1.68976,-0.458721,1.19822, 2.82488,4.41363,5.9619,8.27796,10.1736, 11.6766,13.1628,14.6276,15.7252,17.5315 ,18.9688,19.3265,19.7148)
FOOTPRINT_POINT_LONGITUDE = (325.418,326.927,328.113,329.28,330.434 ,331.575,332.704,333.821,334.928, 336.027,337.121,338.209,339.837,339.972 ,340.018,339.965,339.925,339.873, 339.831,339.778,339.726,339.649,339.597 ,339.536,339.489,339.433,339.4,339.36, 339.342,339.324,339.307,339.293,339.273 ,339.254,339.244,339.235,339.228, 339.224,339.224,339.223,339.231,339.238 ,339.254,339.271,339.294,339.323, 339.359,339.405,339.461,339.494,339.53, 337.53,335.596,333.952,331.655,329.84, 328.25,327.117,325.528,324.421,322.576, 320.704,318.784,316.805,315.513,315.266 ,315.169,315.713,316.206,316.668, 317.096,317.5,317.867,318.367,318.71, 318.975,319.292,319.582,319.963,320.245 ,320.715,320.955,321.166,321.572, 321.951,322.203,322.549,322.874,323.172 ,323.439,323.834,324.136,324.366, 324.582,324.775,324.92,325.134,325.296, 325.334,325.418)
ORBIT_NUMBER = 10058
ORBITAL_ECCENTRICITY = 0.574
ORBITAL_INCLINATION = 86.89
ORBITAL_SEMIMAJOR_AXIS = 8810.88
PERIAPSIS_ALTITUDE = 370.51
PERIAPSIS_ARGUMENT_ANGLE = 41.8
PERIAPSIS_TIME = 2011-11-21T10:49:23.000Z
SPACECRAFT_ORIENTATION = (0.0,1.0,0.0)
^MEX_ORIENTATION_DESC = "MEX_ORIENTATION_DESC.TXT"
SPACECRAFT_POINTING_MODE = INERT
^MEX_POINTING_DESC = "MEX_POINTING_DESC.TXT"
RIGHT_ASCENSION = 217.16
DECLINATION = -47.982
OFFSET_ANGLE = -1e+32
SPACECRAFT_SOLAR_DISTANCE = 2.43822e+08
TARGET_NAME = MARS
/* CAMERA DATA ELEMENTS */
DETECTOR_TEMPERATURE = 20.0017
FOCAL_PLANE_TEMPERATURE = 9.3989
INST_CMPRS_NAME = "DISCRETE COSINE TRANSFORMATION (DCT)"
INST_CMPRS_RATIO = 12.5105
INST_CMPRS_QUALITY = 0
INST_CMPRS_QUANTZ_TBL_ID = 0
INSTRUMENT_TEMPERATURE = 12.8652
LENS_TEMPERATURE = 9.3989
MACROPIXEL_SIZE = 2
MISSING_FRAMES = 0
PIXEL_SUBSAMPLING_FLAG = N
SIGNAL_CHAIN_ID = 3
/* RADIOMETRIC DATA ELEMENTS */
BANDWIDTH = 48.0
CENTER_FILTER_WAVELENGTH = 748.0
RADIANCE_OFFSET = 0.585101
RADIANCE_SCALING_FACTOR = 0.00645332
REFLECTANCE_SCALING_FACTOR = 0.000875527
MEX:REFLECTANCE_OFFSET = 0.0793811
/* IMAGE OBJECT DEFINITIONS */
OBJECT = IMAGE
  INTERCHANGE_FORMAT = BINARY
  LINES = 7777
  LINE_SAMPLES = 3572
  SAMPLE_TYPE = UNSIGNED_INTEGER
  SAMPLE_BITS = 8
  BANDS = 1
  BAND_STORAGE_TYPE = BAND_SEQUENTIAL
  MAXIMUM = 255
  MEAN = 90.1976
  MINIMUM = 1
  STANDARD_DEVIATION = 39.0968
END_OBJECT = IMAGE
/* MAP OBJECT DEFINITIONS */
OBJECT = IMAGE_MAP_PROJECTION
  ^DATA_SET_MAP_PROJECTION_CATALOG= "DSMAP.CAT"
  A_AXIS_RADIUS = 3396.0
  B_AXIS_RADIUS = 3396.0
  C_AXIS_RADIUS = 3396.0
  CENTER_LATITUDE = 0.0
  CENTER_LONGITUDE = 334.0
  COORDINATE_SYSTEM_NAME = PLANETOGRAPHIC
  COORDINATE_SYSTEM_TYPE = "BODY-FIXED ROTATING"
  EASTERNMOST_LONGITUDE = 340.018
  FIRST_STANDARD_PARALLEL = "N/A"
  LINE_FIRST_PIXEL = 1
  LINE_LAST_PIXEL = 7777
  LINE_PROJECTION_OFFSET = 2993.0
  MAP_PROJECTION_ROTATION = 0.0
  MAP_PROJECTION_TYPE = SINUSOIDAL
  MAP_RESOLUTION = 148.178450966667
  MAP_SCALE = 0.4
  MAXIMUM_LATITUDE = 19.7148
  MINIMUM_LATITUDE = -31.016
  POSITIVE_LONGITUDE_DIRECTION = EAST
  REFERENCE_LATITUDE = "N/A"
  REFERENCE_LONGITUDE = "N/A"
  SAMPLE_FIRST_PIXEL = 1
  SAMPLE_LAST_PIXEL = 3572
  SAMPLE_PROJECTION_OFFSET = 2036.0
  SECOND_STANDARD_PARALLEL = "N/A"
  WESTERNMOST_LONGITUDE = 315.169
END_OBJECT = IMAGE_MAP_PROJECTION
END
