PDS_VERSION_ID = PDS3
/* FILE DATA ELEMENTS */
RECORD_TYPE = UNDEFINED
/* POINTERS TO DATA OBJECTS */
^IMAGE = ("H9893_0000_BL4.TIF")
/* IDENTIFICATION DATA ELEMENTS */
DATA_SET_ID = "MEX-M-HRSC-4-REFDR-MAPPROJECT-EXT3-V4.0"
DATA_SET_NAME = "MARS EXPRESS HRSC MAP PROJECTED REFDR EXTENSION3 V4.0"
DETECTOR_ID = MEX_HRSC_BLUE
EVENT_TYPE = "MARS-CLOUD-VARIABLE-At"
INSTRUMENT_HOST_ID = MEX
INSTRUMENT_HOST_NAME = "MARS EXPRESS"
INSTRUMENT_ID = HRSC
INSTRUMENT_NAME = "HIGH RESOLUTION STEREO CAMERA"
MISSION_NAME = "MARS EXPRESS"
MISSION_PHASE_NAME = ME_Phase_24
PROCESSING_LEVEL_ID = 4
PRODUCT_CREATION_TIME = 2023-02-04T12:09:02.000Z
PRODUCT_ID = "H9893_0000_BL4.TIF"
RELEASE_ID = 0007
REVISION_ID = 0000
/* QUALITY DATA ELEMENTS */
DATA_QUALITY_ID = 1
DATA_QUALITY_DESC = "Data calculated based on original SPICE kernels"
/* TIME DATA ELEMENTS */
SPACECRAFT_CLOCK_START_COUNT = "1/0265799476.08253"
SPACECRAFT_CLOCK_STOP_COUNT = "1/0265800465.44707"
START_TIME = 2011-10-04T09:14:42.162Z
STOP_TIME = 2011-10-04T09:24:38.958Z
/* ORBITAL DATA ELEMENTS */
ASCENDING_NODE_LONGITUDE = 28.4
MAXIMUM_RESOLUTION = 0.2198
FOOTPRINT_POINT_LATITUDE = (13.9348,13.843,13.7825,13.7186,13.6517 ,13.5813,13.5077,13.4307,13.3504, 13.2666,13.1794,13.0885,12.9819,12.9698 ,12.9619,12.1388,11.3152,10.4873, 9.65988,8.55276,7.16528,5.7712,4.93505, 4.09153,2.96293,1.82634,0.113601, -1.02812,-1.60884,-2.18787,-2.76907, -3.35024,-3.93645,-4.8172,-5.40957, -6.00322,-6.61021,-7.20141,-7.80546, -8.41094,-9.01555,-9.63045,-10.5515, -11.1717,-11.7985,-12.4282,-13.0619, -13.6968,-14.4194,-15.0514,-15.9874, -16.2874,-16.297,-16.0934,-15.9051, -15.7594,-15.6594,-15.5779,-15.4179, -15.2387,-15.0525,-14.919,-14.7915, -14.661,-14.5043,-14.4104,-14.3996, -14.3954,-13.2324,-12.5905,-11.4106, -10.717,-10.1129,-9.51547,-8.62471, -7.78027,-6.91378,-6.28692,-5.70847, -5.1322,-4.55781,-3.98669,-3.41653, -2.27913,-1.151,-0.0263826,1.09069, 2.20321,3.30984,4.41223,5.51008,6.60513 ,7.69664,8.78517,9.8709,11.2251,12.5759 ,13.6548,13.9243,13.9348)
FOOTPRINT_POINT_LONGITUDE = (295.739,296.986,297.749,298.51,299.27, 300.028,300.786,301.543,302.3,303.058, 303.818,304.582,305.442,305.538,305.573 ,305.584,305.596,305.612,305.626, 305.649,305.68,305.716,305.737,305.764, 305.801,305.843,305.911,305.956,305.985 ,306.012,306.041,306.07,306.101,306.149 ,306.185,306.22,306.263,306.298,306.34, 306.382,306.425,306.472,306.544,306.595 ,306.649,306.705,306.763,306.823, 306.921,306.981,307.066,307.09,307.091, 305.922,304.763,303.764,303.056,302.355 ,301.643,300.391,299.008,297.908, 296.811,295.578,293.933,292.832,292.694 ,292.644,292.792,292.888,293.039, 293.156,293.237,293.316,293.431,293.527 ,293.631,293.723,293.793,293.862,293.93 ,293.996,294.062,294.192,294.318, 294.441,294.56,294.677,294.789,294.899, 295.005,295.109,295.209,295.307,295.402 ,295.517,295.627,295.712,295.733, 295.739)
ORBIT_NUMBER = 9893
ORBITAL_ECCENTRICITY = 0.571
ORBITAL_INCLINATION = 86.87
ORBITAL_SEMIMAJOR_AXIS = 8773.5
PERIAPSIS_ALTITUDE = 384.23
PERIAPSIS_ARGUMENT_ANGLE = 70.32
PERIAPSIS_TIME = 2011-10-04T08:39:42.000Z
SPACECRAFT_ORIENTATION = (0.0,1.0,0.0)
^MEX_ORIENTATION_DESC = "MEX_ORIENTATION_DESC.TXT"
SPACECRAFT_POINTING_MODE = INERT
^MEX_POINTING_DESC = "MEX_POINTING_DESC.TXT"
RIGHT_ASCENSION = 171.608
DECLINATION = -60.886
OFFSET_ANGLE = -1e+32
SPACECRAFT_SOLAR_DISTANCE = 2.36716e+08
TARGET_NAME = MARS
/* CAMERA DATA ELEMENTS */
DETECTOR_TEMPERATURE = 18.3705
FOCAL_PLANE_TEMPERATURE = 8.1755
INST_CMPRS_NAME = "DISCRETE COSINE TRANSFORMATION (DCT)"
INST_CMPRS_RATIO = 9.45565
INST_CMPRS_QUALITY = 0
INST_CMPRS_QUANTZ_TBL_ID = 0
INSTRUMENT_TEMPERATURE = 11.234
LENS_TEMPERATURE = 8.3794
MACROPIXEL_SIZE = 2
MISSING_FRAMES = 0
PIXEL_SUBSAMPLING_FLAG = N
SIGNAL_CHAIN_ID = 2
/* RADIOMETRIC DATA ELEMENTS */
BANDWIDTH = 76.0
CENTER_FILTER_WAVELENGTH = 444.0
RADIANCE_OFFSET = 0.928811
RADIANCE_SCALING_FACTOR = 0.00193157
REFLECTANCE_SCALING_FACTOR = 0.000111208
MEX:REFLECTANCE_OFFSET = 0.0534752
/* IMAGE OBJECT DEFINITIONS */
OBJECT = IMAGE
  INTERCHANGE_FORMAT = BINARY
  LINES = 8959
  LINE_SAMPLES = 4129
  SAMPLE_TYPE = UNSIGNED_INTEGER
  SAMPLE_BITS = 8
  BANDS = 1
  BAND_STORAGE_TYPE = BAND_SEQUENTIAL
  MAXIMUM = 255
  MEAN = 122.372
  MINIMUM = 1
  STANDARD_DEVIATION = 31.4284
END_OBJECT = IMAGE
/* MAP OBJECT DEFINITIONS */
OBJECT = IMAGE_MAP_PROJECTION
  ^DATA_SET_MAP_PROJECTION_CATALOG= "DSMAP.CAT"
  A_AXIS_RADIUS = 3396.0
  B_AXIS_RADIUS = 3396.0
  C_AXIS_RADIUS = 3396.0
  CENTER_LATITUDE = 0.0
  CENTER_LONGITUDE = 300.0
  COORDINATE_SYSTEM_NAME = PLANETOGRAPHIC
  COORDINATE_SYSTEM_TYPE = "BODY-FIXED ROTATING"
  EASTERNMOST_LONGITUDE = 307.091
  FIRST_STANDARD_PARALLEL = "N/A"
  LINE_FIRST_PIXEL = 1
  LINE_LAST_PIXEL = 8959
  LINE_PROJECTION_OFFSET = 4128.0
  MAP_PROJECTION_ROTATION = 0.0
  MAP_PROJECTION_TYPE = SINUSOIDAL
  MAP_RESOLUTION = 296.356901933333
  MAP_SCALE = 0.2
  MAXIMUM_LATITUDE = 13.9348
  MINIMUM_LATITUDE = -16.297
  POSITIVE_LONGITUDE_DIRECTION = EAST
  REFERENCE_LATITUDE = "N/A"
  REFERENCE_LONGITUDE = "N/A"
  SAMPLE_FIRST_PIXEL = 1
  SAMPLE_LAST_PIXEL = 4129
  SAMPLE_PROJECTION_OFFSET = 2111.0
  SECOND_STANDARD_PARALLEL = "N/A"
  WESTERNMOST_LONGITUDE = 292.644
END_OBJECT = IMAGE_MAP_PROJECTION
END
