PDS_VERSION_ID = PDS3
/* FILE DATA ELEMENTS */
RECORD_TYPE = UNDEFINED
/* POINTERS TO DATA OBJECTS */
^IMAGE = ("H9746_0000_P24.TIF")
/* IDENTIFICATION DATA ELEMENTS */
DATA_SET_ID = "MEX-M-HRSC-4-REFDR-MAPPROJECT-EXT3-V4.0"
DATA_SET_NAME = "MARS EXPRESS HRSC MAP PROJECTED REFDR EXTENSION3 V4.0"
DETECTOR_ID = MEX_HRSC_P2
EVENT_TYPE = "MARS-REGIONAL-MAPPING-Gl-Pf-Eo"
INSTRUMENT_HOST_ID = MEX
INSTRUMENT_HOST_NAME = "MARS EXPRESS"
INSTRUMENT_ID = HRSC
INSTRUMENT_NAME = "HIGH RESOLUTION STEREO CAMERA"
MISSION_NAME = "MARS EXPRESS"
MISSION_PHASE_NAME = ME_Phase_23
PROCESSING_LEVEL_ID = 4
PRODUCT_CREATION_TIME = 2023-02-04T12:09:02.000Z
PRODUCT_ID = "H9746_0000_P24.TIF"
RELEASE_ID = 0007
REVISION_ID = 0000
/* QUALITY DATA ELEMENTS */
DATA_QUALITY_ID = 1
DATA_QUALITY_DESC = "Data calculated based on original SPICE kernels"
/* TIME DATA ELEMENTS */
SPACECRAFT_CLOCK_START_COUNT = "1/0262096217.58960"
SPACECRAFT_CLOCK_STOP_COUNT = "1/0262096465.19637"
START_TIME = 2011-08-22T12:30:31.984Z
STOP_TIME = 2011-08-22T12:32:37.971Z
/* ORBITAL DATA ELEMENTS */
ASCENDING_NODE_LONGITUDE = 31.19
MAXIMUM_RESOLUTION = 0.0349
FOOTPRINT_POINT_LATITUDE = (68.3715,68.4305,68.4621,68.4998, 68.5222,68.54,68.5412,68.4894,68.1509, 67.8937,67.5506,67.2071,66.9496,66.7776 ,66.434,66.2619,66.0884,65.8234,65.6465 ,65.3814,65.2045,65.0276,64.8504, 64.5848,64.3194,64.0474,63.7744,63.5014 ,63.3193,63.137,62.9548,62.7726,62.5886 ,62.4017,62.1206,61.9333,61.6523, 61.4647,61.2772,61.0876,60.8954,60.7029 ,60.5104,60.3178,60.0286,59.8357, 59.5398,59.4409,59.3874,59.3726,59.3601 ,59.3374,59.3229,59.2991,59.2532, 59.2514,59.2514,59.4486,59.6456,59.8385 ,60.0307,60.2229,60.5109,60.7028, 60.8945,61.0846,61.2716,61.4586,61.6457 ,61.832,62.0187,62.2057,62.3916,62.5759 ,62.7574,62.9389,63.1205,63.3017, 63.5736,63.8454,64.0266,64.2056,64.3821 ,64.5585,64.7344,64.9105,65.0866, 65.2626,65.4386,65.6141,65.7897,66.0512 ,66.479,66.7352,67.0768,67.4181,67.8439 ,68.1832,68.266,68.3715)
FOOTPRINT_POINT_LONGITUDE = (215.225,216.329,216.994,217.883, 218.479,219.001,219.039,219.175,219.272 ,219.343,219.435,219.524,219.589, 219.632,219.715,219.755,219.796,219.857 ,219.897,219.955,219.993,220.031, 220.069,220.123,220.176,220.23,220.283, 220.335,220.369,220.402,220.435,220.467 ,220.5,220.532,220.58,220.612,220.658, 220.689,220.718,220.748,220.778,220.808 ,220.837,220.866,220.908,220.936, 220.979,220.992,221.0,220.433,220.033, 219.402,219.036,218.506,217.614,217.58, 217.568,217.535,217.501,217.467,217.432 ,217.397,217.343,217.307,217.27,217.232 ,217.194,217.156,217.117,217.078, 217.037,216.997,216.955,216.913,216.871 ,216.828,216.785,216.74,216.673,216.604 ,216.556,216.509,216.461,216.413, 216.363,216.313,216.262,216.211,216.158 ,216.104,216.05,215.967,215.826,215.739 ,215.62,215.496,215.334,215.2,215.167, 215.225)
ORBIT_NUMBER = 9746
ORBITAL_ECCENTRICITY = 0.571
ORBITAL_INCLINATION = 86.88
ORBITAL_SEMIMAJOR_AXIS = 8761.61
PERIAPSIS_ALTITUDE = 384.3
PERIAPSIS_ARGUMENT_ANGLE = 95.61
PERIAPSIS_TIME = 2011-08-22T12:26:42.000Z
SPACECRAFT_ORIENTATION = (0.0,1.0,0.0)
^MEX_ORIENTATION_DESC = "MEX_ORIENTATION_DESC.TXT"
SPACECRAFT_POINTING_MODE = INERT
^MEX_POINTING_DESC = "MEX_POINTING_DESC.TXT"
RIGHT_ASCENSION = 127.167
DECLINATION = -52.151
OFFSET_ANGLE = -1e+32
SPACECRAFT_SOLAR_DISTANCE = 2.28812e+08
TARGET_NAME = MARS
/* CAMERA DATA ELEMENTS */
DETECTOR_TEMPERATURE = 0.0
FOCAL_PLANE_TEMPERATURE = 0.0
INST_CMPRS_NAME = "DISCRETE COSINE TRANSFORMATION (DCT)"
INST_CMPRS_RATIO = 8.2361
INST_CMPRS_QUALITY = 0
INST_CMPRS_QUANTZ_TBL_ID = 0
INSTRUMENT_TEMPERATURE = 0.0
LENS_TEMPERATURE = 0.0
MACROPIXEL_SIZE = 2
MISSING_FRAMES = 0
PIXEL_SUBSAMPLING_FLAG = N
SIGNAL_CHAIN_ID = 3
/* RADIOMETRIC DATA ELEMENTS */
BANDWIDTH = 177.0
CENTER_FILTER_WAVELENGTH = 676.5
RADIANCE_OFFSET = 3.58275
RADIANCE_SCALING_FACTOR = 0.0138287
REFLECTANCE_SCALING_FACTOR = 0.000383884
MEX:REFLECTANCE_OFFSET = 0.0994566
/* IMAGE OBJECT DEFINITIONS */
OBJECT = IMAGE
  INTERCHANGE_FORMAT = BINARY
  LINES = 17509
  LINE_SAMPLES = 5683
  SAMPLE_TYPE = UNSIGNED_INTEGER
  SAMPLE_BITS = 8
  BANDS = 1
  BAND_STORAGE_TYPE = BAND_SEQUENTIAL
  MAXIMUM = 255
  MEAN = 116.789
  MINIMUM = 1
  STANDARD_DEVIATION = 55.4733
END_OBJECT = IMAGE
/* MAP OBJECT DEFINITIONS */
OBJECT = IMAGE_MAP_PROJECTION
  ^DATA_SET_MAP_PROJECTION_CATALOG= "DSMAP.CAT"
  A_AXIS_RADIUS = 3396.0
  B_AXIS_RADIUS = 3396.0
  C_AXIS_RADIUS = 3396.0
  CENTER_LATITUDE = 0.0
  CENTER_LONGITUDE = 218.0
  COORDINATE_SYSTEM_NAME = PLANETOGRAPHIC
  COORDINATE_SYSTEM_TYPE = "BODY-FIXED ROTATING"
  EASTERNMOST_LONGITUDE = 221.0
  FIRST_STANDARD_PARALLEL = "N/A"
  LINE_FIRST_PIXEL = 1
  LINE_LAST_PIXEL = 17509
  LINE_PROJECTION_OFFSET = 162503.25
  MAP_PROJECTION_ROTATION = 0.0
  MAP_PROJECTION_TYPE = SINUSOIDAL
  MAP_RESOLUTION = 2370.85521546667
  MAP_SCALE = 0.025
  MAXIMUM_LATITUDE = 68.5412
  MINIMUM_LATITUDE = 59.2514
  POSITIVE_LONGITUDE_DIRECTION = EAST
  REFERENCE_LATITUDE = "N/A"
  REFERENCE_LONGITUDE = "N/A"
  SAMPLE_FIRST_PIXEL = 1
  SAMPLE_LAST_PIXEL = 5683
  SAMPLE_PROJECTION_OFFSET = 2552.25
  SECOND_STANDARD_PARALLEL = "N/A"
  WESTERNMOST_LONGITUDE = 215.167
END_OBJECT = IMAGE_MAP_PROJECTION
END
