PDS_VERSION_ID = PDS3
/* FILE DATA ELEMENTS */
RECORD_TYPE = UNDEFINED
/* POINTERS TO DATA OBJECTS */
^IMAGE = ("H9746_0000_P14.TIF")
/* IDENTIFICATION DATA ELEMENTS */
DATA_SET_ID = "MEX-M-HRSC-4-REFDR-MAPPROJECT-EXT3-V4.0"
DATA_SET_NAME = "MARS EXPRESS HRSC MAP PROJECTED REFDR EXTENSION3 V4.0"
DETECTOR_ID = MEX_HRSC_P1
EVENT_TYPE = "MARS-REGIONAL-MAPPING-Gl-Pf-Eo"
INSTRUMENT_HOST_ID = MEX
INSTRUMENT_HOST_NAME = "MARS EXPRESS"
INSTRUMENT_ID = HRSC
INSTRUMENT_NAME = "HIGH RESOLUTION STEREO CAMERA"
MISSION_NAME = "MARS EXPRESS"
MISSION_PHASE_NAME = ME_Phase_23
PROCESSING_LEVEL_ID = 4
PRODUCT_CREATION_TIME = 2023-02-04T12:09:02.000Z
PRODUCT_ID = "H9746_0000_P14.TIF"
RELEASE_ID = 0007
REVISION_ID = 0000
/* QUALITY DATA ELEMENTS */
DATA_QUALITY_ID = 1
DATA_QUALITY_DESC = "Data calculated based on original SPICE kernels"
/* TIME DATA ELEMENTS */
SPACECRAFT_CLOCK_START_COUNT = "1/0262096217.58960"
SPACECRAFT_CLOCK_STOP_COUNT = "1/0262096465.19637"
START_TIME = 2011-08-22T12:31:18.998Z
STOP_TIME = 2011-08-22T12:32:37.971Z
/* ORBITAL DATA ELEMENTS */
ASCENDING_NODE_LONGITUDE = 31.19
MAXIMUM_RESOLUTION = 0.0374
FOOTPRINT_POINT_LATITUDE = (68.3033,68.3452,68.361,68.3818,68.4034 ,68.4171,68.4303,68.4429,68.4623, 68.4817,68.483,68.5842,68.3777,68.1198, 67.9651,67.8101,67.6518,67.4404,67.282, 67.018,66.8065,66.4901,66.2789,66.172, 66.0641,65.9022,65.7944,65.6865,65.5788 ,65.4169,65.309,65.1472,65.0394,64.9318 ,64.7686,64.6583,64.5479,64.4376, 64.2721,64.1619,63.9968,63.8865,63.7765 ,63.6664,63.5562,63.4435,63.2746, 63.2184,63.1787,63.1687,63.1578,63.1492 ,63.133,63.1215,63.1051,63.0925,63.0719 ,63.0531,63.0248,63.0228,63.0228, 63.1348,63.247,63.3589,63.4695,63.5792, 63.6888,63.8531,63.9625,64.0722,64.1819 ,64.2914,64.401,64.5106,64.6205,64.729, 64.8363,64.9434,65.0506,65.1578,65.3186 ,65.4259,65.5868,65.6941,65.8014, 65.9086,66.0159,66.1219,66.3314,66.5933 ,66.8032,67.0652,67.2747,67.5373, 67.7439,67.9999,68.1538,68.3075,68.3588 ,68.3033)
FOOTPRINT_POINT_LONGITUDE = (215.162,215.95,216.266,216.702,217.177 ,217.495,217.813,218.132,218.651, 219.211,219.251,219.358,219.412,219.479 ,219.518,219.556,219.594,219.645, 219.682,219.744,219.791,219.861,219.906 ,219.929,219.952,219.986,220.008,220.03 ,220.052,220.084,220.106,220.137, 220.158,220.178,220.21,220.23,220.25, 220.27,220.3,220.32,220.349,220.368, 220.388,220.407,220.426,220.444,220.473 ,220.482,220.489,220.16,219.83,219.575, 219.137,218.845,218.445,218.154,217.719 ,217.32,216.777,216.741,216.728,216.701 ,216.673,216.646,216.618,216.59,216.562 ,216.52,216.491,216.462,216.433,216.403 ,216.373,216.343,216.312,216.281, 216.251,216.22,216.189,216.157,216.109, 216.076,216.027,215.994,215.96,215.926, 215.891,215.857,215.788,215.7,215.627, 215.534,215.458,215.36,215.281,215.181, 215.119,215.056,215.035,215.162)
ORBIT_NUMBER = 9746
ORBITAL_ECCENTRICITY = 0.571
ORBITAL_INCLINATION = 86.88
ORBITAL_SEMIMAJOR_AXIS = 8761.61
PERIAPSIS_ALTITUDE = 384.3
PERIAPSIS_ARGUMENT_ANGLE = 95.61
PERIAPSIS_TIME = 2011-08-22T12:26:42.000Z
SPACECRAFT_ORIENTATION = (0.0,1.0,0.0)
^MEX_ORIENTATION_DESC = "MEX_ORIENTATION_DESC.TXT"
SPACECRAFT_POINTING_MODE = INERT
^MEX_POINTING_DESC = "MEX_POINTING_DESC.TXT"
RIGHT_ASCENSION = 127.167
DECLINATION = -52.151
OFFSET_ANGLE = -1e+32
SPACECRAFT_SOLAR_DISTANCE = 2.28812e+08
TARGET_NAME = MARS
/* CAMERA DATA ELEMENTS */
DETECTOR_TEMPERATURE = 0.0
FOCAL_PLANE_TEMPERATURE = 0.0
INST_CMPRS_NAME = "DISCRETE COSINE TRANSFORMATION (DCT)"
INST_CMPRS_RATIO = 13.6179
INST_CMPRS_QUALITY = 0
INST_CMPRS_QUANTZ_TBL_ID = 0
INSTRUMENT_TEMPERATURE = 0.0
LENS_TEMPERATURE = 0.0
MACROPIXEL_SIZE = 2
MISSING_FRAMES = 0
PIXEL_SUBSAMPLING_FLAG = N
SIGNAL_CHAIN_ID = 3
/* RADIOMETRIC DATA ELEMENTS */
BANDWIDTH = 174.0
CENTER_FILTER_WAVELENGTH = 675.0
RADIANCE_OFFSET = 3.68068
RADIANCE_SCALING_FACTOR = 0.0095851
REFLECTANCE_SCALING_FACTOR = 0.000269925
MEX:REFLECTANCE_OFFSET = 0.103651
/* IMAGE OBJECT DEFINITIONS */
OBJECT = IMAGE
  INTERCHANGE_FORMAT = BINARY
  LINES = 17509
  LINE_SAMPLES = 5683
  SAMPLE_TYPE = UNSIGNED_INTEGER
  SAMPLE_BITS = 8
  BANDS = 1
  BAND_STORAGE_TYPE = BAND_SEQUENTIAL
  MAXIMUM = 255
  MEAN = 115.867
  MINIMUM = 1
  STANDARD_DEVIATION = 56.7412
END_OBJECT = IMAGE
/* MAP OBJECT DEFINITIONS */
OBJECT = IMAGE_MAP_PROJECTION
  ^DATA_SET_MAP_PROJECTION_CATALOG= "DSMAP.CAT"
  A_AXIS_RADIUS = 3396.0
  B_AXIS_RADIUS = 3396.0
  C_AXIS_RADIUS = 3396.0
  CENTER_LATITUDE = 0.0
  CENTER_LONGITUDE = 218.0
  COORDINATE_SYSTEM_NAME = PLANETOGRAPHIC
  COORDINATE_SYSTEM_TYPE = "BODY-FIXED ROTATING"
  EASTERNMOST_LONGITUDE = 220.489
  FIRST_STANDARD_PARALLEL = "N/A"
  LINE_FIRST_PIXEL = 1
  LINE_LAST_PIXEL = 17509
  LINE_PROJECTION_OFFSET = 162503.25
  MAP_PROJECTION_ROTATION = 0.0
  MAP_PROJECTION_TYPE = SINUSOIDAL
  MAP_RESOLUTION = 2370.85521546667
  MAP_SCALE = 0.025
  MAXIMUM_LATITUDE = 68.5842
  MINIMUM_LATITUDE = 63.0228
  POSITIVE_LONGITUDE_DIRECTION = EAST
  REFERENCE_LATITUDE = "N/A"
  REFERENCE_LONGITUDE = "N/A"
  SAMPLE_FIRST_PIXEL = 1
  SAMPLE_LAST_PIXEL = 5683
  SAMPLE_PROJECTION_OFFSET = 2552.25
  SECOND_STANDARD_PARALLEL = "N/A"
  WESTERNMOST_LONGITUDE = 215.035
END_OBJECT = IMAGE_MAP_PROJECTION
END
