PDS_VERSION_ID = PDS3
/* FILE DATA ELEMENTS */
RECORD_TYPE = UNDEFINED
/* POINTERS TO DATA OBJECTS */
^IMAGE = ("H9673_0000_S14.TIF")
/* IDENTIFICATION DATA ELEMENTS */
DATA_SET_ID = "MEX-M-HRSC-4-REFDR-MAPPROJECT-EXT3-V4.0"
DATA_SET_NAME = "MARS EXPRESS HRSC MAP PROJECTED REFDR EXTENSION3 V4.0"
DETECTOR_ID = MEX_HRSC_S1
EVENT_TYPE = "MARS-REGIONAL-MAPPING-Im-Pf-Eo"
INSTRUMENT_HOST_ID = MEX
INSTRUMENT_HOST_NAME = "MARS EXPRESS"
INSTRUMENT_ID = HRSC
INSTRUMENT_NAME = "HIGH RESOLUTION STEREO CAMERA"
MISSION_NAME = "MARS EXPRESS"
MISSION_PHASE_NAME = ME_Phase_23
PROCESSING_LEVEL_ID = 4
PRODUCT_CREATION_TIME = 2023-02-04T12:09:02.000Z
PRODUCT_ID = "H9673_0000_S14.TIF"
RELEASE_ID = 0007
REVISION_ID = 0000
/* QUALITY DATA ELEMENTS */
DATA_QUALITY_ID = 1
DATA_QUALITY_DESC = "Data calculated based on original SPICE kernels"
/* TIME DATA ELEMENTS */
SPACECRAFT_CLOCK_START_COUNT = "1/0260258133.07312"
SPACECRAFT_CLOCK_STOP_COUNT = "1/0260258460.03667"
START_TIME = 2011-08-01T05:55:36.181Z
STOP_TIME = 2011-08-01T05:58:54.303Z
/* ORBITAL DATA ELEMENTS */
ASCENDING_NODE_LONGITUDE = 32.57
MAXIMUM_RESOLUTION = 0.0378
FOOTPRINT_POINT_LATITUDE = (51.8472,51.8273,51.7988,51.7708, 51.7697,51.6669,51.325,50.8688,50.413, 49.9485,49.7158,49.3664,49.1334,48.7776 ,48.5396,48.1825,47.9446,47.7035, 47.4606,47.0962,46.7321,46.4839,46.236, 45.9881,45.7404,45.363,44.9835,44.7306, 44.4748,44.2167,43.959,43.7017,43.4406, 43.047,42.7847,42.519,42.2517,41.8507, 41.5795,41.3072,41.0354,40.7604,40.4842 ,40.2081,39.9286,39.6476,39.2251, 39.0821,39.0441,39.0657,39.073,39.0815, 39.0835,39.0848,39.0849,39.0856,39.3718 ,39.6537,39.9356,40.2172,40.4939, 40.7711,41.0479,41.3203,41.5929,41.9997 ,42.2675,42.5351,42.9343,43.1972, 43.4607,43.7239,44.1116,44.37,44.7561, 45.1361,45.3895,45.7691,46.0176,46.2665 ,46.5151,46.7639,47.0079,47.2515, 47.4956,47.7395,48.1014,48.3401,48.5791 ,48.8177,49.1754,49.4094,49.6433, 49.8771,50.1107,50.4608,50.9179,51.6036 ,51.7179,51.8472)
FOOTPRINT_POINT_LONGITUDE = (128.473,127.626,126.757,126.076, 126.052,126.006,126.035,126.071,126.106 ,126.139,126.156,126.179,126.195, 126.217,126.232,126.253,126.267,126.28, 126.294,126.313,126.331,126.343,126.355 ,126.366,126.377,126.393,126.408, 126.418,126.427,126.436,126.445,126.453 ,126.462,126.473,126.481,126.488, 126.495,126.504,126.51,126.516,126.521, 126.527,126.532,126.536,126.54,126.544, 126.55,126.551,126.552,127.367,127.737, 128.38,128.702,129.073,129.098,129.107, 129.098,129.09,129.081,129.073,129.064, 129.055,129.046,129.037,129.028,129.014 ,129.005,128.995,128.98,128.97,128.96, 128.95,128.934,128.924,128.908,128.892, 128.881,128.864,128.852,128.84,128.829, 128.817,128.805,128.793,128.781,128.768 ,128.749,128.736,128.723,128.71,128.69, 128.676,128.662,128.648,128.634,128.613 ,128.584,128.539,128.531,128.473)
ORBIT_NUMBER = 9673
ORBITAL_ECCENTRICITY = 0.571
ORBITAL_INCLINATION = 86.88
ORBITAL_SEMIMAJOR_AXIS = 8772.5
PERIAPSIS_ALTITUDE = 381.98
PERIAPSIS_ARGUMENT_ANGLE = 108.19
PERIAPSIS_TIME = 2011-08-01T05:51:02.000Z
SPACECRAFT_ORIENTATION = (0.0,-1.0,0.0)
^MEX_ORIENTATION_DESC = "MEX_ORIENTATION_DESC.TXT"
SPACECRAFT_POINTING_MODE = NADIR
^MEX_POINTING_DESC = "MEX_POINTING_DESC.TXT"
RIGHT_ASCENSION = -1e+32
DECLINATION = -1e+32
OFFSET_ANGLE = -1e+32
SPACECRAFT_SOLAR_DISTANCE = 2.24658e+08
TARGET_NAME = MARS
/* CAMERA DATA ELEMENTS */
DETECTOR_TEMPERATURE = 17.351
FOCAL_PLANE_TEMPERATURE = 7.9716
INST_CMPRS_NAME = "DISCRETE COSINE TRANSFORMATION (DCT)"
INST_CMPRS_RATIO = 12.7885
INST_CMPRS_QUALITY = 0
INST_CMPRS_QUANTZ_TBL_ID = 0
INSTRUMENT_TEMPERATURE = 12.6613
LENS_TEMPERATURE = 8.3794
MACROPIXEL_SIZE = 2
MISSING_FRAMES = 0
PIXEL_SUBSAMPLING_FLAG = N
SIGNAL_CHAIN_ID = 1
/* RADIOMETRIC DATA ELEMENTS */
BANDWIDTH = 180.0
CENTER_FILTER_WAVELENGTH = 677.0
RADIANCE_OFFSET = 6.39988
RADIANCE_SCALING_FACTOR = 0.0124315
REFLECTANCE_SCALING_FACTOR = 0.000327349
MEX:REFLECTANCE_OFFSET = 0.168523
/* IMAGE OBJECT DEFINITIONS */
OBJECT = IMAGE
  INTERCHANGE_FORMAT = BINARY
  LINES = 30081
  LINE_SAMPLES = 5213
  SAMPLE_TYPE = UNSIGNED_INTEGER
  SAMPLE_BITS = 8
  BANDS = 1
  BAND_STORAGE_TYPE = BAND_SEQUENTIAL
  MAXIMUM = 255
  MEAN = 130.757
  MINIMUM = 1
  STANDARD_DEVIATION = 59.2036
END_OBJECT = IMAGE
/* MAP OBJECT DEFINITIONS */
OBJECT = IMAGE_MAP_PROJECTION
  ^DATA_SET_MAP_PROJECTION_CATALOG= "DSMAP.CAT"
  A_AXIS_RADIUS = 3396.0
  B_AXIS_RADIUS = 3396.0
  C_AXIS_RADIUS = 3396.0
  CENTER_LATITUDE = 0.0
  CENTER_LONGITUDE = 128.0
  COORDINATE_SYSTEM_NAME = PLANETOGRAPHIC
  COORDINATE_SYSTEM_TYPE = "BODY-FIXED ROTATING"
  EASTERNMOST_LONGITUDE = 129.107
  FIRST_STANDARD_PARALLEL = "N/A"
  LINE_FIRST_PIXEL = 1
  LINE_LAST_PIXEL = 30081
  LINE_PROJECTION_OFFSET = 122686.25
  MAP_PROJECTION_ROTATION = 0.0
  MAP_PROJECTION_TYPE = SINUSOIDAL
  MAP_RESOLUTION = 2370.85521546667
  MAP_SCALE = 0.025
  MAXIMUM_LATITUDE = 51.8472
  MINIMUM_LATITUDE = 39.0441
  POSITIVE_LONGITUDE_DIRECTION = EAST
  REFERENCE_LATITUDE = "N/A"
  REFERENCE_LONGITUDE = "N/A"
  SAMPLE_FIRST_PIXEL = 1
  SAMPLE_LAST_PIXEL = 5213
  SAMPLE_PROJECTION_OFFSET = 3027.75
  SECOND_STANDARD_PARALLEL = "N/A"
  WESTERNMOST_LONGITUDE = 126.006
END_OBJECT = IMAGE_MAP_PROJECTION
END
