PDS_VERSION_ID = PDS3
/* FILE DATA ELEMENTS */
RECORD_TYPE = UNDEFINED
/* POINTERS TO DATA OBJECTS */
^IMAGE = ("H9665_0000_RE4.TIF")
/* IDENTIFICATION DATA ELEMENTS */
DATA_SET_ID = "MEX-M-HRSC-4-REFDR-MAPPROJECT-EXT3-V4.0"
DATA_SET_NAME = "MARS EXPRESS HRSC MAP PROJECTED REFDR EXTENSION3 V4.0"
DETECTOR_ID = MEX_HRSC_RED
EVENT_TYPE = "MARS-REGIONAL-MAPPING-Te-Im-Pf"
INSTRUMENT_HOST_ID = MEX
INSTRUMENT_HOST_NAME = "MARS EXPRESS"
INSTRUMENT_ID = HRSC
INSTRUMENT_NAME = "HIGH RESOLUTION STEREO CAMERA"
MISSION_NAME = "MARS EXPRESS"
MISSION_PHASE_NAME = ME_Phase_23
PROCESSING_LEVEL_ID = 4
PRODUCT_CREATION_TIME = 2023-02-04T12:09:02.000Z
PRODUCT_ID = "H9665_0000_RE4.TIF"
RELEASE_ID = 0007
REVISION_ID = 0000
/* QUALITY DATA ELEMENTS */
DATA_QUALITY_ID = 1
DATA_QUALITY_DESC = "Data calculated based on original SPICE kernels"
/* TIME DATA ELEMENTS */
SPACECRAFT_CLOCK_START_COUNT = "1/0260056681.07302"
SPACECRAFT_CLOCK_STOP_COUNT = "1/0260056963.46264"
START_TIME = 2011-07-29T21:59:23.556Z
STOP_TIME = 2011-07-29T22:02:32.964Z
/* ORBITAL DATA ELEMENTS */
ASCENDING_NODE_LONGITUDE = 32.72
MAXIMUM_RESOLUTION = 0.0801
FOOTPRINT_POINT_LATITUDE = (50.8712,50.8668,50.8615,50.8552,50.848 ,50.8399,50.8244,50.8238,50.8973,50.419 ,50.0293,49.6406,49.3475,48.9522, 48.5582,48.2575,47.8567,47.5552,47.3518 ,47.1489,46.8445,46.6384,46.4323, 46.2266,46.0213,45.8123,45.4991,45.2913 ,45.08,44.7633,44.5526,44.3385,44.0176, 43.8042,43.5873,43.3706,43.1547,42.9354 ,42.7161,42.4974,42.2758,42.054,41.7208 ,41.4961,41.272,41.0456,40.8187,40.5927 ,40.478,40.397,40.4007,40.4015,40.4019, 40.4007,40.3998,40.3977,40.3976,40.3988 ,40.6295,40.857,41.0848,41.424,41.6495, 41.8746,42.0968,42.3194,42.5421,42.762, 42.9825,43.2023,43.4193,43.6369,43.9617 ,44.1763,44.3914,44.6058,44.8176, 45.1361,45.3481,45.6621,45.8717,46.0811 ,46.2873,46.494,46.7012,46.9071,47.2129 ,47.417,47.7227,48.024,48.2251,48.4264, 48.8245,49.1221,49.5185,50.1037,50.4948 ,50.7829,50.8791,50.8712)
FOOTPRINT_POINT_LONGITUDE = (226.18,225.798,225.415,225.03,224.644, 224.256,223.62,223.596,223.511,223.554, 223.588,223.62,223.644,223.675,223.704, 223.725,223.753,223.774,223.787,223.799 ,223.818,223.83,223.842,223.854,223.865 ,223.876,223.893,223.903,223.913, 223.928,223.937,223.947,223.96,223.969, 223.977,223.985,223.993,224.001,224.008 ,224.015,224.022,224.029,224.038, 224.044,224.05,224.055,224.061,224.065, 224.067,224.069,224.734,225.079,225.474 ,226.078,226.522,226.86,226.886,226.895 ,226.883,226.871,226.86,226.842,226.83, 226.818,226.806,226.793,226.781,226.769 ,226.757,226.744,226.731,226.719, 226.699,226.686,226.673,226.66,226.647, 226.627,226.614,226.593,226.579,226.566 ,226.552,226.538,226.523,226.509, 226.488,226.473,226.451,226.429,226.414 ,226.398,226.368,226.344,226.313, 226.264,226.231,226.206,226.198,226.18)
ORBIT_NUMBER = 9665
ORBITAL_ECCENTRICITY = 0.571
ORBITAL_INCLINATION = 86.89
ORBITAL_SEMIMAJOR_AXIS = 8770.18
PERIAPSIS_ALTITUDE = 380.5
PERIAPSIS_ARGUMENT_ANGLE = 109.56
PERIAPSIS_TIME = 2011-07-29T21:53:40.000Z
SPACECRAFT_ORIENTATION = (0.0,-1.0,0.0)
^MEX_ORIENTATION_DESC = "MEX_ORIENTATION_DESC.TXT"
SPACECRAFT_POINTING_MODE = ACROSSTRACK
^MEX_POINTING_DESC = "MEX_POINTING_DESC.TXT"
RIGHT_ASCENSION = -1e+32
DECLINATION = -1e+32
OFFSET_ANGLE = -0.5
SPACECRAFT_SOLAR_DISTANCE = 2.24203e+08
TARGET_NAME = MARS
/* CAMERA DATA ELEMENTS */
DETECTOR_TEMPERATURE = 18.3705
FOCAL_PLANE_TEMPERATURE = 7.5638
INST_CMPRS_NAME = "DISCRETE COSINE TRANSFORMATION (DCT)"
INST_CMPRS_RATIO = 21.3671
INST_CMPRS_QUALITY = 0
INST_CMPRS_QUANTZ_TBL_ID = 0
INSTRUMENT_TEMPERATURE = 11.0301
LENS_TEMPERATURE = 8.1755
MACROPIXEL_SIZE = 4
MISSING_FRAMES = 0
PIXEL_SUBSAMPLING_FLAG = N
SIGNAL_CHAIN_ID = 2
/* RADIOMETRIC DATA ELEMENTS */
BANDWIDTH = 48.0
CENTER_FILTER_WAVELENGTH = 748.0
RADIANCE_OFFSET = 1.76209
RADIANCE_SCALING_FACTOR = 0.00396967
REFLECTANCE_SCALING_FACTOR = 0.000455369
MEX:REFLECTANCE_OFFSET = 0.202133
/* IMAGE OBJECT DEFINITIONS */
OBJECT = IMAGE
  INTERCHANGE_FORMAT = BINARY
  LINES = 12575
  LINE_SAMPLES = 2679
  SAMPLE_TYPE = UNSIGNED_INTEGER
  SAMPLE_BITS = 8
  BANDS = 1
  BAND_STORAGE_TYPE = BAND_SEQUENTIAL
  MAXIMUM = 255
  MEAN = 113.695
  MINIMUM = 1
  STANDARD_DEVIATION = 51.2296
END_OBJECT = IMAGE
/* MAP OBJECT DEFINITIONS */
OBJECT = IMAGE_MAP_PROJECTION
  ^DATA_SET_MAP_PROJECTION_CATALOG= "DSMAP.CAT"
  A_AXIS_RADIUS = 3396.0
  B_AXIS_RADIUS = 3396.0
  C_AXIS_RADIUS = 3396.0
  CENTER_LATITUDE = 0.0
  CENTER_LONGITUDE = 225.0
  COORDINATE_SYSTEM_NAME = PLANETOGRAPHIC
  COORDINATE_SYSTEM_TYPE = "BODY-FIXED ROTATING"
  EASTERNMOST_LONGITUDE = 226.895
  FIRST_STANDARD_PARALLEL = "N/A"
  LINE_FIRST_PIXEL = 1
  LINE_LAST_PIXEL = 12575
  LINE_PROJECTION_OFFSET = 60425.375
  MAP_PROJECTION_ROTATION = 0.0
  MAP_PROJECTION_TYPE = SINUSOIDAL
  MAP_RESOLUTION = 1185.42760773333
  MAP_SCALE = 0.05
  MAXIMUM_LATITUDE = 50.8973
  MINIMUM_LATITUDE = 40.397
  POSITIVE_LONGITUDE_DIRECTION = EAST
  REFERENCE_LATITUDE = "N/A"
  REFERENCE_LONGITUDE = "N/A"
  SAMPLE_FIRST_PIXEL = 1
  SAMPLE_LAST_PIXEL = 2679
  SAMPLE_PROJECTION_OFFSET = 1068.625
  SECOND_STANDARD_PARALLEL = "N/A"
  WESTERNMOST_LONGITUDE = 223.511
END_OBJECT = IMAGE_MAP_PROJECTION
END
