PDS_VERSION_ID = PDS3
/* FILE DATA ELEMENTS */
RECORD_TYPE = UNDEFINED
/* POINTERS TO DATA OBJECTS */
^IMAGE = ("H9665_0000_BL4.TIF")
/* IDENTIFICATION DATA ELEMENTS */
DATA_SET_ID = "MEX-M-HRSC-4-REFDR-MAPPROJECT-EXT3-V4.0"
DATA_SET_NAME = "MARS EXPRESS HRSC MAP PROJECTED REFDR EXTENSION3 V4.0"
DETECTOR_ID = MEX_HRSC_BLUE
EVENT_TYPE = "MARS-REGIONAL-MAPPING-Te-Im-Pf"
INSTRUMENT_HOST_ID = MEX
INSTRUMENT_HOST_NAME = "MARS EXPRESS"
INSTRUMENT_ID = HRSC
INSTRUMENT_NAME = "HIGH RESOLUTION STEREO CAMERA"
MISSION_NAME = "MARS EXPRESS"
MISSION_PHASE_NAME = ME_Phase_23
PROCESSING_LEVEL_ID = 4
PRODUCT_CREATION_TIME = 2023-02-04T12:09:02.000Z
PRODUCT_ID = "H9665_0000_BL4.TIF"
RELEASE_ID = 0007
REVISION_ID = 0000
/* QUALITY DATA ELEMENTS */
DATA_QUALITY_ID = 1
DATA_QUALITY_DESC = "Data calculated based on original SPICE kernels"
/* TIME DATA ELEMENTS */
SPACECRAFT_CLOCK_START_COUNT = "1/0260056681.07302"
SPACECRAFT_CLOCK_STOP_COUNT = "1/0260056963.46264"
START_TIME = 2011-07-29T21:58:52.890Z
STOP_TIME = 2011-07-29T22:01:51.290Z
/* ORBITAL DATA ELEMENTS */
ASCENDING_NODE_LONGITUDE = 32.72
MAXIMUM_RESOLUTION = 0.0737
FOOTPRINT_POINT_LATITUDE = (50.9513,50.9367,50.9266,50.9152, 50.9028,50.8891,50.8752,50.8742,50.8869 ,50.4068,50.0203,49.6346,49.3403, 48.9469,48.5544,48.1543,47.5548,47.2502 ,47.0467,46.8435,46.6405,46.3317, 46.1249,45.9185,45.7122,45.5031,45.2931 ,45.0832,44.8737,44.6621,44.4487, 44.2357,44.023,43.8079,43.5914,43.3753, 43.1595,42.9399,42.6108,42.3917,42.169, 41.9465,41.7242,41.3869,41.1613,40.936, 40.5929,40.4786,40.3709,40.3776,40.3854 ,40.3907,40.3954,40.3994,40.4047, 40.4086,40.4109,40.411,40.4124,40.7568, 40.9863,41.2125,41.439,41.6658,41.8889, 42.1121,42.3357,42.5573,42.7773,42.9977 ,43.218,43.4347,43.6517,43.8689,44.0847 ,44.2983,44.5121,44.7262,45.0436, 45.2542,45.465,45.7802,45.9871,46.1944, 46.402,46.7119,46.9156,47.1196,47.3238, 47.6295,48.2312,48.6325,49.0266,49.4215 ,49.7166,50.1039,50.4919,50.7834, 50.8787,50.9513)
FOOTPRINT_POINT_LONGITUDE = (226.12,225.505,225.138,224.769,224.399 ,224.027,223.677,223.653,223.576,223.62 ,223.655,223.688,223.712,223.744, 223.774,223.804,223.846,223.867,223.88, 223.893,223.906,223.924,223.937,223.948 ,223.96,223.971,223.982,223.993,224.004 ,224.014,224.024,224.034,224.043, 224.053,224.062,224.071,224.079,224.088 ,224.1,224.108,224.115,224.122,224.129, 224.14,224.146,224.153,224.161,224.164, 224.167,224.439,224.786,225.058,225.329 ,225.6,226.016,226.406,226.77,226.795, 226.803,226.787,226.776,226.765,226.754 ,226.743,226.732,226.721,226.709, 226.698,226.686,226.675,226.663,226.651 ,226.639,226.627,226.615,226.603, 226.591,226.578,226.559,226.547,226.534 ,226.515,226.502,226.488,226.475, 226.455,226.441,226.428,226.414,226.393 ,226.35,226.32,226.291,226.261,226.237, 226.206,226.174,226.15,226.142,226.12)
ORBIT_NUMBER = 9665
ORBITAL_ECCENTRICITY = 0.571
ORBITAL_INCLINATION = 86.89
ORBITAL_SEMIMAJOR_AXIS = 8770.18
PERIAPSIS_ALTITUDE = 380.5
PERIAPSIS_ARGUMENT_ANGLE = 109.56
PERIAPSIS_TIME = 2011-07-29T21:53:40.000Z
SPACECRAFT_ORIENTATION = (0.0,-1.0,0.0)
^MEX_ORIENTATION_DESC = "MEX_ORIENTATION_DESC.TXT"
SPACECRAFT_POINTING_MODE = ACROSSTRACK
^MEX_POINTING_DESC = "MEX_POINTING_DESC.TXT"
RIGHT_ASCENSION = -1e+32
DECLINATION = -1e+32
OFFSET_ANGLE = -0.5
SPACECRAFT_SOLAR_DISTANCE = 2.24203e+08
TARGET_NAME = MARS
/* CAMERA DATA ELEMENTS */
DETECTOR_TEMPERATURE = 18.1666
FOCAL_PLANE_TEMPERATURE = 7.5638
INST_CMPRS_NAME = "DISCRETE COSINE TRANSFORMATION (DCT)"
INST_CMPRS_RATIO = 11.8658
INST_CMPRS_QUALITY = 0
INST_CMPRS_QUANTZ_TBL_ID = 0
INSTRUMENT_TEMPERATURE = 11.0301
LENS_TEMPERATURE = 8.1755
MACROPIXEL_SIZE = 4
MISSING_FRAMES = 0
PIXEL_SUBSAMPLING_FLAG = N
SIGNAL_CHAIN_ID = 2
/* RADIOMETRIC DATA ELEMENTS */
BANDWIDTH = 76.0
CENTER_FILTER_WAVELENGTH = 444.0
RADIANCE_OFFSET = 0.839229
RADIANCE_SCALING_FACTOR = 0.00109703
REFLECTANCE_SCALING_FACTOR = 5.66578e-05
MEX:REFLECTANCE_OFFSET = 0.0433432
/* IMAGE OBJECT DEFINITIONS */
OBJECT = IMAGE
  INTERCHANGE_FORMAT = BINARY
  LINES = 12575
  LINE_SAMPLES = 2679
  SAMPLE_TYPE = UNSIGNED_INTEGER
  SAMPLE_BITS = 8
  BANDS = 1
  BAND_STORAGE_TYPE = BAND_SEQUENTIAL
  MAXIMUM = 255
  MEAN = 115.449
  MINIMUM = 1
  STANDARD_DEVIATION = 33.2191
END_OBJECT = IMAGE
/* MAP OBJECT DEFINITIONS */
OBJECT = IMAGE_MAP_PROJECTION
  ^DATA_SET_MAP_PROJECTION_CATALOG= "DSMAP.CAT"
  A_AXIS_RADIUS = 3396.0
  B_AXIS_RADIUS = 3396.0
  C_AXIS_RADIUS = 3396.0
  CENTER_LATITUDE = 0.0
  CENTER_LONGITUDE = 225.0
  COORDINATE_SYSTEM_NAME = PLANETOGRAPHIC
  COORDINATE_SYSTEM_TYPE = "BODY-FIXED ROTATING"
  EASTERNMOST_LONGITUDE = 226.803
  FIRST_STANDARD_PARALLEL = "N/A"
  LINE_FIRST_PIXEL = 1
  LINE_LAST_PIXEL = 12575
  LINE_PROJECTION_OFFSET = 60425.375
  MAP_PROJECTION_ROTATION = 0.0
  MAP_PROJECTION_TYPE = SINUSOIDAL
  MAP_RESOLUTION = 1185.42760773333
  MAP_SCALE = 0.05
  MAXIMUM_LATITUDE = 50.9513
  MINIMUM_LATITUDE = 40.3709
  POSITIVE_LONGITUDE_DIRECTION = EAST
  REFERENCE_LATITUDE = "N/A"
  REFERENCE_LONGITUDE = "N/A"
  SAMPLE_FIRST_PIXEL = 1
  SAMPLE_LAST_PIXEL = 2679
  SAMPLE_PROJECTION_OFFSET = 1068.625
  SECOND_STANDARD_PARALLEL = "N/A"
  WESTERNMOST_LONGITUDE = 223.576
END_OBJECT = IMAGE_MAP_PROJECTION
END
