PDS_VERSION_ID = PDS3
/* FILE DATA ELEMENTS */
RECORD_TYPE = UNDEFINED
/* POINTERS TO DATA OBJECTS */
^IMAGE = ("H9655_0000_ND4.TIF")
/* IDENTIFICATION DATA ELEMENTS */
DATA_SET_ID = "MEX-M-HRSC-4-REFDR-MAPPROJECT-EXT3-V4.0"
DATA_SET_NAME = "MARS EXPRESS HRSC MAP PROJECTED REFDR EXTENSION3 V4.0"
DETECTOR_ID = MEX_HRSC_NADIR
EVENT_TYPE = "MARS-REGIONAL-MAPPING-Te-Im-Pf"
INSTRUMENT_HOST_ID = MEX
INSTRUMENT_HOST_NAME = "MARS EXPRESS"
INSTRUMENT_ID = HRSC
INSTRUMENT_NAME = "HIGH RESOLUTION STEREO CAMERA"
MISSION_NAME = "MARS EXPRESS"
MISSION_PHASE_NAME = ME_Phase_23
PROCESSING_LEVEL_ID = 4
PRODUCT_CREATION_TIME = 2023-02-04T12:09:02.000Z
PRODUCT_ID = "H9655_0000_ND4.TIF"
RELEASE_ID = 0007
REVISION_ID = 0000
/* QUALITY DATA ELEMENTS */
DATA_QUALITY_ID = 1
DATA_QUALITY_DESC = "Data calculated based on original SPICE kernels"
/* TIME DATA ELEMENTS */
SPACECRAFT_CLOCK_START_COUNT = "1/0259804722.09034"
SPACECRAFT_CLOCK_STOP_COUNT = "1/0259805016.40604"
START_TIME = 2011-07-26T23:59:20.822Z
STOP_TIME = 2011-07-27T00:02:48.840Z
/* ORBITAL DATA ELEMENTS */
ASCENDING_NODE_LONGITUDE = 32.9
MAXIMUM_RESOLUTION = 0.0159
FOOTPRINT_POINT_LATITUDE = (60.0596,60.032,59.9977,59.9587,59.9574 ,59.9554,59.7068,59.4583,58.9617, 58.4655,57.9697,57.4744,56.9796,56.4854 ,55.9917,55.6147,55.3617,55.1088, 54.8561,54.6036,54.3513,54.0991,53.8419 ,53.5835,53.3253,53.0674,52.8097, 52.5521,52.1589,51.8954,51.6321,51.369, 51.1062,50.8399,50.5711,50.3025,50.0343 ,49.7663,49.3572,49.0835,48.81,48.5369, 48.2593,47.9804,47.7018,47.4236,47.1413 ,46.9993,46.9919,47.0097,47.0276, 47.0424,47.0495,47.0499,47.0503,47.4761 ,47.7553,48.0347,48.3145,48.5932, 48.8672,49.1415,49.4161,49.8268,50.0956 ,50.3648,50.6342,50.9039,51.1713,51.435 ,51.699,51.9632,52.2276,52.6224,52.8809 ,53.1395,53.3984,53.6576,53.9169, 54.1753,54.4284,54.6816,54.9351,55.1888 ,55.4426,55.6967,56.0754,56.5711, 57.0675,57.5644,58.0619,58.3109,58.56, 58.8092,59.0586,59.3081,59.5577,59.9323 ,60.0572,60.0596)
FOOTPRINT_POINT_LONGITUDE = (168.896,168.033,167.147,166.287, 166.261,166.18,166.225,166.27,166.356, 166.439,166.516,166.591,166.663,166.731 ,166.796,166.844,166.875,166.906, 166.935,166.964,166.992,167.02,167.047, 167.074,167.1,167.125,167.15,167.174, 167.21,167.234,167.256,167.278,167.299, 167.32,167.341,167.361,167.381,167.399, 167.427,167.446,167.463,167.48,167.497, 167.513,167.529,167.544,167.558,167.566 ,167.566,168.123,168.8,169.526,169.987, 170.012,170.024,170.002,169.987,169.972 ,169.956,169.941,169.925,169.91,169.893 ,169.869,169.852,169.835,169.818, 169.801,169.783,169.765,169.747,169.729 ,169.71,169.681,169.662,169.643,169.623 ,169.603,169.582,169.562,169.541, 169.519,169.498,169.476,169.453,169.431 ,169.396,169.349,169.301,169.25,169.197 ,169.171,169.143,169.115,169.086, 169.057,169.027,168.982,168.966, 168.896)
ORBIT_NUMBER = 9655
ORBITAL_ECCENTRICITY = 0.571
ORBITAL_INCLINATION = 86.88
ORBITAL_SEMIMAJOR_AXIS = 8773.41
PERIAPSIS_ALTITUDE = 381.38
PERIAPSIS_ARGUMENT_ANGLE = 111.31
PERIAPSIS_TIME = 2011-07-26T23:57:07.000Z
SPACECRAFT_ORIENTATION = (0.0,-1.0,0.0)
^MEX_ORIENTATION_DESC = "MEX_ORIENTATION_DESC.TXT"
SPACECRAFT_POINTING_MODE = NADIR
^MEX_POINTING_DESC = "MEX_POINTING_DESC.TXT"
RIGHT_ASCENSION = -1e+32
DECLINATION = -1e+32
OFFSET_ANGLE = -1e+32
SPACECRAFT_SOLAR_DISTANCE = 2.23635e+08
TARGET_NAME = MARS
/* CAMERA DATA ELEMENTS */
DETECTOR_TEMPERATURE = 18.1666
FOCAL_PLANE_TEMPERATURE = 7.7677
INST_CMPRS_NAME = "DISCRETE COSINE TRANSFORMATION (DCT)"
INST_CMPRS_RATIO = 6.96175
INST_CMPRS_QUALITY = 0
INST_CMPRS_QUANTZ_TBL_ID = 0
INSTRUMENT_TEMPERATURE = 11.0301
LENS_TEMPERATURE = 8.1755
MACROPIXEL_SIZE = 1
MISSING_FRAMES = 0
PIXEL_SUBSAMPLING_FLAG = N
SIGNAL_CHAIN_ID = 0
/* RADIOMETRIC DATA ELEMENTS */
BANDWIDTH = 177.0
CENTER_FILTER_WAVELENGTH = 677.5
RADIANCE_OFFSET = 4.3265
RADIANCE_SCALING_FACTOR = 0.0171002
REFLECTANCE_SCALING_FACTOR = 0.000454327
MEX:REFLECTANCE_OFFSET = 0.114948
/* IMAGE OBJECT DEFINITIONS */
OBJECT = IMAGE
  INTERCHANGE_FORMAT = BINARY
  LINES = 61982
  LINE_SAMPLES = 10860
  SAMPLE_TYPE = UNSIGNED_INTEGER
  SAMPLE_BITS = 8
  BANDS = 1
  BAND_STORAGE_TYPE = BAND_SEQUENTIAL
  MAXIMUM = 255
  MEAN = 68.1807
  MINIMUM = 1
  STANDARD_DEVIATION = 40.2553
END_OBJECT = IMAGE
/* MAP OBJECT DEFINITIONS */
OBJECT = IMAGE_MAP_PROJECTION
  ^DATA_SET_MAP_PROJECTION_CATALOG= "DSMAP.CAT"
  A_AXIS_RADIUS = 3396.0
  B_AXIS_RADIUS = 3396.0
  C_AXIS_RADIUS = 3396.0
  CENTER_LATITUDE = 0.0
  CENTER_LONGITUDE = 168.0
  COORDINATE_SYSTEM_NAME = PLANETOGRAPHIC
  COORDINATE_SYSTEM_TYPE = "BODY-FIXED ROTATING"
  EASTERNMOST_LONGITUDE = 170.024
  FIRST_STANDARD_PARALLEL = "N/A"
  LINE_FIRST_PIXEL = 1
  LINE_LAST_PIXEL = 61982
  LINE_PROJECTION_OFFSET = 284804.0
  MAP_PROJECTION_ROTATION = 0.0
  MAP_PROJECTION_TYPE = SINUSOIDAL
  MAP_RESOLUTION = 4741.71043093333
  MAP_SCALE = 0.0125
  MAXIMUM_LATITUDE = 60.0596
  MINIMUM_LATITUDE = 46.9919
  POSITIVE_LONGITUDE_DIRECTION = EAST
  REFERENCE_LATITUDE = "N/A"
  REFERENCE_LONGITUDE = "N/A"
  SAMPLE_FIRST_PIXEL = 1
  SAMPLE_LAST_PIXEL = 10860
  SAMPLE_PROJECTION_OFFSET = 4321.0
  SECOND_STANDARD_PARALLEL = "N/A"
  WESTERNMOST_LONGITUDE = 166.18
END_OBJECT = IMAGE_MAP_PROJECTION
END
