PDS_VERSION_ID = PDS3
/* FILE DATA ELEMENTS */
RECORD_TYPE = UNDEFINED
/* POINTERS TO DATA OBJECTS */
^IMAGE = ("H9654_0000_P24.TIF")
/* IDENTIFICATION DATA ELEMENTS */
DATA_SET_ID = "MEX-M-HRSC-4-REFDR-MAPPROJECT-EXT3-V4.0"
DATA_SET_NAME = "MARS EXPRESS HRSC MAP PROJECTED REFDR EXTENSION3 V4.0"
DETECTOR_ID = MEX_HRSC_P2
EVENT_TYPE = "MARS-REGIONAL-MAPPING-Te-Im-Pf"
INSTRUMENT_HOST_ID = MEX
INSTRUMENT_HOST_NAME = "MARS EXPRESS"
INSTRUMENT_ID = HRSC
INSTRUMENT_NAME = "HIGH RESOLUTION STEREO CAMERA"
MISSION_NAME = "MARS EXPRESS"
MISSION_PHASE_NAME = ME_Phase_23
PROCESSING_LEVEL_ID = 4
PRODUCT_CREATION_TIME = 2023-02-04T12:09:02.000Z
PRODUCT_ID = "H9654_0000_P24.TIF"
RELEASE_ID = 0007
REVISION_ID = 0000
/* QUALITY DATA ELEMENTS */
DATA_QUALITY_ID = 1
DATA_QUALITY_DESC = "Data calculated based on original SPICE kernels"
/* TIME DATA ELEMENTS */
SPACECRAFT_CLOCK_START_COUNT = "1/0259779446.09062"
SPACECRAFT_CLOCK_STOP_COUNT = "1/0259779675.08467"
START_TIME = 2011-07-26T16:58:26.826Z
STOP_TIME = 2011-07-26T17:01:02.481Z
/* ORBITAL DATA ELEMENTS */
ASCENDING_NODE_LONGITUDE = 32.93
MAXIMUM_RESOLUTION = 0.0318
FOOTPRINT_POINT_LATITUDE = (66.091,66.057,66.0002,65.9562,65.9546, 66.031,65.7377,65.5421,65.3463,65.0537, 64.8584,64.6632,64.4679,64.273,63.9806, 63.7857,63.5908,63.3961,63.1041,62.9097 ,62.7153,62.4238,62.1326,61.9386, 61.7448,61.4539,61.2603,61.0669,60.7767 ,60.5835,60.3905,60.101,59.8116,59.6188 ,59.4262,59.1377,58.9453,58.6569, 58.3691,57.8902,57.5078,57.2214,57.0262 ,56.8305,56.6346,56.4392,56.3417, 56.3068,56.324,56.349,56.3721,56.387, 56.3964,56.3971,56.3978,56.5942,56.7904 ,56.9868,57.1834,57.4739,57.858,58.3389 ,58.8209,59.0139,59.2068,59.4001, 59.5932,59.7866,59.9802,60.1737,60.3677 ,60.5619,60.7561,60.9504,61.145,61.3394 ,61.6316,61.924,62.1189,62.4119,62.6072 ,62.8027,62.9985,63.1942,63.39,63.586, 63.782,63.9782,64.1745,64.3708,64.6655, 64.8621,65.0588,65.2556,65.4524,65.6493 ,65.8464,66.0435,66.1421,66.091)
FOOTPRINT_POINT_LONGITUDE = (270.191,269.274,267.966,267.086, 267.055,266.929,267.025,267.087,267.149 ,267.238,267.296,267.353,267.41,267.464 ,267.545,267.597,267.649,267.699, 267.773,267.821,267.868,267.937,268.004 ,268.047,268.09,268.153,268.194,268.234 ,268.293,268.331,268.369,268.424, 268.477,268.513,268.547,268.597,268.63, 268.678,268.725,268.8,268.857,268.899, 268.927,268.954,268.981,269.008,269.021 ,269.025,269.434,270.1,270.793,271.281, 271.641,271.667,271.676,271.657,271.638 ,271.618,271.598,271.568,271.528, 271.475,271.421,271.399,271.376,271.353 ,271.329,271.305,271.281,271.256, 271.231,271.206,271.18,271.154,271.127, 271.1,271.059,271.017,270.988,270.943, 270.913,270.883,270.852,270.82,270.788, 270.755,270.722,270.688,270.654,270.619 ,270.565,270.528,270.491,270.453, 270.414,270.375,270.335,270.294,270.273 ,270.191)
ORBIT_NUMBER = 9654
ORBITAL_ECCENTRICITY = 0.572
ORBITAL_INCLINATION = 86.87
ORBITAL_SEMIMAJOR_AXIS = 8774.42
PERIAPSIS_ALTITUDE = 380.5
PERIAPSIS_ARGUMENT_ANGLE = 111.47
PERIAPSIS_TIME = 2011-07-26T16:57:28.000Z
SPACECRAFT_ORIENTATION = (0.0,-1.0,0.0)
^MEX_ORIENTATION_DESC = "MEX_ORIENTATION_DESC.TXT"
SPACECRAFT_POINTING_MODE = NADIR
^MEX_POINTING_DESC = "MEX_POINTING_DESC.TXT"
RIGHT_ASCENSION = -1e+32
DECLINATION = -1e+32
OFFSET_ANGLE = -1e+32
SPACECRAFT_SOLAR_DISTANCE = 2.23578e+08
TARGET_NAME = MARS
/* CAMERA DATA ELEMENTS */
DETECTOR_TEMPERATURE = 18.5744
FOCAL_PLANE_TEMPERATURE = 7.9716
INST_CMPRS_NAME = "DISCRETE COSINE TRANSFORMATION (DCT)"
INST_CMPRS_RATIO = 10.7306
INST_CMPRS_QUALITY = 0
INST_CMPRS_QUANTZ_TBL_ID = 0
INSTRUMENT_TEMPERATURE = 10.2145
LENS_TEMPERATURE = 8.5833
MACROPIXEL_SIZE = 2
MISSING_FRAMES = 0
PIXEL_SUBSAMPLING_FLAG = N
SIGNAL_CHAIN_ID = 3
/* RADIOMETRIC DATA ELEMENTS */
BANDWIDTH = 177.0
CENTER_FILTER_WAVELENGTH = 676.5
RADIANCE_OFFSET = 2.77982
RADIANCE_SCALING_FACTOR = 0.0105379
REFLECTANCE_SCALING_FACTOR = 0.000279301
MEX:REFLECTANCE_OFFSET = 0.0736776
/* IMAGE OBJECT DEFINITIONS */
OBJECT = IMAGE
  INTERCHANGE_FORMAT = BINARY
  LINES = 23354
  LINE_SAMPLES = 5094
  SAMPLE_TYPE = UNSIGNED_INTEGER
  SAMPLE_BITS = 8
  BANDS = 1
  BAND_STORAGE_TYPE = BAND_SEQUENTIAL
  MAXIMUM = 254
  MEAN = 121.246
  MINIMUM = 1
  STANDARD_DEVIATION = 52.0108
END_OBJECT = IMAGE
/* MAP OBJECT DEFINITIONS */
OBJECT = IMAGE_MAP_PROJECTION
  ^DATA_SET_MAP_PROJECTION_CATALOG= "DSMAP.CAT"
  A_AXIS_RADIUS = 3396.0
  B_AXIS_RADIUS = 3396.0
  C_AXIS_RADIUS = 3396.0
  CENTER_LATITUDE = 0.0
  CENTER_LONGITUDE = 270.0
  COORDINATE_SYSTEM_NAME = PLANETOGRAPHIC
  COORDINATE_SYSTEM_TYPE = "BODY-FIXED ROTATING"
  EASTERNMOST_LONGITUDE = 271.676
  FIRST_STANDARD_PARALLEL = "N/A"
  LINE_FIRST_PIXEL = 1
  LINE_LAST_PIXEL = 23354
  LINE_PROJECTION_OFFSET = 156873.25
  MAP_PROJECTION_ROTATION = 0.0
  MAP_PROJECTION_TYPE = SINUSOIDAL
  MAP_RESOLUTION = 2370.85521546667
  MAP_SCALE = 0.025
  MAXIMUM_LATITUDE = 66.1421
  MINIMUM_LATITUDE = 56.3068
  POSITIVE_LONGITUDE_DIRECTION = EAST
  REFERENCE_LATITUDE = "N/A"
  REFERENCE_LONGITUDE = "N/A"
  SAMPLE_FIRST_PIXEL = 1
  SAMPLE_LAST_PIXEL = 5094
  SAMPLE_PROJECTION_OFFSET = 2943.75
  SECOND_STANDARD_PARALLEL = "N/A"
  WESTERNMOST_LONGITUDE = 266.929
END_OBJECT = IMAGE_MAP_PROJECTION
END
