PDS_VERSION_ID = PDS3
/* FILE DATA ELEMENTS */
RECORD_TYPE = UNDEFINED
/* POINTERS TO DATA OBJECTS */
^IMAGE = ("H9644_0000_S14.TIF")
/* IDENTIFICATION DATA ELEMENTS */
DATA_SET_ID = "MEX-M-HRSC-4-REFDR-MAPPROJECT-EXT3-V4.0"
DATA_SET_NAME = "MARS EXPRESS HRSC MAP PROJECTED REFDR EXTENSION3 V4.0"
DETECTOR_ID = MEX_HRSC_S1
EVENT_TYPE = "MARS-LOCAL-MAPPING-Te-Im-Pf"
INSTRUMENT_HOST_ID = MEX
INSTRUMENT_HOST_NAME = "MARS EXPRESS"
INSTRUMENT_ID = HRSC
INSTRUMENT_NAME = "HIGH RESOLUTION STEREO CAMERA"
MISSION_NAME = "MARS EXPRESS"
MISSION_PHASE_NAME = ME_Phase_23
PROCESSING_LEVEL_ID = 4
PRODUCT_CREATION_TIME = 2023-02-04T12:09:02.000Z
PRODUCT_ID = "H9644_0000_S14.TIF"
RELEASE_ID = 0007
REVISION_ID = 0000
/* QUALITY DATA ELEMENTS */
DATA_QUALITY_ID = 1
DATA_QUALITY_DESC = "Data calculated based on original SPICE kernels"
/* TIME DATA ELEMENTS */
SPACECRAFT_CLOCK_START_COUNT = "1/0259527742.09043"
SPACECRAFT_CLOCK_STOP_COUNT = "1/0259527927.14867"
START_TIME = 2011-07-23T19:02:25.232Z
STOP_TIME = 2011-07-23T19:04:08.346Z
/* ORBITAL DATA ELEMENTS */
ASCENDING_NODE_LONGITUDE = 33.11
MAXIMUM_RESOLUTION = 0.033
FOOTPRINT_POINT_LATITUDE = (58.2112,58.1972,58.1845,58.1657, 58.1499,58.1326,58.1176,58.1164,58.0056 ,57.8066,57.6741,57.4754,57.3426, 57.2101,57.0775,56.8124,56.6794,56.5464 ,56.2812,56.1484,55.9492,55.8165, 55.6175,55.4846,55.286,55.0171,54.878, 54.7446,54.5442,54.4115,54.2136,53.9497 ,53.691,53.4903,53.2905,53.1571,52.9572 ,52.7574,52.6234,52.4902,52.3574, 52.1577,52.0244,51.8911,51.7582,51.6249 ,51.4253,51.3587,51.3269,51.3465, 51.3597,51.3691,51.3816,51.3905,51.3963 ,51.4012,51.4016,51.4023,51.5357, 51.6694,51.8694,52.0698,52.2035,52.3373 ,52.5376,52.6713,52.8048,52.9385, 53.0719,53.2056,53.3396,53.5409,53.6765 ,54.0086,54.2684,54.4017,54.6034, 54.7382,54.8739,55.0124,55.2773,55.4106 ,55.6762,55.8093,55.9427,56.2087, 56.3421,56.4756,56.6758,56.8759,57.0093 ,57.1428,57.3426,57.4759,57.6086, 57.7417,57.8748,58.0082,58.0749, 58.2112)
FOOTPRINT_POINT_LONGITUDE = (214.32,213.843,213.461,212.961,212.581 ,212.2,211.891,211.868,211.817,211.848, 211.869,211.899,211.919,211.939,211.958 ,211.997,212.016,212.034,212.071, 212.089,212.116,212.133,212.159,212.176 ,212.201,212.233,212.246,212.262, 212.285,212.301,212.324,212.354,212.386 ,212.407,212.428,212.441,212.462, 212.481,212.494,212.507,212.52,212.538, 212.551,212.563,212.575,212.587,212.604 ,212.61,212.613,213.062,213.421,213.691 ,214.096,214.434,214.681,214.907, 214.929,214.937,214.929,214.92,214.907, 214.894,214.885,214.876,214.862,214.853 ,214.844,214.834,214.825,214.815, 214.805,214.79,214.779,214.755,214.739, 214.728,214.712,214.7,214.688,214.674, 214.653,214.642,214.62,214.609,214.598, 214.575,214.563,214.55,214.532,214.513, 214.501,214.488,214.469,214.456,214.443 ,214.43,214.417,214.403,214.396,214.32)
ORBIT_NUMBER = 9644
ORBITAL_ECCENTRICITY = 0.572
ORBITAL_INCLINATION = 86.89
ORBITAL_SEMIMAJOR_AXIS = 8773.9
PERIAPSIS_ALTITUDE = 379.2
PERIAPSIS_ARGUMENT_ANGLE = 113.19
PERIAPSIS_TIME = 2011-07-23T19:00:46.000Z
SPACECRAFT_ORIENTATION = (0.0,-1.0,0.0)
^MEX_ORIENTATION_DESC = "MEX_ORIENTATION_DESC.TXT"
SPACECRAFT_POINTING_MODE = NADIR
^MEX_POINTING_DESC = "MEX_POINTING_DESC.TXT"
RIGHT_ASCENSION = -1e+32
DECLINATION = -1e+32
OFFSET_ANGLE = -1e+32
SPACECRAFT_SOLAR_DISTANCE = 2.23013e+08
TARGET_NAME = MARS
/* CAMERA DATA ELEMENTS */
DETECTOR_TEMPERATURE = 17.351
FOCAL_PLANE_TEMPERATURE = 7.9716
INST_CMPRS_NAME = "DISCRETE COSINE TRANSFORMATION (DCT)"
INST_CMPRS_RATIO = 11.8397
INST_CMPRS_QUALITY = 0
INST_CMPRS_QUANTZ_TBL_ID = 0
INSTRUMENT_TEMPERATURE = 11.0301
LENS_TEMPERATURE = 8.5833
MACROPIXEL_SIZE = 2
MISSING_FRAMES = 0
PIXEL_SUBSAMPLING_FLAG = N
SIGNAL_CHAIN_ID = 1
/* RADIOMETRIC DATA ELEMENTS */
BANDWIDTH = 180.0
CENTER_FILTER_WAVELENGTH = 677.0
RADIANCE_OFFSET = 5.09329
RADIANCE_SCALING_FACTOR = 0.00898042
REFLECTANCE_SCALING_FACTOR = 0.000233024
MEX:REFLECTANCE_OFFSET = 0.13216
/* IMAGE OBJECT DEFINITIONS */
OBJECT = IMAGE
  INTERCHANGE_FORMAT = BINARY
  LINES = 16068
  LINE_SAMPLES = 4429
  SAMPLE_TYPE = UNSIGNED_INTEGER
  SAMPLE_BITS = 8
  BANDS = 1
  BAND_STORAGE_TYPE = BAND_SEQUENTIAL
  MAXIMUM = 255
  MEAN = 131.958
  MINIMUM = 1
  STANDARD_DEVIATION = 47.6776
END_OBJECT = IMAGE
/* MAP OBJECT DEFINITIONS */
OBJECT = IMAGE_MAP_PROJECTION
  ^DATA_SET_MAP_PROJECTION_CATALOG= "DSMAP.CAT"
  A_AXIS_RADIUS = 3396.0
  B_AXIS_RADIUS = 3396.0
  C_AXIS_RADIUS = 3396.0
  CENTER_LATITUDE = 0.0
  CENTER_LONGITUDE = 213.0
  COORDINATE_SYSTEM_NAME = PLANETOGRAPHIC
  COORDINATE_SYSTEM_TYPE = "BODY-FIXED ROTATING"
  EASTERNMOST_LONGITUDE = 214.937
  FIRST_STANDARD_PARALLEL = "N/A"
  LINE_FIRST_PIXEL = 1
  LINE_LAST_PIXEL = 16068
  LINE_PROJECTION_OFFSET = 137798.25
  MAP_PROJECTION_ROTATION = 0.0
  MAP_PROJECTION_TYPE = SINUSOIDAL
  MAP_RESOLUTION = 2370.85521546667
  MAP_SCALE = 0.025
  MAXIMUM_LATITUDE = 58.2112
  MINIMUM_LATITUDE = 51.3269
  POSITIVE_LONGITUDE_DIRECTION = EAST
  REFERENCE_LATITUDE = "N/A"
  REFERENCE_LONGITUDE = "N/A"
  SAMPLE_FIRST_PIXEL = 1
  SAMPLE_LAST_PIXEL = 4429
  SAMPLE_PROJECTION_OFFSET = 1526.25
  SECOND_STANDARD_PARALLEL = "N/A"
  WESTERNMOST_LONGITUDE = 211.817
END_OBJECT = IMAGE_MAP_PROJECTION
END
