PDS_VERSION_ID = PDS3
/* FILE DATA ELEMENTS */
RECORD_TYPE = UNDEFINED
/* POINTERS TO DATA OBJECTS */
^IMAGE = ("H9636_0000_IR4.TIF")
/* IDENTIFICATION DATA ELEMENTS */
DATA_SET_ID = "MEX-M-HRSC-4-REFDR-MAPPROJECT-EXT3-V4.0"
DATA_SET_NAME = "MARS EXPRESS HRSC MAP PROJECTED REFDR EXTENSION3 V4.0"
DETECTOR_ID = MEX_HRSC_IR
EVENT_TYPE = "MARS-LOCAL-STEREO-Im-Lc-Pf"
INSTRUMENT_HOST_ID = MEX
INSTRUMENT_HOST_NAME = "MARS EXPRESS"
INSTRUMENT_ID = HRSC
INSTRUMENT_NAME = "HIGH RESOLUTION STEREO CAMERA"
MISSION_NAME = "MARS EXPRESS"
MISSION_PHASE_NAME = ME_Phase_23
PROCESSING_LEVEL_ID = 4
PRODUCT_CREATION_TIME = 2023-02-04T12:09:02.000Z
PRODUCT_ID = "H9636_0000_IR4.TIF"
RELEASE_ID = 0007
REVISION_ID = 0000
/* QUALITY DATA ELEMENTS */
DATA_QUALITY_ID = 1
DATA_QUALITY_DESC = "Data calculated based on original SPICE kernels"
/* TIME DATA ELEMENTS */
SPACECRAFT_CLOCK_START_COUNT = "1/0259326202.09079"
SPACECRAFT_CLOCK_STOP_COUNT = "1/0259326348.57518"
START_TIME = 2011-07-21T11:03:31.542Z
STOP_TIME = 2011-07-21T11:04:45.016Z
/* ORBITAL DATA ELEMENTS */
ASCENDING_NODE_LONGITUDE = 33.27
MAXIMUM_RESOLUTION = 0.1279
FOOTPRINT_POINT_LATITUDE = (64.0094,64.0031,63.9972,63.9909, 63.9834,63.9764,63.969,63.9612,63.9531, 63.9369,63.9267,63.9085,63.9073,63.7998 ,63.6149,63.4759,63.2907,63.0589, 62.9199,62.7807,62.5951,62.4094,62.1772 ,61.9914,61.8523,61.6667,61.5734, 61.4334,61.2472,61.1074,61.0142,60.8282 ,60.7349,60.6417,60.5018,60.3155,60.222 ,60.0821,59.9888,59.8954,59.8021, 59.6621,59.5687,59.4754,59.3353,59.2418 ,59.1484,59.1016,59.0955,59.1094, 59.1232,59.13,59.1366,59.1428,59.1487, 59.1542,59.1619,59.1703,59.175,59.1754, 59.1778,59.3186,59.4594,59.6002,59.7411 ,59.835,59.9288,60.0227,60.1634,60.3045 ,60.4918,60.5861,60.7732,60.9133, 61.0069,61.1007,61.2411,61.3347,61.4283 ,61.5219,61.6155,61.7558,61.8493, 61.9428,62.0362,62.1764,62.2699,62.3634 ,62.4568,62.5969,62.6904,62.7838, 62.9705,63.1104,63.3437,63.4836,63.67, 63.8563,63.9029,64.0094)
FOOTPRINT_POINT_LONGITUDE = (312.287,312.043,311.826,311.609, 311.366,311.15,310.935,310.72,310.506, 310.104,309.864,309.465,309.438,309.395 ,309.442,309.477,309.522,309.578, 309.611,309.643,309.686,309.727,309.779 ,309.819,309.849,309.888,309.907, 309.936,309.973,310.001,310.019,310.055 ,310.073,310.091,310.117,310.152, 310.169,310.194,310.211,310.227,310.244 ,310.268,310.284,310.3,310.324,310.339, 310.355,310.362,310.363,310.7,311.067, 311.262,311.458,311.655,311.851,312.048 ,312.345,312.716,312.939,312.964,312.98 ,312.966,312.952,312.938,312.924, 312.914,312.904,312.895,312.88,312.865, 312.845,312.834,312.814,312.799,312.788 ,312.777,312.762,312.751,312.74,312.729 ,312.718,312.701,312.69,312.679,312.667 ,312.65,312.639,312.627,312.615,312.597 ,312.585,312.573,312.548,312.53,312.498 ,312.479,312.453,312.426,312.42, 312.287)
ORBIT_NUMBER = 9636
ORBITAL_ECCENTRICITY = 0.572
ORBITAL_INCLINATION = 86.89
ORBITAL_SEMIMAJOR_AXIS = 8776.46
PERIAPSIS_ALTITUDE = 379.28
PERIAPSIS_ARGUMENT_ANGLE = 114.6
PERIAPSIS_TIME = 2011-07-21T11:03:38.000Z
SPACECRAFT_ORIENTATION = (0.0,-1.0,0.0)
^MEX_ORIENTATION_DESC = "MEX_ORIENTATION_DESC.TXT"
SPACECRAFT_POINTING_MODE = ACROSSTRACK
^MEX_POINTING_DESC = "MEX_POINTING_DESC.TXT"
RIGHT_ASCENSION = -1e+32
DECLINATION = -1e+32
OFFSET_ANGLE = 0.2
SPACECRAFT_SOLAR_DISTANCE = 2.22562e+08
TARGET_NAME = MARS
/* CAMERA DATA ELEMENTS */
DETECTOR_TEMPERATURE = 17.1471
FOCAL_PLANE_TEMPERATURE = 7.7677
INST_CMPRS_NAME = "DISCRETE COSINE TRANSFORMATION (DCT)"
INST_CMPRS_RATIO = 24.3879
INST_CMPRS_QUALITY = 0
INST_CMPRS_QUANTZ_TBL_ID = 0
INSTRUMENT_TEMPERATURE = 10.4184
LENS_TEMPERATURE = 8.3794
MACROPIXEL_SIZE = 8
MISSING_FRAMES = 0
PIXEL_SUBSAMPLING_FLAG = N
SIGNAL_CHAIN_ID = 2
/* RADIOMETRIC DATA ELEMENTS */
BANDWIDTH = 81.0
CENTER_FILTER_WAVELENGTH = 955.5
RADIANCE_OFFSET = 0.888577
RADIANCE_SCALING_FACTOR = 0.00290385
REFLECTANCE_SCALING_FACTOR = 0.000310314
MEX:REFLECTANCE_OFFSET = 0.0949561
/* IMAGE OBJECT DEFINITIONS */
OBJECT = IMAGE
  INTERCHANGE_FORMAT = BINARY
  LINES = 2871
  LINE_SAMPLES = 1033
  SAMPLE_TYPE = UNSIGNED_INTEGER
  SAMPLE_BITS = 8
  BANDS = 1
  BAND_STORAGE_TYPE = BAND_SEQUENTIAL
  MAXIMUM = 254
  MEAN = 90.4555
  MINIMUM = 2
  STANDARD_DEVIATION = 54.6786
END_OBJECT = IMAGE
/* MAP OBJECT DEFINITIONS */
OBJECT = IMAGE_MAP_PROJECTION
  ^DATA_SET_MAP_PROJECTION_CATALOG= "DSMAP.CAT"
  A_AXIS_RADIUS = 3396.0
  B_AXIS_RADIUS = 3396.0
  C_AXIS_RADIUS = 3396.0
  CENTER_LATITUDE = 0.0
  CENTER_LONGITUDE = 311.0
  COORDINATE_SYSTEM_NAME = PLANETOGRAPHIC
  COORDINATE_SYSTEM_TYPE = "BODY-FIXED ROTATING"
  EASTERNMOST_LONGITUDE = 312.98
  FIRST_STANDARD_PARALLEL = "N/A"
  LINE_FIRST_PIXEL = 1
  LINE_LAST_PIXEL = 2871
  LINE_PROJECTION_OFFSET = 37906.0625
  MAP_PROJECTION_ROTATION = 0.0
  MAP_PROJECTION_TYPE = SINUSOIDAL
  MAP_RESOLUTION = 592.713803866667
  MAP_SCALE = 0.1
  MAXIMUM_LATITUDE = 64.0094
  MINIMUM_LATITUDE = 59.0955
  POSITIVE_LONGITUDE_DIRECTION = EAST
  REFERENCE_LATITUDE = "N/A"
  REFERENCE_LONGITUDE = "N/A"
  SAMPLE_FIRST_PIXEL = 1
  SAMPLE_LAST_PIXEL = 1033
  SAMPLE_PROJECTION_OFFSET = 430.9375
  SECOND_STANDARD_PARALLEL = "N/A"
  WESTERNMOST_LONGITUDE = 309.395
END_OBJECT = IMAGE_MAP_PROJECTION
END
