PDS_VERSION_ID = PDS3
/* FILE DATA ELEMENTS */
RECORD_TYPE = UNDEFINED
/* POINTERS TO DATA OBJECTS */
^IMAGE = ("H9632_0000_ND4.TIF")
/* IDENTIFICATION DATA ELEMENTS */
DATA_SET_ID = "MEX-M-HRSC-4-REFDR-MAPPROJECT-EXT3-V4.0"
DATA_SET_NAME = "MARS EXPRESS HRSC MAP PROJECTED REFDR EXTENSION3 V4.0"
DETECTOR_ID = MEX_HRSC_NADIR
EVENT_TYPE = "MARS-REGIONAL-MAPPING-Im-Fl"
INSTRUMENT_HOST_ID = MEX
INSTRUMENT_HOST_NAME = "MARS EXPRESS"
INSTRUMENT_ID = HRSC
INSTRUMENT_NAME = "HIGH RESOLUTION STEREO CAMERA"
MISSION_NAME = "MARS EXPRESS"
MISSION_PHASE_NAME = ME_Phase_23
PROCESSING_LEVEL_ID = 4
PRODUCT_CREATION_TIME = 2023-02-04T12:09:02.000Z
PRODUCT_ID = "H9632_0000_ND4.TIF"
RELEASE_ID = 0007
REVISION_ID = 0000
/* QUALITY DATA ELEMENTS */
DATA_QUALITY_ID = 1
DATA_QUALITY_DESC = "Data calculated based on original SPICE kernels"
/* TIME DATA ELEMENTS */
SPACECRAFT_CLOCK_START_COUNT = "1/0259225980.08268"
SPACECRAFT_CLOCK_STOP_COUNT = "1/0259226253.35272"
START_TIME = 2011-07-20T07:14:00.582Z
STOP_TIME = 2011-07-20T07:16:02.583Z
/* ORBITAL DATA ELEMENTS */
ASCENDING_NODE_LONGITUDE = 33.35
MAXIMUM_RESOLUTION = 0.0246
FOOTPRINT_POINT_LATITUDE = (31.2322,31.2337,31.2346,31.2351, 31.2355,31.2355,31.2353,31.2346,31.2337 ,31.232,31.2299,31.2269,31.2266,31.2268 ,31.0335,30.7065,30.4454,30.1148, 29.8505,29.516,29.2486,29.1131,28.9776, 28.8423,28.707,28.5018,28.3647,28.2279, 28.0912,27.9547,27.8183,27.6821,27.546, 27.4101,27.2744,27.1388,27.0034,26.868, 26.7329,26.4631,26.194,25.9255,25.6576, 25.3903,25.1238,24.8578,24.5925,24.5263 ,24.5039,24.504,24.5036,24.5025,24.5015 ,24.5005,24.4991,24.4974,24.4946, 24.4916,24.4871,24.4823,24.4819,24.482, 24.7484,25.0153,25.283,25.5512,25.8201, 26.0896,26.2246,26.3597,26.495,26.6305, 26.7661,26.9018,27.0377,27.1738,27.31, 27.4464,27.5829,27.7196,27.8565,27.9935 ,28.1307,28.268,28.4054,28.5431,28.6807 ,28.8164,28.9523,29.0883,29.2917, 29.5602,29.8292,30.0944,30.3602,30.5575 ,30.8198,31.1464,31.2111,31.2322)
FOOTPRINT_POINT_LONGITUDE = (3.11173,2.86713,2.67171,2.50084, 2.30539,2.13434,1.93901,1.67054,1.47545 ,1.20687,0.962365,0.668734,0.644264, 0.614016,0.611642,0.606389,0.602223, 0.596792,0.592361,0.586327,0.581393, 0.578574,0.57564,0.57278,0.569887, 0.565808,0.562886,0.559462,0.555695, 0.552443,0.549363,0.545839,0.542512, 0.539356,0.535819,0.53178,0.528212, 0.525869,0.522537,0.514788,0.506862, 0.499066,0.491131,0.482727,0.473783, 0.464639,0.457023,0.454603,0.453835, 0.701334,1.00438,1.30669,1.49906, 1.66377,1.85606,2.04834,2.32329,2.57101 ,2.90112,3.20405,3.23162,3.24513, 3.24107,3.23734,3.23352,3.22954,3.22537 ,3.2214,3.21929,3.21731,3.21503,3.21269 ,3.21016,3.20792,3.20557,3.2032,3.20078 ,3.19858,3.19633,3.19394,3.19151, 3.18932,3.18776,3.18569,3.18339,3.18113 ,3.17866,3.17608,3.17402,3.17149, 3.16743,3.16237,3.15766,3.15256,3.14745 ,3.14351,3.13837,3.13137,3.13011, 3.11173)
ORBIT_NUMBER = 9632
ORBITAL_ECCENTRICITY = 0.572
ORBITAL_INCLINATION = 86.88
ORBITAL_SEMIMAJOR_AXIS = 8778.75
PERIAPSIS_ALTITUDE = 379.09
PERIAPSIS_ARGUMENT_ANGLE = 115.25
PERIAPSIS_TIME = 2011-07-20T07:04:58.000Z
SPACECRAFT_ORIENTATION = (0.0,-1.0,0.0)
^MEX_ORIENTATION_DESC = "MEX_ORIENTATION_DESC.TXT"
SPACECRAFT_POINTING_MODE = NADIR
^MEX_POINTING_DESC = "MEX_POINTING_DESC.TXT"
RIGHT_ASCENSION = -1e+32
DECLINATION = -1e+32
OFFSET_ANGLE = -1e+32
SPACECRAFT_SOLAR_DISTANCE = 2.22337e+08
TARGET_NAME = MARS
/* CAMERA DATA ELEMENTS */
DETECTOR_TEMPERATURE = 18.3705
FOCAL_PLANE_TEMPERATURE = 8.1755
INST_CMPRS_NAME = "DISCRETE COSINE TRANSFORMATION (DCT)"
INST_CMPRS_RATIO = 7.80154
INST_CMPRS_QUALITY = 0
INST_CMPRS_QUANTZ_TBL_ID = 0
INSTRUMENT_TEMPERATURE = 11.234
LENS_TEMPERATURE = 8.5833
MACROPIXEL_SIZE = 1
MISSING_FRAMES = 0
PIXEL_SUBSAMPLING_FLAG = N
SIGNAL_CHAIN_ID = 0
/* RADIOMETRIC DATA ELEMENTS */
BANDWIDTH = 177.0
CENTER_FILTER_WAVELENGTH = 677.5
RADIANCE_OFFSET = 6.05789
RADIANCE_SCALING_FACTOR = 0.0212111
REFLECTANCE_SCALING_FACTOR = 0.000557026
MEX:REFLECTANCE_OFFSET = 0.159087
/* IMAGE OBJECT DEFINITIONS */
OBJECT = IMAGE
  INTERCHANGE_FORMAT = BINARY
  LINES = 16015
  LINE_SAMPLES = 6023
  SAMPLE_TYPE = UNSIGNED_INTEGER
  SAMPLE_BITS = 8
  BANDS = 1
  BAND_STORAGE_TYPE = BAND_SEQUENTIAL
  MAXIMUM = 255
  MEAN = 99.6586
  MINIMUM = 1
  STANDARD_DEVIATION = 33.0507
END_OBJECT = IMAGE
/* MAP OBJECT DEFINITIONS */
OBJECT = IMAGE_MAP_PROJECTION
  ^DATA_SET_MAP_PROJECTION_CATALOG= "DSMAP.CAT"
  A_AXIS_RADIUS = 3396.0
  B_AXIS_RADIUS = 3396.0
  C_AXIS_RADIUS = 3396.0
  CENTER_LATITUDE = 0.0
  CENTER_LONGITUDE = 2.0
  COORDINATE_SYSTEM_NAME = PLANETOGRAPHIC
  COORDINATE_SYSTEM_TYPE = "BODY-FIXED ROTATING"
  EASTERNMOST_LONGITUDE = 3.24513
  FIRST_STANDARD_PARALLEL = "N/A"
  LINE_FIRST_PIXEL = 1
  LINE_LAST_PIXEL = 16015
  LINE_PROJECTION_OFFSET = 74057.0
  MAP_PROJECTION_ROTATION = 0.0
  MAP_PROJECTION_TYPE = SINUSOIDAL
  MAP_RESOLUTION = 2370.85521546667
  MAP_SCALE = 0.025
  MAXIMUM_LATITUDE = 31.2355
  MINIMUM_LATITUDE = 24.4819
  POSITIVE_LONGITUDE_DIRECTION = EAST
  REFERENCE_LATITUDE = "N/A"
  REFERENCE_LONGITUDE = "N/A"
  SAMPLE_FIRST_PIXEL = 1
  SAMPLE_LAST_PIXEL = 6023
  SAMPLE_PROJECTION_OFFSET = 3335.0
  SECOND_STANDARD_PARALLEL = "N/A"
  WESTERNMOST_LONGITUDE = 0.453835
END_OBJECT = IMAGE_MAP_PROJECTION
END
