PDS_VERSION_ID = PDS3
/* FILE DATA ELEMENTS */
RECORD_TYPE = UNDEFINED
/* POINTERS TO DATA OBJECTS */
^IMAGE = ("H9625_0000_ND4.TIF")
/* IDENTIFICATION DATA ELEMENTS */
DATA_SET_ID = "MEX-M-HRSC-4-REFDR-MAPPROJECT-EXT3-V4.0"
DATA_SET_NAME = "MARS EXPRESS HRSC MAP PROJECTED REFDR EXTENSION3 V4.0"
DETECTOR_ID = MEX_HRSC_NADIR
EVENT_TYPE = "MARS-REGIONAL-MAPPING-Fl-Pf"
INSTRUMENT_HOST_ID = MEX
INSTRUMENT_HOST_NAME = "MARS EXPRESS"
INSTRUMENT_ID = HRSC
INSTRUMENT_NAME = "HIGH RESOLUTION STEREO CAMERA"
MISSION_NAME = "MARS EXPRESS"
MISSION_PHASE_NAME = ME_Phase_23
PROCESSING_LEVEL_ID = 4
PRODUCT_CREATION_TIME = 2023-02-04T12:09:02.000Z
PRODUCT_ID = "H9625_0000_ND4.TIF"
RELEASE_ID = 0007
REVISION_ID = 0000
/* QUALITY DATA ELEMENTS */
DATA_QUALITY_ID = 1
DATA_QUALITY_DESC = "Data calculated based on original SPICE kernels"
/* TIME DATA ELEMENTS */
SPACECRAFT_CLOCK_START_COUNT = "1/0259049234.09066"
SPACECRAFT_CLOCK_STOP_COUNT = "1/0259049437.26073"
START_TIME = 2011-07-18T06:07:51.556Z
STOP_TIME = 2011-07-18T06:10:00.566Z
/* ORBITAL DATA ELEMENTS */
ASCENDING_NODE_LONGITUDE = 33.48
MAXIMUM_RESOLUTION = 0.0153
FOOTPRINT_POINT_LATITUDE = (61.8034,61.7738,61.7466,61.7271, 61.6969,61.6956,61.6932,61.4467,61.2824 ,61.1181,60.9537,60.7894,60.6251, 60.4607,60.2964,60.1321,59.9678,59.8034 ,59.6391,59.4748,59.3105,59.1463,58.982 ,58.8177,58.6535,58.4893,58.325,58.1608 ,57.9967,57.8325,57.6684,57.5043, 57.3402,57.1761,57.0121,56.8481,56.5202 ,56.1924,55.8647,55.5372,55.2098, 54.8826,54.5556,54.2287,53.902,53.5756, 53.494,53.4725,53.4919,53.5054,53.522, 53.5321,53.5472,53.5477,53.5483,53.8759 ,54.2037,54.5318,54.8601,55.1885, 55.5172,55.6816,55.846,56.0105,56.175, 56.3395,56.5041,56.6688,56.8335,56.9982 ,57.1629,57.3277,57.4925,57.6574, 57.8223,57.9872,58.1521,58.3171,58.4821 ,58.6472,58.8122,58.9773,59.1424, 59.3075,59.4726,59.6378,59.803,59.9682, 60.1334,60.2987,60.4639,60.6292,60.7944 ,60.9597,61.125,61.2903,61.4556,61.7036 ,61.7863,61.8034)
FOOTPRINT_POINT_LONGITUDE = (357.314,356.444,355.759,355.312, 354.682,354.656,354.566,354.621,354.657 ,354.692,354.727,354.761,354.795, 354.828,354.861,354.894,354.926,354.957 ,354.988,355.019,355.049,355.078, 355.107,355.136,355.164,355.192,355.22, 355.247,355.273,355.3,355.326,355.351, 355.376,355.401,355.426,355.45,355.496, 355.542,355.586,355.629,355.671,355.711 ,355.751,355.789,355.825,355.861,355.87 ,355.873,356.36,356.731,357.242,357.591 ,358.195,358.218,358.23,358.205,358.18, 358.154,358.128,358.101,358.073,358.059 ,358.045,358.031,358.016,358.001, 357.986,357.971,357.956,357.94,357.924, 357.909,357.893,357.876,357.86,357.843, 357.826,357.809,357.792,357.774,357.757 ,357.739,357.72,357.702,357.683,357.664 ,357.645,357.626,357.606,357.586, 357.566,357.546,357.525,357.504,357.482 ,357.461,357.439,357.406,357.394, 357.314)
ORBIT_NUMBER = 9625
ORBITAL_ECCENTRICITY = 0.572
ORBITAL_INCLINATION = 86.88
ORBITAL_SEMIMAJOR_AXIS = 8779.92
PERIAPSIS_ALTITUDE = 378.37
PERIAPSIS_ARGUMENT_ANGLE = 116.46
PERIAPSIS_TIME = 2011-07-18T06:07:26.000Z
SPACECRAFT_ORIENTATION = (0.0,-1.0,0.0)
^MEX_ORIENTATION_DESC = "MEX_ORIENTATION_DESC.TXT"
SPACECRAFT_POINTING_MODE = NADIR
^MEX_POINTING_DESC = "MEX_POINTING_DESC.TXT"
RIGHT_ASCENSION = -1e+32
DECLINATION = -1e+32
OFFSET_ANGLE = -1e+32
SPACECRAFT_SOLAR_DISTANCE = 2.21944e+08
TARGET_NAME = MARS
/* CAMERA DATA ELEMENTS */
DETECTOR_TEMPERATURE = 17.9627
FOCAL_PLANE_TEMPERATURE = 7.7677
INST_CMPRS_NAME = "DISCRETE COSINE TRANSFORMATION (DCT)"
INST_CMPRS_RATIO = 7.83272
INST_CMPRS_QUALITY = 0
INST_CMPRS_QUANTZ_TBL_ID = 0
INSTRUMENT_TEMPERATURE = 10.8262
LENS_TEMPERATURE = 8.1755
MACROPIXEL_SIZE = 1
MISSING_FRAMES = 0
PIXEL_SUBSAMPLING_FLAG = N
SIGNAL_CHAIN_ID = 0
/* RADIOMETRIC DATA ELEMENTS */
BANDWIDTH = 177.0
CENTER_FILTER_WAVELENGTH = 677.5
RADIANCE_OFFSET = 3.60551
RADIANCE_SCALING_FACTOR = 0.00873775
REFLECTANCE_SCALING_FACTOR = 0.000228651
MEX:REFLECTANCE_OFFSET = 0.0943498
/* IMAGE OBJECT DEFINITIONS */
OBJECT = IMAGE
  INTERCHANGE_FORMAT = BINARY
  LINES = 39525
  LINE_SAMPLES = 8939
  SAMPLE_TYPE = UNSIGNED_INTEGER
  SAMPLE_BITS = 8
  BANDS = 1
  BAND_STORAGE_TYPE = BAND_SEQUENTIAL
  MAXIMUM = 255
  MEAN = 132.65
  MINIMUM = 1
  STANDARD_DEVIATION = 49.5095
END_OBJECT = IMAGE
/* MAP OBJECT DEFINITIONS */
OBJECT = IMAGE_MAP_PROJECTION
  ^DATA_SET_MAP_PROJECTION_CATALOG= "DSMAP.CAT"
  A_AXIS_RADIUS = 3396.0
  B_AXIS_RADIUS = 3396.0
  C_AXIS_RADIUS = 3396.0
  CENTER_LATITUDE = 0.0
  CENTER_LONGITUDE = 357.0
  COORDINATE_SYSTEM_NAME = PLANETOGRAPHIC
  COORDINATE_SYSTEM_TYPE = "BODY-FIXED ROTATING"
  EASTERNMOST_LONGITUDE = 358.23
  FIRST_STANDARD_PARALLEL = "N/A"
  LINE_FIRST_PIXEL = 1
  LINE_LAST_PIXEL = 39525
  LINE_PROJECTION_OFFSET = 293076.0
  MAP_PROJECTION_ROTATION = 0.0
  MAP_PROJECTION_TYPE = SINUSOIDAL
  MAP_RESOLUTION = 4741.71043093333
  MAP_SCALE = 0.0125
  MAXIMUM_LATITUDE = 61.8034
  MINIMUM_LATITUDE = 53.4725
  POSITIVE_LONGITUDE_DIRECTION = EAST
  REFERENCE_LATITUDE = "N/A"
  REFERENCE_LONGITUDE = "N/A"
  SAMPLE_FIRST_PIXEL = 1
  SAMPLE_LAST_PIXEL = 8939
  SAMPLE_PROJECTION_OFFSET = 5473.0
  SECOND_STANDARD_PARALLEL = "N/A"
  WESTERNMOST_LONGITUDE = 354.566
END_OBJECT = IMAGE_MAP_PROJECTION
END
