PDS_VERSION_ID = PDS3
/* FILE DATA ELEMENTS */
RECORD_TYPE = UNDEFINED
/* POINTERS TO DATA OBJECTS */
^IMAGE = ("H9622_0000_S14.TIF")
/* IDENTIFICATION DATA ELEMENTS */
DATA_SET_ID = "MEX-M-HRSC-4-REFDR-MAPPROJECT-EXT3-V4.0"
DATA_SET_NAME = "MARS EXPRESS HRSC MAP PROJECTED REFDR EXTENSION3 V4.0"
DETECTOR_ID = MEX_HRSC_S1
EVENT_TYPE = "MARS-REGIONAL-MAPPING-Te-Im-Fl"
INSTRUMENT_HOST_ID = MEX
INSTRUMENT_HOST_NAME = "MARS EXPRESS"
INSTRUMENT_ID = HRSC
INSTRUMENT_NAME = "HIGH RESOLUTION STEREO CAMERA"
MISSION_NAME = "MARS EXPRESS"
MISSION_PHASE_NAME = ME_Phase_23
PROCESSING_LEVEL_ID = 4
PRODUCT_CREATION_TIME = 2023-02-04T12:09:02.000Z
PRODUCT_ID = "H9622_0000_S14.TIF"
RELEASE_ID = 0007
REVISION_ID = 0000
/* QUALITY DATA ELEMENTS */
DATA_QUALITY_ID = 1
DATA_QUALITY_DESC = "Data calculated based on original SPICE kernels"
/* TIME DATA ELEMENTS */
SPACECRAFT_CLOCK_START_COUNT = "1/0258973942.09046"
SPACECRAFT_CLOCK_STOP_COUNT = "1/0258974272.01162"
START_TIME = 2011-07-17T09:12:25.210Z
STOP_TIME = 2011-07-17T09:15:55.107Z
/* ORBITAL DATA ELEMENTS */
ASCENDING_NODE_LONGITUDE = 33.54
MAXIMUM_RESOLUTION = 0.0358
FOOTPRINT_POINT_LATITUDE = (45.7388,45.7148,45.6859,45.645,45.6438 ,45.5636,45.0826,44.5934,44.2285, 43.6162,43.2412,42.9912,42.6165,42.3661 ,41.9825,41.5978,41.2137,40.9575, 40.6961,40.3031,40.0413,39.7797,39.5149 ,39.2475,38.9801,38.7127,38.4448,38.172 ,37.8992,37.6278,37.3554,37.0778, 36.7994,36.382,36.0976,35.6714,35.3877, 35.0992,34.8092,34.5208,34.2296,33.7879 ,33.4928,33.1935,32.893,32.5956,32.2922 ,32.1396,32.1221,32.147,32.1575,32.1629 ,32.1683,32.1723,32.1711,32.1719, 32.4808,32.7855,33.0831,33.3845,33.6858 ,33.9807,34.4239,34.7142,35.1481, 35.4369,35.8633,36.1478,36.4327,36.7119 ,37.1301,37.5488,37.8225,38.0957, 38.3708,38.6427,38.9107,39.1797,39.4466 ,39.8467,40.1093,40.5033,40.7659, 41.0285,41.4136,41.6718,41.9282,42.1854 ,42.4401,42.6906,42.9413,43.1915, 43.4409,43.6917,43.9395,44.4279,44.9179 ,45.5274,45.6469,45.7388)
FOOTPRINT_POINT_LONGITUDE = (304.871,304.239,303.603,302.84,302.82, 302.767,302.797,302.825,302.846,302.879 ,302.898,302.91,302.928,302.939,302.954 ,302.97,302.985,302.994,303.003,303.017 ,303.025,303.033,303.042,303.049, 303.057,303.064,303.071,303.078,303.084 ,303.091,303.097,303.103,303.108, 303.116,303.12,303.126,303.13,303.133, 303.136,303.139,303.142,303.145,303.147 ,303.148,303.15,303.152,303.153,303.153 ,303.153,303.932,304.341,304.684, 305.027,305.349,305.37,305.378,305.37, 305.363,305.356,305.349,305.34,305.333, 305.321,305.314,305.302,305.294,305.282 ,305.274,305.265,305.257,305.244,305.23 ,305.221,305.212,305.202,305.193, 305.184,305.174,305.165,305.15,305.14, 305.125,305.115,305.104,305.088,305.077 ,305.067,305.056,305.045,305.034, 305.023,305.011,305.0,304.988,304.977, 304.953,304.928,304.897,304.89,304.871)
ORBIT_NUMBER = 9622
ORBITAL_ECCENTRICITY = 0.572
ORBITAL_INCLINATION = 86.88
ORBITAL_SEMIMAJOR_AXIS = 8779.93
PERIAPSIS_ALTITUDE = 377.98
PERIAPSIS_ARGUMENT_ANGLE = 117.02
PERIAPSIS_TIME = 2011-07-17T09:08:33.000Z
SPACECRAFT_ORIENTATION = (0.0,-1.0,0.0)
^MEX_ORIENTATION_DESC = "MEX_ORIENTATION_DESC.TXT"
SPACECRAFT_POINTING_MODE = ACROSSTRACK
^MEX_POINTING_DESC = "MEX_POINTING_DESC.TXT"
RIGHT_ASCENSION = -1e+32
DECLINATION = -1e+32
OFFSET_ANGLE = -0.4
SPACECRAFT_SOLAR_DISTANCE = 2.21777e+08
TARGET_NAME = MARS
/* CAMERA DATA ELEMENTS */
DETECTOR_TEMPERATURE = 17.1471
FOCAL_PLANE_TEMPERATURE = 7.7677
INST_CMPRS_NAME = "DISCRETE COSINE TRANSFORMATION (DCT)"
INST_CMPRS_RATIO = 8.21445
INST_CMPRS_QUALITY = 0
INST_CMPRS_QUANTZ_TBL_ID = 0
INSTRUMENT_TEMPERATURE = 11.0301
LENS_TEMPERATURE = 8.1755
MACROPIXEL_SIZE = 2
MISSING_FRAMES = 0
PIXEL_SUBSAMPLING_FLAG = N
SIGNAL_CHAIN_ID = 1
/* RADIOMETRIC DATA ELEMENTS */
BANDWIDTH = 180.0
CENTER_FILTER_WAVELENGTH = 677.0
RADIANCE_OFFSET = 3.95247
RADIANCE_SCALING_FACTOR = 0.0223486
REFLECTANCE_SCALING_FACTOR = 0.000573493
MEX:REFLECTANCE_OFFSET = 0.101425
/* IMAGE OBJECT DEFINITIONS */
OBJECT = IMAGE
  INTERCHANGE_FORMAT = BINARY
  LINES = 32031
  LINE_SAMPLES = 5028
  SAMPLE_TYPE = UNSIGNED_INTEGER
  SAMPLE_BITS = 8
  BANDS = 1
  BAND_STORAGE_TYPE = BAND_SEQUENTIAL
  MAXIMUM = 255
  MEAN = 113.105
  MINIMUM = 1
  STANDARD_DEVIATION = 40.5292
END_OBJECT = IMAGE
/* MAP OBJECT DEFINITIONS */
OBJECT = IMAGE_MAP_PROJECTION
  ^DATA_SET_MAP_PROJECTION_CATALOG= "DSMAP.CAT"
  A_AXIS_RADIUS = 3396.0
  B_AXIS_RADIUS = 3396.0
  C_AXIS_RADIUS = 3396.0
  CENTER_LATITUDE = 0.0
  CENTER_LONGITUDE = 304.0
  COORDINATE_SYSTEM_NAME = PLANETOGRAPHIC
  COORDINATE_SYSTEM_TYPE = "BODY-FIXED ROTATING"
  EASTERNMOST_LONGITUDE = 305.378
  FIRST_STANDARD_PARALLEL = "N/A"
  LINE_FIRST_PIXEL = 1
  LINE_LAST_PIXEL = 32031
  LINE_PROJECTION_OFFSET = 108243.25
  MAP_PROJECTION_ROTATION = 0.0
  MAP_PROJECTION_TYPE = SINUSOIDAL
  MAP_RESOLUTION = 2370.85521546667
  MAP_SCALE = 0.025
  MAXIMUM_LATITUDE = 45.7388
  MINIMUM_LATITUDE = 32.1221
  POSITIVE_LONGITUDE_DIRECTION = EAST
  REFERENCE_LATITUDE = "N/A"
  REFERENCE_LONGITUDE = "N/A"
  SAMPLE_FIRST_PIXEL = 1
  SAMPLE_LAST_PIXEL = 5028
  SAMPLE_PROJECTION_OFFSET = 2118.25
  SECOND_STANDARD_PARALLEL = "N/A"
  WESTERNMOST_LONGITUDE = 302.767
END_OBJECT = IMAGE_MAP_PROJECTION
END
