PDS_VERSION_ID = PDS3
/* FILE DATA ELEMENTS */
RECORD_TYPE = UNDEFINED
/* POINTERS TO DATA OBJECTS */
^IMAGE = ("H9619_0000_S14.TIF")
/* IDENTIFICATION DATA ELEMENTS */
DATA_SET_ID = "MEX-M-HRSC-4-REFDR-MAPPROJECT-EXT3-V4.0"
DATA_SET_NAME = "MARS EXPRESS HRSC MAP PROJECTED REFDR EXTENSION3 V4.0"
DETECTOR_ID = MEX_HRSC_S1
EVENT_TYPE = "MARS-REGIONAL-MAPPING-Te-Im-Pf"
INSTRUMENT_HOST_ID = MEX
INSTRUMENT_HOST_NAME = "MARS EXPRESS"
INSTRUMENT_ID = HRSC
INSTRUMENT_NAME = "HIGH RESOLUTION STEREO CAMERA"
MISSION_NAME = "MARS EXPRESS"
MISSION_PHASE_NAME = ME_Phase_23
PROCESSING_LEVEL_ID = 4
PRODUCT_CREATION_TIME = 2023-02-04T12:09:02.000Z
PRODUCT_ID = "H9619_0000_S14.TIF"
RELEASE_ID = 0007
REVISION_ID = 0000
/* QUALITY DATA ELEMENTS */
DATA_QUALITY_ID = 1
DATA_QUALITY_DESC = "Data calculated based on original SPICE kernels"
/* TIME DATA ELEMENTS */
SPACECRAFT_CLOCK_START_COUNT = "1/0258898129.07286"
SPACECRAFT_CLOCK_STOP_COUNT = "1/0258898390.47988"
START_TIME = 2011-07-16T12:08:52.169Z
STOP_TIME = 2011-07-16T12:11:56.683Z
/* ORBITAL DATA ELEMENTS */
ASCENDING_NODE_LONGITUDE = 33.59
MAXIMUM_RESOLUTION = 0.0321
FOOTPRINT_POINT_LATITUDE = (62.9366,62.8756,62.8072,62.7157, 62.7132,62.5863,62.3551,62.1234,61.8917 ,61.5437,61.3116,60.9628,60.7302, 60.3809,60.0313,59.7982,59.5648,59.2142 ,58.8633,58.6293,58.3952,58.0434, 57.6911,57.4561,57.1032,56.8677,56.6321 ,56.2787,56.0429,55.6893,55.3349, 55.0988,54.8625,54.6259,54.3891,54.1521 ,53.9154,53.6785,53.4419,53.0861, 52.7309,52.4939,52.2564,51.9006,51.6635 ,51.4255,51.1882,50.9508,50.8318, 50.7943,50.8412,50.868,50.8931,50.917, 50.9557,50.957,50.958,51.1966,51.5544, 51.7929,52.0315,52.3891,52.6275,52.985, 53.223,53.4612,53.8183,54.0564,54.2943, 54.6511,54.8889,55.2454,55.4826,55.7201 ,55.9574,56.3134,56.6693,56.9063, 57.2617,57.4983,57.853,58.0894,58.3256, 58.5615,58.7976,59.0333,59.269,59.6226, 59.8583,60.2108,60.4457,60.7978,61.0323 ,61.2668,61.6184,61.9696,62.3204, 62.6708,62.7874,62.9366)
FOOTPRINT_POINT_LONGITUDE = (249.084,248.229,247.362,246.314, 246.286,246.142,246.215,246.287,246.357 ,246.46,246.527,246.625,246.689,246.783 ,246.874,246.934,246.992,247.077,247.16 ,247.214,247.267,247.345,247.42,247.469 ,247.541,247.587,247.633,247.7,247.744, 247.809,247.871,247.911,247.951,247.99, 248.028,248.066,248.103,248.139,248.174 ,248.226,248.277,248.31,248.343,248.39, 248.421,248.451,248.481,248.51,248.524, 248.529,249.096,249.442,249.784,250.125 ,250.713,250.734,250.741,250.719, 250.686,250.664,250.641,250.606,250.582 ,250.545,250.521,250.495,250.457, 250.431,250.404,250.364,250.336,250.294 ,250.265,250.236,250.207,250.161, 250.115,250.083,250.035,250.002,249.952 ,249.918,249.883,249.847,249.811, 249.775,249.738,249.681,249.642,249.582 ,249.542,249.48,249.438,249.395,249.329 ,249.261,249.191,249.12,249.096, 249.084)
ORBIT_NUMBER = 9619
ORBITAL_ECCENTRICITY = 0.572
ORBITAL_INCLINATION = 86.88
ORBITAL_SEMIMAJOR_AXIS = 8782.15
PERIAPSIS_ALTITUDE = 376.99
PERIAPSIS_ARGUMENT_ANGLE = 117.49
PERIAPSIS_TIME = 2011-07-16T12:09:34.000Z
SPACECRAFT_ORIENTATION = (0.0,-1.0,0.0)
^MEX_ORIENTATION_DESC = "MEX_ORIENTATION_DESC.TXT"
SPACECRAFT_POINTING_MODE = ACROSSTRACK
^MEX_POINTING_DESC = "MEX_POINTING_DESC.TXT"
RIGHT_ASCENSION = -1e+32
DECLINATION = -1e+32
OFFSET_ANGLE = -0.808
SPACECRAFT_SOLAR_DISTANCE = 2.21609e+08
TARGET_NAME = MARS
/* CAMERA DATA ELEMENTS */
DETECTOR_TEMPERATURE = 17.1471
FOCAL_PLANE_TEMPERATURE = 8.1755
INST_CMPRS_NAME = "DISCRETE COSINE TRANSFORMATION (DCT)"
INST_CMPRS_RATIO = 9.14117
INST_CMPRS_QUALITY = 0
INST_CMPRS_QUANTZ_TBL_ID = 0
INSTRUMENT_TEMPERATURE = 11.0301
LENS_TEMPERATURE = 8.5833
MACROPIXEL_SIZE = 2
MISSING_FRAMES = 0
PIXEL_SUBSAMPLING_FLAG = N
SIGNAL_CHAIN_ID = 1
/* RADIOMETRIC DATA ELEMENTS */
BANDWIDTH = 180.0
CENTER_FILTER_WAVELENGTH = 677.0
RADIANCE_OFFSET = 3.15863
RADIANCE_SCALING_FACTOR = 0.0157932
REFLECTANCE_SCALING_FACTOR = 0.000404656
MEX:REFLECTANCE_OFFSET = 0.0809312
/* IMAGE OBJECT DEFINITIONS */
OBJECT = IMAGE
  INTERCHANGE_FORMAT = BINARY
  LINES = 28373
  LINE_SAMPLES = 5763
  SAMPLE_TYPE = UNSIGNED_INTEGER
  SAMPLE_BITS = 8
  BANDS = 1
  BAND_STORAGE_TYPE = BAND_SEQUENTIAL
  MAXIMUM = 255
  MEAN = 117.589
  MINIMUM = 1
  STANDARD_DEVIATION = 26.7469
END_OBJECT = IMAGE
/* MAP OBJECT DEFINITIONS */
OBJECT = IMAGE_MAP_PROJECTION
  ^DATA_SET_MAP_PROJECTION_CATALOG= "DSMAP.CAT"
  A_AXIS_RADIUS = 3396.0
  B_AXIS_RADIUS = 3396.0
  C_AXIS_RADIUS = 3396.0
  CENTER_LATITUDE = 0.0
  CENTER_LONGITUDE = 249.0
  COORDINATE_SYSTEM_NAME = PLANETOGRAPHIC
  COORDINATE_SYSTEM_TYPE = "BODY-FIXED ROTATING"
  EASTERNMOST_LONGITUDE = 250.741
  FIRST_STANDARD_PARALLEL = "N/A"
  LINE_FIRST_PIXEL = 1
  LINE_LAST_PIXEL = 28373
  LINE_PROJECTION_OFFSET = 148899.75
  MAP_PROJECTION_ROTATION = 0.0
  MAP_PROJECTION_TYPE = SINUSOIDAL
  MAP_RESOLUTION = 2370.85521546667
  MAP_SCALE = 0.025
  MAXIMUM_LATITUDE = 62.9366
  MINIMUM_LATITUDE = 50.7943
  POSITIVE_LONGITUDE_DIRECTION = EAST
  REFERENCE_LATITUDE = "N/A"
  REFERENCE_LONGITUDE = "N/A"
  SAMPLE_FIRST_PIXEL = 1
  SAMPLE_LAST_PIXEL = 5763
  SAMPLE_PROJECTION_OFFSET = 3119.75
  SECOND_STANDARD_PARALLEL = "N/A"
  WESTERNMOST_LONGITUDE = 246.142
END_OBJECT = IMAGE_MAP_PROJECTION
END
